{"text_format":"1","workbook":"xlsx","n_sheets":8,"sheets":["INFO","PROMESA","POUSSIN","BENJAMIN","MINIME","CADET","GIRLS","TISKOVÁ SESTAVA"],"not_rendered":{"charts":0,"images":0,"macros":1,"external_links":0,"defined_names":7,"comments":0,"pivot_tables":0},"unopened":[],"bounds":{"document_bytes":16777216,"sheet_cells":100000,"rows_first":2000,"rows_last":500,"rows_between":2000,"halvings":0,"cell_chars":16384,"cell_head_chars":4096},"cells_cut":0,"cells_raw":0,"read":"whole","date_system":"1900"}

{"sheet":"INFO","index":0,"n_rows":9,"n_cols":2,"rows_kept":9,"cut":false,"hidden":false,"merged":[[1,1,1,9]]}
[]
[null,"Jednoduchá výsledková listina Youth Games"]
[]
[null,"připravena pro soutěž na 3 kola / 6 sekcí"]
[null,"pro menší počet kol / sekcí je možné skrýt neobsazené sloupce v tiskové sestavě"]
[]
[null,"POZOR: pokud mají jezdci shodné body, je nutné provést manuální korekce podle pravidel,"]
[null,"tj. rozhoduje větší počet nul, jedniček atd. Korekce lze provést například pomocí dočasně"]
[null,"připsaných desetin penalizačních bodů (+0,1; +0,2…), po setřídění je opět smažte."]

{"sheet":"PROMESA","index":1,"n_rows":29,"n_cols":31,"rows_kept":29,"cut":false,"hidden":false,"merged":[[1,6,1,11],[1,13,1,18],[1,20,1,25]]}
["KATEGORIE PROMESA"]
[null,null,null,null,null,"čas start","1.kolo",null,null,null,null,null,null,"2.kolo",null,null,null,null,null,null,"3.kolo"]
["pořadí","číslo","jméno","narození","klub",null,1,2,3,4,5,6,"∑1",1,2,3,4,5,6,"∑2",1,2,3,4,5,6,"∑3","penalizace","∑∑","čas cíl","čas"]
[1,null,null,null,null,null,null,null,null,null,null,null,{"$f":"SUM(G4:L4)","v":0},null,null,null,null,null,null,{"$f":"SUM(N4:S4)","v":0},null,null,null,null,null,null,{"$f":"SUM(U4:Z4)","v":0},null,{"$f":"M4+T4+AA4+AB4","v":0},null,{"$f":"AD4-F4","v":"00:00:00"}]
[2,null,null,null,null,null,null,null,null,null,null,null,{"$f":"SUM(G5:L5)","v":0},null,null,null,null,null,null,{"$f":"SUM(N5:S5)","v":0},null,null,null,null,null,null,{"$f":"SUM(U5:Z5)","v":0},null,{"$f":"M5+T5+AA5+AB5","v":0},null,{"$f":"AD5-F5","v":"00:00:00"}]
[3,null,null,null,null,null,null,null,null,null,null,null,{"$f":"SUM(G6:L6)","v":0},null,null,null,null,null,null,{"$f":"SUM(N6:S6)","v":0},null,null,null,null,null,null,{"$f":"SUM(U6:Z6)","v":0},null,{"$f":"M6+T6+AA6+AB6","v":0},null,{"$f":"AD6-F6","v":"00:00:00"}]
[4,null,null,null,null,null,null,null,null,null,null,null,{"$f":"SUM(G7:L7)","v":0},null,null,null,null,null,null,{"$f":"SUM(N7:S7)","v":0},null,null,null,null,null,null,{"$f":"SUM(U7:Z7)","v":0},null,{"$f":"M7+T7+AA7+AB7","v":0},null,{"$f":"AD7-F7","v":"00:00:00"}]
[5,null,null,null,null,null,null,null,null,null,null,null,{"$f":"SUM(G8:L8)","v":0},null,null,null,null,null,null,{"$f":"SUM(N8:S8)","v":0},null,null,null,null,null,null,{"$f":"SUM(U8:Z8)","v":0},null,{"$f":"M8+T8+AA8+AB8","v":0},null,{"$f":"AD8-F8","v":"00:00:00"}]
[6,null,null,null,null,null,null,null,null,null,null,null,{"$f":"SUM(G9:L9)","v":0},null,null,null,null,null,null,{"$f":"SUM(N9:S9)","v":0},null,null,null,null,null,null,{"$f":"SUM(U9:Z9)","v":0},null,{"$f":"M9+T9+AA9+AB9","v":0},null,{"$f":"AD9-F9","v":"00:00:00"}]
[7,null,null,null,null,null,null,null,null,null,null,null,{"$f":"SUM(G10:L10)","v":0},null,null,null,null,null,null,{"$f":"SUM(N10:S10)","v":0},null,null,null,null,null,null,{"$f":"SUM(U10:Z10)","v":0},null,{"$f":"M10+T10+AA10+AB10","v":0},null,{"$f":"AD10-F10","v":"00:00:00"}]
[8,null,null,null,null,null,null,null,null,null,null,null,{"$f":"SUM(G11:L11)","v":0},null,null,null,null,null,null,{"$f":"SUM(N11:S11)","v":0},null,null,null,null,null,null,{"$f":"SUM(U11:Z11)","v":0},null,{"$f":"M11+T11+AA11+AB11","v":0},null,{"$f":"AD11-F11","v":"00:00:00"}]
[9,null,null,null,null,null,null,null,null,null,null,null,{"$f":"SUM(G12:L12)","v":0},null,null,null,null,null,null,{"$f":"SUM(N12:S12)","v":0},null,null,null,null,null,null,{"$f":"SUM(U12:Z12)","v":0},null,{"$f":"M12+T12+AA12+AB12","v":0},null,{"$f":"AD12-F12","v":"00:00:00"}]
[10,null,null,null,null,null,null,null,null,null,null,null,{"$f":"SUM(G13:L13)","v":0},null,null,null,null,null,null,{"$f":"SUM(N13:S13)","v":0},null,null,null,null,null,null,{"$f":"SUM(U13:Z13)","v":0},null,{"$f":"M13+T13+AA13+AB13","v":0},null,{"$f":"AD13-F13","v":"00:00:00"}]
[11,null,null,null,null,null,null,null,null,null,null,null,{"$f":"SUM(G14:L14)","v":0},null,null,null,null,null,null,{"$f":"SUM(N14:S14)","v":0},null,null,null,null,null,null,{"$f":"SUM(U14:Z14)","v":0},null,{"$f":"M14+T14+AA14+AB14","v":0},null,{"$f":"AD14-F14","v":"00:00:00"}]
[12,null,null,null,null,null,null,null,null,null,null,null,{"$f":"SUM(G15:L15)","v":0},null,null,null,null,null,null,{"$f":"SUM(N15:S15)","v":0},null,null,null,null,null,null,{"$f":"SUM(U15:Z15)","v":0},null,{"$f":"M15+T15+AA15+AB15","v":0},null,{"$f":"AD15-F15","v":"00:00:00"}]
[13,null,null,null,null,null,null,null,null,null,null,null,{"$f":"SUM(G16:L16)","v":0},null,null,null,null,null,null,{"$f":"SUM(N16:S16)","v":0},null,null,null,null,null,null,{"$f":"SUM(U16:Z16)","v":0},null,{"$f":"M16+T16+AA16+AB16","v":0},null,{"$f":"AD16-F16","v":"00:00:00"}]
[14,null,null,null,null,null,null,null,null,null,null,null,{"$f":"SUM(G17:L17)","v":0},null,null,null,null,null,null,{"$f":"SUM(N17:S17)","v":0},null,null,null,null,null,null,{"$f":"SUM(U17:Z17)","v":0},null,{"$f":"M17+T17+AA17+AB17","v":0},null,{"$f":"AD17-F17","v":"00:00:00"}]
[15,null,null,null,null,null,null,null,null,null,null,null,{"$f":"SUM(G18:L18)","v":0},null,null,null,null,null,null,{"$f":"SUM(N18:S18)","v":0},null,null,null,null,null,null,{"$f":"SUM(U18:Z18)","v":0},null,{"$f":"M18+T18+AA18+AB18","v":0},null,{"$f":"AD18-F18","v":"00:00:00"}]
[16,null,null,null,null,null,null,null,null,null,null,null,{"$f":"SUM(G19:L19)","v":0},null,null,null,null,null,null,{"$f":"SUM(N19:S19)","v":0},null,null,null,null,null,null,{"$f":"SUM(U19:Z19)","v":0},null,{"$f":"M19+T19+AA19+AB19","v":0},null,{"$f":"AD19-F19","v":"00:00:00"}]
[17,null,null,null,null,null,null,null,null,null,null,null,{"$f":"SUM(G20:L20)","v":0},null,null,null,null,null,null,{"$f":"SUM(N20:S20)","v":0},null,null,null,null,null,null,{"$f":"SUM(U20:Z20)","v":0},null,{"$f":"M20+T20+AA20+AB20","v":0},null,{"$f":"AD20-F20","v":"00:00:00"}]
[18,null,null,null,null,null,null,null,null,null,null,null,{"$f":"SUM(G21:L21)","v":0},null,null,null,null,null,null,{"$f":"SUM(N21:S21)","v":0},null,null,null,null,null,null,{"$f":"SUM(U21:Z21)","v":0},null,{"$f":"M21+T21+AA21+AB21","v":0},null,{"$f":"AD21-F21","v":"00:00:00"}]
[19,null,null,null,null,null,null,null,null,null,null,null,{"$f":"SUM(G22:L22)","v":0},null,null,null,null,null,null,{"$f":"SUM(N22:S22)","v":0},null,null,null,null,null,null,{"$f":"SUM(U22:Z22)","v":0},null,{"$f":"M22+T22+AA22+AB22","v":0},null,{"$f":"AD22-F22","v":"00:00:00"}]
[20,null,null,null,null,null,null,null,null,null,null,null,{"$f":"SUM(G23:L23)","v":0},null,null,null,null,null,null,{"$f":"SUM(N23:S23)","v":0},null,null,null,null,null,null,{"$f":"SUM(U23:Z23)","v":0},null,{"$f":"M23+T23+AA23+AB23","v":0},null,{"$f":"AD23-F23","v":"00:00:00"}]
[]
[null,"NÁVOD:"]
[null,"1. VYPLŇUJTE POUZE BÍLÁ POLE. U NEOBSAZENÝCH ŘÁDKŮ DEJTE PENALIZACI \"100\" KVŮLI TŘÍDĚNÍ"]
[null,"2. POKUD SE JELO NA JINÝ POČET SEKCÍ NEBO KOL, PŘEBYTEČNÉ SLOUPCE BUĎ SKRYJTE, NEBO PONECHTE NEVYPLNĚNÉ"]
[null,"3. VYBERTE ORÁMOVANOU OBLAST A PROVEĎTE SEŘAZENÍ DAT PODLE SLOUPCE \"AC\" NEBO POUŽIJTE ORANŽOVÉ TLAČÍTKO"]
[null,"4. ZKONTROLUJTE ROVNOST BODŮ V ČERVENÉM SLOUPCI A OPRAVTE BUĎ MANUÁLNĚ, NEBO DOČASNĚ POMOCÍ PENALIZACÍ (DESETINY BODU)"]

{"sheet":"POUSSIN","index":2,"n_rows":29,"n_cols":31,"rows_kept":29,"cut":false,"hidden":false,"merged":[[1,6,1,11],[1,13,1,18],[1,20,1,25]]}
["KATEGORIE POUSSIN"]
[null,null,null,null,null,"čas start","1.kolo",null,null,null,null,null,null,"2.kolo",null,null,null,null,null,null,"3.kolo"]
["pořadí","číslo","jméno","narození","klub",null,1,2,3,4,5,6,"∑1",1,2,3,4,5,6,"∑2",1,2,3,4,5,6,"∑3","penalizace","∑∑","čas cíl","čas"]
[1,null,null,null,null,null,null,null,null,null,null,null,{"$f":"SUM(G4:L4)","v":0},null,null,null,null,null,null,{"$f":"SUM(N4:S4)","v":0},null,null,null,null,null,null,{"$f":"SUM(U4:Z4)","v":0},null,{"$f":"M4+T4+AA4+AB4","v":0},null,{"$f":"AD4-F4","v":"00:00:00"}]
[2,null,null,null,null,null,null,null,null,null,null,null,{"$f":"SUM(G5:L5)","v":0},null,null,null,null,null,null,{"$f":"SUM(N5:S5)","v":0},null,null,null,null,null,null,{"$f":"SUM(U5:Z5)","v":0},null,{"$f":"M5+T5+AA5+AB5","v":0},null,{"$f":"AD5-F5","v":"00:00:00"}]
[3,null,null,null,null,null,null,null,null,null,null,null,0,null,null,null,null,null,null,0,null,null,null,null,null,null,0,null,0,null,{"$f":"AD6-F6","v":"00:00:00"}]
[4,null,null,null,null,null,null,null,null,null,null,null,0,null,null,null,null,null,null,0,null,null,null,null,null,null,0,null,0,null,{"$f":"AD7-F7","v":"00:00:00"}]
[5,null,null,null,null,null,null,null,null,null,null,null,0,null,null,null,null,null,null,0,null,null,null,null,null,null,0,null,0,null,{"$f":"AD8-F8","v":"00:00:00"}]
[6,null,null,null,null,null,null,null,null,null,null,null,0,null,null,null,null,null,null,0,null,null,null,null,null,null,0,null,0,null,{"$f":"AD9-F9","v":"00:00:00"}]
[7,null,null,null,null,null,null,null,null,null,null,null,0,null,null,null,null,null,null,0,null,null,null,null,null,null,0,null,0,null,{"$f":"AD10-F10","v":"00:00:00"}]
[8,null,null,null,null,null,null,null,null,null,null,null,0,null,null,null,null,null,null,0,null,null,null,null,null,null,0,null,0,null,{"$f":"AD11-F11","v":"00:00:00"}]
[9,null,null,null,null,null,null,null,null,null,null,null,0,null,null,null,null,null,null,0,null,null,null,null,null,null,0,null,0,null,{"$f":"AD12-F12","v":"00:00:00"}]
[10,null,null,null,null,null,null,null,null,null,null,null,0,null,null,null,null,null,null,0,null,null,null,null,null,null,0,null,0,null,{"$f":"AD13-F13","v":"00:00:00"}]
[11,null,null,null,null,null,null,null,null,null,null,null,0,null,null,null,null,null,null,0,null,null,null,null,null,null,0,null,0,null,{"$f":"AD14-F14","v":"00:00:00"}]
[12,null,null,null,null,null,null,null,null,null,null,null,0,null,null,null,null,null,null,0,null,null,null,null,null,null,0,null,0,null,{"$f":"AD15-F15","v":"00:00:00"}]
[13,null,null,null,null,null,null,null,null,null,null,null,0,null,null,null,null,null,null,0,null,null,null,null,null,null,0,null,0,null,{"$f":"AD16-F16","v":"00:00:00"}]
[14,null,null,null,null,null,null,null,null,null,null,null,0,null,null,null,null,null,null,0,null,null,null,null,null,null,0,null,0,null,{"$f":"AD17-F17","v":"00:00:00"}]
[15,null,null,null,null,null,null,null,null,null,null,null,0,null,null,null,null,null,null,0,null,null,null,null,null,null,0,null,0,null,{"$f":"AD18-F18","v":"00:00:00"}]
[16,null,null,null,null,null,null,null,null,null,null,null,0,null,null,null,null,null,null,0,null,null,null,null,null,null,0,null,0,null,{"$f":"AD19-F19","v":"00:00:00"}]
[17,null,null,null,null,null,null,null,null,null,null,null,0,null,null,null,null,null,null,0,null,null,null,null,null,null,0,null,0,null,{"$f":"AD20-F20","v":"00:00:00"}]
[18,null,null,null,null,null,null,null,null,null,null,null,0,null,null,null,null,null,null,0,null,null,null,null,null,null,0,null,0,null,{"$f":"AD21-F21","v":"00:00:00"}]
[19,null,null,null,null,null,null,null,null,null,null,null,0,null,null,null,null,null,null,0,null,null,null,null,null,null,0,null,0,null,{"$f":"AD22-F22","v":"00:00:00"}]
[20,null,null,null,null,null,null,null,null,null,null,null,0,null,null,null,null,null,null,0,null,null,null,null,null,null,0,null,0,null,{"$f":"AD23-F23","v":"00:00:00"}]
[]
[null,"NÁVOD:"]
[null,"1. VYPLŇUJTE POUZE BÍLÁ POLE. U NEOBSAZENÝCH ŘÁDKŮ DEJTE PENALIZACI \"100\" KVŮLI TŘÍDĚNÍ"]
[null,"2. POKUD SE JELO NA JINÝ POČET SEKCÍ NEBO KOL, PŘEBYTEČNÉ SLOUPCE BUĎ SKRYJTE, NEBO PONECHTE NEVYPLNĚNÉ"]
[null,"3. VYBERTE ORÁMOVANOU OBLAST A PROVEĎTE SEŘAZENÍ DAT PODLE SLOUPCE \"AC\" NEBO POUŽIJTE ORANŽOVÉ TLAČÍTKO"]
[null,"4. ZKONTROLUJTE ROVNOST BODŮ V ČERVENÉM SLOUPCI A OPRAVTE BUĎ MANUÁLNĚ, NEBO DOČASNĚ POMOCÍ PENALIZACÍ (DESETINY BODU)"]

{"sheet":"BENJAMIN","index":3,"n_rows":29,"n_cols":31,"rows_kept":29,"cut":false,"hidden":false,"merged":[[1,6,1,11],[1,13,1,18],[1,20,1,25]]}
["KATEGORIE BENJAMIN"]
[null,null,null,null,null,"čas start","1.kolo",null,null,null,null,null,null,"2.kolo",null,null,null,null,null,null,"3.kolo"]
["pořadí","číslo","jméno","narození","klub",null,1,2,3,4,5,6,"∑1",1,2,3,4,5,6,"∑2",1,2,3,4,5,6,"∑3","penalizace","∑∑","čas cíl","čas"]
[1,null,null,null,null,null,null,null,null,null,null,null,{"$f":"SUM(G4:L4)","v":0},null,null,null,null,null,null,{"$f":"SUM(N4:S4)","v":0},null,null,null,null,null,null,{"$f":"SUM(U4:Z4)","v":0},null,{"$f":"M4+T4+AA4+AB4","v":0},null,{"$f":"AD4-F4","v":"00:00:00"}]
[2,null,null,null,null,null,null,null,null,null,null,null,{"$f":"SUM(G5:L5)","v":0},null,null,null,null,null,null,{"$f":"SUM(N5:S5)","v":0},null,null,null,null,null,null,{"$f":"SUM(U5:Z5)","v":0},null,{"$f":"M5+T5+AA5+AB5","v":0},null,{"$f":"AD5-F5","v":"00:00:00"}]
[3,null,null,null,null,null,null,null,null,null,null,null,{"$f":"SUM(G6:L6)","v":0},null,null,null,null,null,null,{"$f":"SUM(N6:S6)","v":0},null,null,null,null,null,null,{"$f":"SUM(U6:Z6)","v":0},null,{"$f":"M6+T6+AA6+AB6","v":0},null,{"$f":"AD6-F6","v":"00:00:00"}]
[4,null,null,null,null,null,null,null,null,null,null,null,{"$f":"SUM(G7:L7)","v":0},null,null,null,null,null,null,{"$f":"SUM(N7:S7)","v":0},null,null,null,null,null,null,{"$f":"SUM(U7:Z7)","v":0},null,{"$f":"M7+T7+AA7+AB7","v":0},null,{"$f":"AD7-F7","v":"00:00:00"}]
[5,null,null,null,null,null,null,null,null,null,null,null,{"$f":"SUM(G8:L8)","v":0},null,null,null,null,null,null,{"$f":"SUM(N8:S8)","v":0},null,null,null,null,null,null,{"$f":"SUM(U8:Z8)","v":0},null,{"$f":"M8+T8+AA8+AB8","v":0},null,{"$f":"AD8-F8","v":"00:00:00"}]
[6,null,null,null,null,null,null,null,null,null,null,null,{"$f":"SUM(G9:L9)","v":0},null,null,null,null,null,null,{"$f":"SUM(N9:S9)","v":0},null,null,null,null,null,null,{"$f":"SUM(U9:Z9)","v":0},null,{"$f":"M9+T9+AA9+AB9","v":0},null,{"$f":"AD9-F9","v":"00:00:00"}]
[7,null,null,null,null,null,null,null,null,null,null,null,{"$f":"SUM(G10:L10)","v":0},null,null,null,null,null,null,{"$f":"SUM(N10:S10)","v":0},null,null,null,null,null,null,{"$f":"SUM(U10:Z10)","v":0},null,{"$f":"M10+T10+AA10+AB10","v":0},null,{"$f":"AD10-F10","v":"00:00:00"}]
[8,null,null,null,null,null,null,null,null,null,null,null,{"$f":"SUM(G11:L11)","v":0},null,null,null,null,null,null,{"$f":"SUM(N11:S11)","v":0},null,null,null,null,null,null,{"$f":"SUM(U11:Z11)","v":0},null,{"$f":"M11+T11+AA11+AB11","v":0},null,{"$f":"AD11-F11","v":"00:00:00"}]
[9,null,null,null,null,null,null,null,null,null,null,null,{"$f":"SUM(G12:L12)","v":0},null,null,null,null,null,null,{"$f":"SUM(N12:S12)","v":0},null,null,null,null,null,null,{"$f":"SUM(U12:Z12)","v":0},null,{"$f":"M12+T12+AA12+AB12","v":0},null,{"$f":"AD12-F12","v":"00:00:00"}]
[10,null,null,null,null,null,null,null,null,null,null,null,{"$f":"SUM(G13:L13)","v":0},null,null,null,null,null,null,{"$f":"SUM(N13:S13)","v":0},null,null,null,null,null,null,{"$f":"SUM(U13:Z13)","v":0},null,{"$f":"M13+T13+AA13+AB13","v":0},null,{"$f":"AD13-F13","v":"00:00:00"}]
[11,null,null,null,null,null,null,null,null,null,null,null,{"$f":"SUM(G14:L14)","v":0},null,null,null,null,null,null,{"$f":"SUM(N14:S14)","v":0},null,null,null,null,null,null,{"$f":"SUM(U14:Z14)","v":0},null,{"$f":"M14+T14+AA14+AB14","v":0},null,{"$f":"AD14-F14","v":"00:00:00"}]
[12,null,null,null,null,null,null,null,null,null,null,null,{"$f":"SUM(G15:L15)","v":0},null,null,null,null,null,null,{"$f":"SUM(N15:S15)","v":0},null,null,null,null,null,null,{"$f":"SUM(U15:Z15)","v":0},null,{"$f":"M15+T15+AA15+AB15","v":0},null,{"$f":"AD15-F15","v":"00:00:00"}]
[13,null,null,null,null,null,null,null,null,null,null,null,{"$f":"SUM(G16:L16)","v":0},null,null,null,null,null,null,{"$f":"SUM(N16:S16)","v":0},null,null,null,null,null,null,{"$f":"SUM(U16:Z16)","v":0},null,{"$f":"M16+T16+AA16+AB16","v":0},null,{"$f":"AD16-F16","v":"00:00:00"}]
[14,null,null,null,null,null,null,null,null,null,null,null,{"$f":"SUM(G17:L17)","v":0},null,null,null,null,null,null,{"$f":"SUM(N17:S17)","v":0},null,null,null,null,null,null,{"$f":"SUM(U17:Z17)","v":0},null,{"$f":"M17+T17+AA17+AB17","v":0},null,{"$f":"AD17-F17","v":"00:00:00"}]
[15,null,null,null,null,null,null,null,null,null,null,null,{"$f":"SUM(G18:L18)","v":0},null,null,null,null,null,null,{"$f":"SUM(N18:S18)","v":0},null,null,null,null,null,null,{"$f":"SUM(U18:Z18)","v":0},null,{"$f":"M18+T18+AA18+AB18","v":0},null,{"$f":"AD18-F18","v":"00:00:00"}]
[16,null,null,null,null,null,null,null,null,null,null,null,{"$f":"SUM(G19:L19)","v":0},null,null,null,null,null,null,{"$f":"SUM(N19:S19)","v":0},null,null,null,null,null,null,{"$f":"SUM(U19:Z19)","v":0},null,{"$f":"M19+T19+AA19+AB19","v":0},null,{"$f":"AD19-F19","v":"00:00:00"}]
[17,null,null,null,null,null,null,null,null,null,null,null,{"$f":"SUM(G20:L20)","v":0},null,null,null,null,null,null,{"$f":"SUM(N20:S20)","v":0},null,null,null,null,null,null,{"$f":"SUM(U20:Z20)","v":0},null,{"$f":"M20+T20+AA20+AB20","v":0},null,{"$f":"AD20-F20","v":"00:00:00"}]
[18,null,null,null,null,null,null,null,null,null,null,null,{"$f":"SUM(G21:L21)","v":0},null,null,null,null,null,null,{"$f":"SUM(N21:S21)","v":0},null,null,null,null,null,null,{"$f":"SUM(U21:Z21)","v":0},null,{"$f":"M21+T21+AA21+AB21","v":0},null,{"$f":"AD21-F21","v":"00:00:00"}]
[19,null,null,null,null,null,null,null,null,null,null,null,{"$f":"SUM(G22:L22)","v":0},null,null,null,null,null,null,{"$f":"SUM(N22:S22)","v":0},null,null,null,null,null,null,{"$f":"SUM(U22:Z22)","v":0},null,{"$f":"M22+T22+AA22+AB22","v":0},null,{"$f":"AD22-F22","v":"00:00:00"}]
[20,null,null,null,null,null,null,null,null,null,null,null,{"$f":"SUM(G23:L23)","v":0},null,null,null,null,null,null,{"$f":"SUM(N23:S23)","v":0},null,null,null,null,null,null,{"$f":"SUM(U23:Z23)","v":0},null,{"$f":"M23+T23+AA23+AB23","v":0},null,{"$f":"AD23-F23","v":"00:00:00"}]
[]
[null,"NÁVOD:"]
[null,"1. VYPLŇUJTE POUZE BÍLÁ POLE. U NEOBSAZENÝCH ŘÁDKŮ DEJTE PENALIZACI \"100\" KVŮLI TŘÍDĚNÍ"]
[null,"2. POKUD SE JELO NA JINÝ POČET SEKCÍ NEBO KOL, PŘEBYTEČNÉ SLOUPCE BUĎ SKRYJTE, NEBO PONECHTE NEVYPLNĚNÉ"]
[null,"3. VYBERTE ORÁMOVANOU OBLAST A PROVEĎTE SEŘAZENÍ DAT PODLE SLOUPCE \"AC\" NEBO POUŽIJTE ORANŽOVÉ TLAČÍTKO"]
[null,"4. ZKONTROLUJTE ROVNOST BODŮ V ČERVENÉM SLOUPCI A OPRAVTE BUĎ MANUÁLNĚ, NEBO DOČASNĚ POMOCÍ PENALIZACÍ (DESETINY BODU)"]

{"sheet":"MINIME","index":4,"n_rows":29,"n_cols":31,"rows_kept":29,"cut":false,"hidden":false,"merged":[[1,6,1,11],[1,13,1,18],[1,20,1,25]]}
["KATEGORIE MINIME"]
[null,null,null,null,null,"čas start","1.kolo",null,null,null,null,null,null,"2.kolo",null,null,null,null,null,null,"3.kolo"]
["pořadí","číslo","jméno","narození","klub",null,1,2,3,4,5,6,"∑1",1,2,3,4,5,6,"∑2",1,2,3,4,5,6,"∑3","penalizace","∑∑","čas cíl","čas"]
[1,null,null,null,null,null,null,null,null,null,null,null,{"$f":"SUM(G4:L4)","v":0},null,null,null,null,null,null,{"$f":"SUM(N4:S4)","v":0},null,null,null,null,null,null,{"$f":"SUM(U4:Z4)","v":0},null,{"$f":"M4+T4+AA4+AB4","v":0},null,{"$f":"AD4-F4","v":"00:00:00"}]
[2,null,null,null,null,null,null,null,null,null,null,null,{"$f":"SUM(G5:L5)","v":0},null,null,null,null,null,null,{"$f":"SUM(N5:S5)","v":0},null,null,null,null,null,null,{"$f":"SUM(U5:Z5)","v":0},null,{"$f":"M5+T5+AA5+AB5","v":0},null,{"$f":"AD5-F5","v":"00:00:00"}]
[3,null,null,null,null,null,null,null,null,null,null,null,0,null,null,null,null,null,null,0,null,null,null,null,null,null,0,null,0,null,{"$f":"AD6-F6","v":"00:00:00"}]
[4,null,null,null,null,null,null,null,null,null,null,null,0,null,null,null,null,null,null,0,null,null,null,null,null,null,0,null,0,null,{"$f":"AD7-F7","v":"00:00:00"}]
[5,null,null,null,null,null,null,null,null,null,null,null,0,null,null,null,null,null,null,0,null,null,null,null,null,null,0,null,0,null,{"$f":"AD8-F8","v":"00:00:00"}]
[6,null,null,null,null,null,null,null,null,null,null,null,0,null,null,null,null,null,null,0,null,null,null,null,null,null,0,null,0,null,{"$f":"AD9-F9","v":"00:00:00"}]
[7,null,null,null,null,null,null,null,null,null,null,null,0,null,null,null,null,null,null,0,null,null,null,null,null,null,0,null,0,null,{"$f":"AD10-F10","v":"00:00:00"}]
[8,null,null,null,null,null,null,null,null,null,null,null,0,null,null,null,null,null,null,0,null,null,null,null,null,null,0,null,0,null,{"$f":"AD11-F11","v":"00:00:00"}]
[9,null,null,null,null,null,null,null,null,null,null,null,0,null,null,null,null,null,null,0,null,null,null,null,null,null,0,null,0,null,{"$f":"AD12-F12","v":"00:00:00"}]
[10,null,null,null,null,null,null,null,null,null,null,null,0,null,null,null,null,null,null,0,null,null,null,null,null,null,0,null,0,null,{"$f":"AD13-F13","v":"00:00:00"}]
[11,null,null,null,null,null,null,null,null,null,null,null,0,null,null,null,null,null,null,0,null,null,null,null,null,null,0,null,0,null,{"$f":"AD14-F14","v":"00:00:00"}]
[12,null,null,null,null,null,null,null,null,null,null,null,0,null,null,null,null,null,null,0,null,null,null,null,null,null,0,null,0,null,{"$f":"AD15-F15","v":"00:00:00"}]
[13,null,null,null,null,null,null,null,null,null,null,null,0,null,null,null,null,null,null,0,null,null,null,null,null,null,0,null,0,null,{"$f":"AD16-F16","v":"00:00:00"}]
[14,null,null,null,null,null,null,null,null,null,null,null,0,null,null,null,null,null,null,0,null,null,null,null,null,null,0,null,0,null,{"$f":"AD17-F17","v":"00:00:00"}]
[15,null,null,null,null,null,null,null,null,null,null,null,0,null,null,null,null,null,null,0,null,null,null,null,null,null,0,null,0,null,{"$f":"AD18-F18","v":"00:00:00"}]
[16,null,null,null,null,null,null,null,null,null,null,null,0,null,null,null,null,null,null,0,null,null,null,null,null,null,0,null,0,null,{"$f":"AD19-F19","v":"00:00:00"}]
[17,null,null,null,null,null,null,null,null,null,null,null,0,null,null,null,null,null,null,0,null,null,null,null,null,null,0,null,0,null,{"$f":"AD20-F20","v":"00:00:00"}]
[18,null,null,null,null,null,null,null,null,null,null,null,0,null,null,null,null,null,null,0,null,null,null,null,null,null,0,null,0,null,{"$f":"AD21-F21","v":"00:00:00"}]
[19,null,null,null,null,null,null,null,null,null,null,null,0,null,null,null,null,null,null,0,null,null,null,null,null,null,0,null,0,null,{"$f":"AD22-F22","v":"00:00:00"}]
[20,null,null,null,null,null,null,null,null,null,null,null,0,null,null,null,null,null,null,0,null,null,null,null,null,null,0,null,0,null,{"$f":"AD23-F23","v":"00:00:00"}]
[]
[null,"NÁVOD:"]
[null,"1. VYPLŇUJTE POUZE BÍLÁ POLE. U NEOBSAZENÝCH ŘÁDKŮ DEJTE PENALIZACI \"100\" KVŮLI TŘÍDĚNÍ"]
[null,"2. POKUD SE JELO NA JINÝ POČET SEKCÍ NEBO KOL, PŘEBYTEČNÉ SLOUPCE BUĎ SKRYJTE, NEBO PONECHTE NEVYPLNĚNÉ"]
[null,"3. VYBERTE ORÁMOVANOU OBLAST A PROVEĎTE SEŘAZENÍ DAT PODLE SLOUPCE \"AC\" NEBO POUŽIJTE ORANŽOVÉ TLAČÍTKO"]
[null,"4. ZKONTROLUJTE ROVNOST BODŮ V ČERVENÉM SLOUPCI A OPRAVTE BUĎ MANUÁLNĚ, NEBO DOČASNĚ POMOCÍ PENALIZACÍ (DESETINY BODU)"]

{"sheet":"CADET","index":5,"n_rows":29,"n_cols":31,"rows_kept":29,"cut":false,"hidden":false,"merged":[[1,6,1,11],[1,13,1,18],[1,20,1,25]]}
["KATEGORIE CADET"]
[null,null,null,null,null,"čas start","1.kolo",null,null,null,null,null,null,"2.kolo",null,null,null,null,null,null,"3.kolo"]
["pořadí","číslo","jméno","narození","klub",null,1,2,3,4,5,6,"∑1",1,2,3,4,5,6,"∑2",1,2,3,4,5,6,"∑3","penalizace","∑∑","čas cíl","čas"]
[1,null,null,null,null,null,null,null,null,null,null,null,{"$f":"SUM(G4:L4)","v":0},null,null,null,null,null,null,{"$f":"SUM(N4:S4)","v":0},null,null,null,null,null,null,{"$f":"SUM(U4:Z4)","v":0},null,{"$f":"M4+T4+AA4+AB4","v":0},null,{"$f":"AD4-F4","v":"00:00:00"}]
[2,null,null,null,null,null,null,null,null,null,null,null,{"$f":"SUM(G5:L5)","v":0},null,null,null,null,null,null,{"$f":"SUM(N5:S5)","v":0},null,null,null,null,null,null,{"$f":"SUM(U5:Z5)","v":0},null,{"$f":"M5+T5+AA5+AB5","v":0},null,{"$f":"AD5-F5","v":"00:00:00"}]
[3,null,null,null,null,null,null,null,null,null,null,null,0,null,null,null,null,null,null,0,null,null,null,null,null,null,0,null,0,null,{"$f":"AD6-F6","v":"00:00:00"}]
[4,null,null,null,null,null,null,null,null,null,null,null,0,null,null,null,null,null,null,0,null,null,null,null,null,null,0,null,0,null,{"$f":"AD7-F7","v":"00:00:00"}]
[5,null,null,null,null,null,null,null,null,null,null,null,0,null,null,null,null,null,null,0,null,null,null,null,null,null,0,null,0,null,{"$f":"AD8-F8","v":"00:00:00"}]
[6,null,null,null,null,null,null,null,null,null,null,null,0,null,null,null,null,null,null,0,null,null,null,null,null,null,0,null,0,null,{"$f":"AD9-F9","v":"00:00:00"}]
[7,null,null,null,null,null,null,null,null,null,null,null,0,null,null,null,null,null,null,0,null,null,null,null,null,null,0,null,0,null,{"$f":"AD10-F10","v":"00:00:00"}]
[8,null,null,null,null,null,null,null,null,null,null,null,0,null,null,null,null,null,null,0,null,null,null,null,null,null,0,null,0,null,{"$f":"AD11-F11","v":"00:00:00"}]
[9,null,null,null,null,null,null,null,null,null,null,null,0,null,null,null,null,null,null,0,null,null,null,null,null,null,0,null,0,null,{"$f":"AD12-F12","v":"00:00:00"}]
[10,null,null,null,null,null,null,null,null,null,null,null,0,null,null,null,null,null,null,0,null,null,null,null,null,null,0,null,0,null,{"$f":"AD13-F13","v":"00:00:00"}]
[11,null,null,null,null,null,null,null,null,null,null,null,0,null,null,null,null,null,null,0,null,null,null,null,null,null,0,null,0,null,{"$f":"AD14-F14","v":"00:00:00"}]
[12,null,null,null,null,null,null,null,null,null,null,null,0,null,null,null,null,null,null,0,null,null,null,null,null,null,0,null,0,null,{"$f":"AD15-F15","v":"00:00:00"}]
[13,null,null,null,null,null,null,null,null,null,null,null,0,null,null,null,null,null,null,0,null,null,null,null,null,null,0,null,0,null,{"$f":"AD16-F16","v":"00:00:00"}]
[14,null,null,null,null,null,null,null,null,null,null,null,0,null,null,null,null,null,null,0,null,null,null,null,null,null,0,null,0,null,{"$f":"AD17-F17","v":"00:00:00"}]
[15,null,null,null,null,null,null,null,null,null,null,null,0,null,null,null,null,null,null,0,null,null,null,null,null,null,0,null,0,null,{"$f":"AD18-F18","v":"00:00:00"}]
[16,null,null,null,null,null,null,null,null,null,null,null,0,null,null,null,null,null,null,0,null,null,null,null,null,null,0,null,0,null,{"$f":"AD19-F19","v":"00:00:00"}]
[17,null,null,null,null,null,null,null,null,null,null,null,0,null,null,null,null,null,null,0,null,null,null,null,null,null,0,null,0,null,{"$f":"AD20-F20","v":"00:00:00"}]
[18,null,null,null,null,null,null,null,null,null,null,null,0,null,null,null,null,null,null,0,null,null,null,null,null,null,0,null,0,null,{"$f":"AD21-F21","v":"00:00:00"}]
[19,null,null,null,null,null,null,null,null,null,null,null,0,null,null,null,null,null,null,0,null,null,null,null,null,null,0,null,0,null,{"$f":"AD22-F22","v":"00:00:00"}]
[20,null,null,null,null,null,null,null,null,null,null,null,0,null,null,null,null,null,null,0,null,null,null,null,null,null,0,null,0,null,{"$f":"AD23-F23","v":"00:00:00"}]
[]
[null,"NÁVOD:"]
[null,"1. VYPLŇUJTE POUZE BÍLÁ POLE. U NEOBSAZENÝCH ŘÁDKŮ DEJTE PENALIZACI \"100\" KVŮLI TŘÍDĚNÍ"]
[null,"2. POKUD SE JELO NA JINÝ POČET SEKCÍ NEBO KOL, PŘEBYTEČNÉ SLOUPCE BUĎ SKRYJTE, NEBO PONECHTE NEVYPLNĚNÉ"]
[null,"3. VYBERTE ORÁMOVANOU OBLAST A PROVEĎTE SEŘAZENÍ DAT PODLE SLOUPCE \"AC\" NEBO POUŽIJTE ORANŽOVÉ TLAČÍTKO"]
[null,"4. ZKONTROLUJTE ROVNOST BODŮ V ČERVENÉM SLOUPCI A OPRAVTE BUĎ MANUÁLNĚ, NEBO DOČASNĚ POMOCÍ PENALIZACÍ (DESETINY BODU)"]

{"sheet":"GIRLS","index":6,"n_rows":29,"n_cols":31,"rows_kept":29,"cut":false,"hidden":false,"merged":[[1,6,1,11],[1,13,1,18],[1,20,1,25]]}
["KATEGORIE GIRLS"]
[null,null,null,null,null,"čas start","1.kolo",null,null,null,null,null,null,"2.kolo",null,null,null,null,null,null,"3.kolo"]
["pořadí","číslo","jméno","narození","klub",null,1,2,3,4,5,6,"∑1",1,2,3,4,5,6,"∑2",1,2,3,4,5,6,"∑3","penalizace","∑∑","čas cíl","čas"]
[1,null,null,null,null,null,null,null,null,null,null,null,{"$f":"SUM(G4:L4)","v":0},null,null,null,null,null,null,{"$f":"SUM(N4:S4)","v":0},null,null,null,null,null,null,{"$f":"SUM(U4:Z4)","v":0},null,{"$f":"M4+T4+AA4+AB4","v":0},null,{"$f":"AD4-F4","v":"00:00:00"}]
[2,null,null,null,null,null,null,null,null,null,null,null,{"$f":"SUM(G5:L5)","v":0},null,null,null,null,null,null,{"$f":"SUM(N5:S5)","v":0},null,null,null,null,null,null,{"$f":"SUM(U5:Z5)","v":0},null,{"$f":"M5+T5+AA5+AB5","v":0},null,{"$f":"AD5-F5","v":"00:00:00"}]
[3,null,null,null,null,null,null,null,null,null,null,null,{"$f":"SUM(G6:L6)","v":0},null,null,null,null,null,null,{"$f":"SUM(N6:S6)","v":0},null,null,null,null,null,null,{"$f":"SUM(U6:Z6)","v":0},null,{"$f":"M6+T6+AA6+AB6","v":0},null,{"$f":"AD6-F6","v":"00:00:00"}]
[4,null,null,null,null,null,null,null,null,null,null,null,{"$f":"SUM(G7:L7)","v":0},null,null,null,null,null,null,{"$f":"SUM(N7:S7)","v":0},null,null,null,null,null,null,{"$f":"SUM(U7:Z7)","v":0},null,{"$f":"M7+T7+AA7+AB7","v":0},null,{"$f":"AD7-F7","v":"00:00:00"}]
[5,null,null,null,null,null,null,null,null,null,null,null,{"$f":"SUM(G8:L8)","v":0},null,null,null,null,null,null,{"$f":"SUM(N8:S8)","v":0},null,null,null,null,null,null,{"$f":"SUM(U8:Z8)","v":0},null,{"$f":"M8+T8+AA8+AB8","v":0},null,{"$f":"AD8-F8","v":"00:00:00"}]
[6,null,null,null,null,null,null,null,null,null,null,null,{"$f":"SUM(G9:L9)","v":0},null,null,null,null,null,null,{"$f":"SUM(N9:S9)","v":0},null,null,null,null,null,null,{"$f":"SUM(U9:Z9)","v":0},null,{"$f":"M9+T9+AA9+AB9","v":0},null,{"$f":"AD9-F9","v":"00:00:00"}]
[7,null,null,null,null,null,null,null,null,null,null,null,{"$f":"SUM(G10:L10)","v":0},null,null,null,null,null,null,{"$f":"SUM(N10:S10)","v":0},null,null,null,null,null,null,{"$f":"SUM(U10:Z10)","v":0},null,{"$f":"M10+T10+AA10+AB10","v":0},null,{"$f":"AD10-F10","v":"00:00:00"}]
[8,null,null,null,null,null,null,null,null,null,null,null,{"$f":"SUM(G11:L11)","v":0},null,null,null,null,null,null,{"$f":"SUM(N11:S11)","v":0},null,null,null,null,null,null,{"$f":"SUM(U11:Z11)","v":0},null,{"$f":"M11+T11+AA11+AB11","v":0},null,{"$f":"AD11-F11","v":"00:00:00"}]
[9,null,null,null,null,null,null,null,null,null,null,null,{"$f":"SUM(G12:L12)","v":0},null,null,null,null,null,null,{"$f":"SUM(N12:S12)","v":0},null,null,null,null,null,null,{"$f":"SUM(U12:Z12)","v":0},null,{"$f":"M12+T12+AA12+AB12","v":0},null,{"$f":"AD12-F12","v":"00:00:00"}]
[10,null,null,null,null,null,null,null,null,null,null,null,{"$f":"SUM(G13:L13)","v":0},null,null,null,null,null,null,{"$f":"SUM(N13:S13)","v":0},null,null,null,null,null,null,{"$f":"SUM(U13:Z13)","v":0},null,{"$f":"M13+T13+AA13+AB13","v":0},null,{"$f":"AD13-F13","v":"00:00:00"}]
[11,null,null,null,null,null,null,null,null,null,null,null,{"$f":"SUM(G14:L14)","v":0},null,null,null,null,null,null,{"$f":"SUM(N14:S14)","v":0},null,null,null,null,null,null,{"$f":"SUM(U14:Z14)","v":0},null,{"$f":"M14+T14+AA14+AB14","v":0},null,{"$f":"AD14-F14","v":"00:00:00"}]
[12,null,null,null,null,null,null,null,null,null,null,null,{"$f":"SUM(G15:L15)","v":0},null,null,null,null,null,null,{"$f":"SUM(N15:S15)","v":0},null,null,null,null,null,null,{"$f":"SUM(U15:Z15)","v":0},null,{"$f":"M15+T15+AA15+AB15","v":0},null,{"$f":"AD15-F15","v":"00:00:00"}]
[13,null,null,null,null,null,null,null,null,null,null,null,{"$f":"SUM(G16:L16)","v":0},null,null,null,null,null,null,{"$f":"SUM(N16:S16)","v":0},null,null,null,null,null,null,{"$f":"SUM(U16:Z16)","v":0},null,{"$f":"M16+T16+AA16+AB16","v":0},null,{"$f":"AD16-F16","v":"00:00:00"}]
[14,null,null,null,null,null,null,null,null,null,null,null,{"$f":"SUM(G17:L17)","v":0},null,null,null,null,null,null,{"$f":"SUM(N17:S17)","v":0},null,null,null,null,null,null,{"$f":"SUM(U17:Z17)","v":0},null,{"$f":"M17+T17+AA17+AB17","v":0},null,{"$f":"AD17-F17","v":"00:00:00"}]
[15,null,null,null,null,null,null,null,null,null,null,null,{"$f":"SUM(G18:L18)","v":0},null,null,null,null,null,null,{"$f":"SUM(N18:S18)","v":0},null,null,null,null,null,null,{"$f":"SUM(U18:Z18)","v":0},null,{"$f":"M18+T18+AA18+AB18","v":0},null,{"$f":"AD18-F18","v":"00:00:00"}]
[16,null,null,null,null,null,null,null,null,null,null,null,{"$f":"SUM(G19:L19)","v":0},null,null,null,null,null,null,{"$f":"SUM(N19:S19)","v":0},null,null,null,null,null,null,{"$f":"SUM(U19:Z19)","v":0},null,{"$f":"M19+T19+AA19+AB19","v":0},null,{"$f":"AD19-F19","v":"00:00:00"}]
[17,null,null,null,null,null,null,null,null,null,null,null,{"$f":"SUM(G20:L20)","v":0},null,null,null,null,null,null,{"$f":"SUM(N20:S20)","v":0},null,null,null,null,null,null,{"$f":"SUM(U20:Z20)","v":0},null,{"$f":"M20+T20+AA20+AB20","v":0},null,{"$f":"AD20-F20","v":"00:00:00"}]
[18,null,null,null,null,null,null,null,null,null,null,null,{"$f":"SUM(G21:L21)","v":0},null,null,null,null,null,null,{"$f":"SUM(N21:S21)","v":0},null,null,null,null,null,null,{"$f":"SUM(U21:Z21)","v":0},null,{"$f":"M21+T21+AA21+AB21","v":0},null,{"$f":"AD21-F21","v":"00:00:00"}]
[19,null,null,null,null,null,null,null,null,null,null,null,{"$f":"SUM(G22:L22)","v":0},null,null,null,null,null,null,{"$f":"SUM(N22:S22)","v":0},null,null,null,null,null,null,{"$f":"SUM(U22:Z22)","v":0},null,{"$f":"M22+T22+AA22+AB22","v":0},null,{"$f":"AD22-F22","v":"00:00:00"}]
[20,null,null,null,null,null,null,null,null,null,null,null,{"$f":"SUM(G23:L23)","v":0},null,null,null,null,null,null,{"$f":"SUM(N23:S23)","v":0},null,null,null,null,null,null,{"$f":"SUM(U23:Z23)","v":0},null,{"$f":"M23+T23+AA23+AB23","v":0},null,{"$f":"AD23-F23","v":"00:00:00"}]
[]
[null,"NÁVOD:"]
[null,"1. VYPLŇUJTE POUZE BÍLÁ POLE. U NEOBSAZENÝCH ŘÁDKŮ DEJTE PENALIZACI \"100\" KVŮLI TŘÍDĚNÍ"]
[null,"2. POKUD SE JELO NA JINÝ POČET SEKCÍ NEBO KOL, PŘEBYTEČNÉ SLOUPCE BUĎ SKRYJTE, NEBO PONECHTE NEVYPLNĚNÉ"]
[null,"3. VYBERTE ORÁMOVANOU OBLAST A PROVEĎTE SEŘAZENÍ DAT PODLE SLOUPCE \"AC\" NEBO POUŽIJTE ORANŽOVÉ TLAČÍTKO"]
[null,"4. ZKONTROLUJTE ROVNOST BODŮ V ČERVENÉM SLOUPCI A OPRAVTE BUĎ MANUÁLNĚ, NEBO DOČASNĚ POMOCÍ PENALIZACÍ (DESETINY BODU)"]

{"sheet":"TISKOVÁ SESTAVA","index":7,"n_rows":159,"n_cols":29,"rows_kept":159,"cut":false,"hidden":false,"merged":[[137,5,137,11],[137,12,137,18],[137,19,137,25],[87,5,87,11],[87,12,87,18],[87,19,87,25],[112,5,112,11],[112,12,112,18],[112,19,112,25],[37,5,37,11],[37,12,37,18],[37,19,37,25],[62,5,62,11],[62,12,62,18],[62,19,62,25],[12,5,12,11],[12,12,12,18],[12,19,12,25],[7,0,7,28],[8,0,8,28]]}
["NÁVOD:"]
["1. DO TOHOTO LISTU NIC NEVPISUJTE, JEN ZÁVOD A DATUM, OSTATNÍ DATA JSOU AUTOMATICKY KOPÍROVÁNA Z KATEGORIÍ"]
["2. OBLAST TISKU JE NASTAVENA JEN PRO BÍLÉ BUŇKY"]
["3. NEOBSAZENÉ ŘÁDKY NEMAŽTE,POUŽIJTE FUNKCI \"SKRÝT\""]
["4. POKUD SE JELO NA JINÝ POČET SEKCÍ NEBO KOL, PŘEBYTEČNÉ SLOUPCE TAKÉ SKRYJTE"]
["5. DOPLŇTE NÁZEV ZÁVODU A DATUM!!!!"]
[]
["VÝSLEDKOVÁ LISTINA - CYKLOTRIALOVÉ HRY MLÁDEŽE / YOUTH GAMES"]
["NÁZEV ZÁVODU, DATUM"]
[]
["KATEGORIE PROMESA"]
[]
[null,null,null,null,null,{"$f":"PROMESA!G2","v":"1.kolo"},null,null,null,null,null,null,{"$f":"PROMESA!N2","v":"2.kolo"},null,null,null,null,null,null,{"$f":"PROMESA!U2","v":"3.kolo"}]
[{"$f":"PROMESA!A3","v":"pořadí"},{"$f":"PROMESA!B3","v":"číslo"},{"$f":"PROMESA!C3","v":"jméno"},{"$f":"PROMESA!D3","v":"narození"},{"$f":"PROMESA!E3","v":"klub"},{"$f":"PROMESA!G3","v":1},{"$f":"PROMESA!H3","v":2},{"$f":"PROMESA!I3","v":3},{"$f":"PROMESA!J3","v":4},{"$f":"PROMESA!K3","v":5},{"$f":"PROMESA!L3","v":6},{"$f":"PROMESA!M3","v":"∑1"},{"$f":"PROMESA!N3","v":1},{"$f":"PROMESA!O3","v":2},{"$f":"PROMESA!P3","v":3},{"$f":"PROMESA!Q3","v":4},{"$f":"PROMESA!R3","v":5},{"$f":"PROMESA!S3","v":6},{"$f":"PROMESA!T3","v":"∑2"},{"$f":"PROMESA!U3","v":1},{"$f":"PROMESA!V3","v":2},{"$f":"PROMESA!W3","v":3},{"$f":"PROMESA!X3","v":4},{"$f":"PROMESA!Y3","v":5},{"$f":"PROMESA!Z3","v":6},{"$f":"PROMESA!AA3","v":"∑3"},{"$f":"PROMESA!AB3","v":"penalizace"},{"$f":"PROMESA!AC3","v":"∑∑"},{"$f":"PROMESA!AE3","v":"čas"}]
[{"$f":"PROMESA!A4","v":1},{"$f":"PROMESA!B4","v":0},{"$f":"PROMESA!C4","v":0},{"$f":"PROMESA!D4","v":0},{"$f":"PROMESA!E4","v":0},{"$f":"IF(ISNUMBER(PROMESA!G4),PROMESA!G4,\" \")","v":" "},{"$f":"IF(ISNUMBER(PROMESA!H4),PROMESA!H4,\" \")","v":" "},{"$f":"IF(ISNUMBER(PROMESA!I4),PROMESA!I4,\" \")","v":" "},{"$f":"IF(ISNUMBER(PROMESA!J4),PROMESA!J4,\" \")","v":" "},{"$f":"IF(ISNUMBER(PROMESA!K4),PROMESA!K4,\" \")","v":" "},{"$f":"IF(ISNUMBER(PROMESA!L4),PROMESA!L4,\" \")","v":" "},{"$f":"PROMESA!M4","v":0},{"$f":"IF(ISNUMBER(PROMESA!N4),PROMESA!N4,\" \")","v":" "},{"$f":"IF(ISNUMBER(PROMESA!O4),PROMESA!O4,\" \")","v":" "},{"$f":"IF(ISNUMBER(PROMESA!P4),PROMESA!P4,\" \")","v":" "},{"$f":"IF(ISNUMBER(PROMESA!Q4),PROMESA!Q4,\" \")","v":" "},{"$f":"IF(ISNUMBER(PROMESA!R4),PROMESA!R4,\" \")","v":" "},{"$f":"IF(ISNUMBER(PROMESA!S4),PROMESA!S4,\" \")","v":" "},{"$f":"PROMESA!T4","v":0},{"$f":"IF(ISNUMBER(PROMESA!U4),PROMESA!U4,\" \")","v":" "},{"$f":"IF(ISNUMBER(PROMESA!V4),PROMESA!V4,\" \")","v":" "},{"$f":"IF(ISNUMBER(PROMESA!W4),PROMESA!W4,\" \")","v":" "},{"$f":"IF(ISNUMBER(PROMESA!X4),PROMESA!X4,\" \")","v":" "},{"$f":"IF(ISNUMBER(PROMESA!Y4),PROMESA!Y4,\" \")","v":" "},{"$f":"IF(ISNUMBER(PROMESA!Z4),PROMESA!Z4,\" \")","v":" "},{"$f":"PROMESA!AA4","v":0},{"$f":"IF(ISNUMBER(PROMESA!AB4),PROMESA!AB4,\" \")","v":" "},{"$f":"PROMESA!AC4","v":0},{"$f":"PROMESA!AE4","v":"00:00:00"}]
[{"$f":"PROMESA!A5","v":2},{"$f":"PROMESA!B5","v":0},{"$f":"PROMESA!C5","v":0},{"$f":"PROMESA!D5","v":0},{"$f":"PROMESA!E5","v":0},{"$f":"IF(ISNUMBER(PROMESA!G5),PROMESA!G5,\" \")","v":" "},{"$f":"IF(ISNUMBER(PROMESA!H5),PROMESA!H5,\" \")","v":" "},{"$f":"IF(ISNUMBER(PROMESA!I5),PROMESA!I5,\" \")","v":" "},{"$f":"IF(ISNUMBER(PROMESA!J5),PROMESA!J5,\" \")","v":" "},{"$f":"IF(ISNUMBER(PROMESA!K5),PROMESA!K5,\" \")","v":" "},{"$f":"IF(ISNUMBER(PROMESA!L5),PROMESA!L5,\" \")","v":" "},{"$f":"PROMESA!M5","v":0},{"$f":"IF(ISNUMBER(PROMESA!N5),PROMESA!N5,\" \")","v":" "},{"$f":"IF(ISNUMBER(PROMESA!O5),PROMESA!O5,\" \")","v":" "},{"$f":"IF(ISNUMBER(PROMESA!P5),PROMESA!P5,\" \")","v":" "},{"$f":"IF(ISNUMBER(PROMESA!Q5),PROMESA!Q5,\" \")","v":" "},{"$f":"IF(ISNUMBER(PROMESA!R5),PROMESA!R5,\" \")","v":" "},{"$f":"IF(ISNUMBER(PROMESA!S5),PROMESA!S5,\" \")","v":" "},{"$f":"PROMESA!T5","v":0},{"$f":"IF(ISNUMBER(PROMESA!U5),PROMESA!U5,\" \")","v":" "},{"$f":"IF(ISNUMBER(PROMESA!V5),PROMESA!V5,\" \")","v":" "},{"$f":"IF(ISNUMBER(PROMESA!W5),PROMESA!W5,\" \")","v":" "},{"$f":"IF(ISNUMBER(PROMESA!X5),PROMESA!X5,\" \")","v":" "},{"$f":"IF(ISNUMBER(PROMESA!Y5),PROMESA!Y5,\" \")","v":" "},{"$f":"IF(ISNUMBER(PROMESA!Z5),PROMESA!Z5,\" \")","v":" "},{"$f":"PROMESA!AA5","v":0},{"$f":"IF(ISNUMBER(PROMESA!AB5),PROMESA!AB5,\" \")","v":" "},{"$f":"PROMESA!AC5","v":0},{"$f":"PROMESA!AE5","v":"00:00:00"}]
[{"$f":"PROMESA!A6","v":3},{"$f":"PROMESA!B6","v":0},{"$f":"PROMESA!C6","v":0},{"$f":"PROMESA!D6","v":0},{"$f":"PROMESA!E6","v":0},{"$f":"IF(ISNUMBER(PROMESA!G6),PROMESA!G6,\" \")","v":" "},{"$f":"IF(ISNUMBER(PROMESA!H6),PROMESA!H6,\" \")","v":" "},{"$f":"IF(ISNUMBER(PROMESA!I6),PROMESA!I6,\" \")","v":" "},{"$f":"IF(ISNUMBER(PROMESA!J6),PROMESA!J6,\" \")","v":" "},{"$f":"IF(ISNUMBER(PROMESA!K6),PROMESA!K6,\" \")","v":" "},{"$f":"IF(ISNUMBER(PROMESA!L6),PROMESA!L6,\" \")","v":" "},{"$f":"PROMESA!M6","v":0},{"$f":"IF(ISNUMBER(PROMESA!N6),PROMESA!N6,\" \")","v":" "},{"$f":"IF(ISNUMBER(PROMESA!O6),PROMESA!O6,\" \")","v":" "},{"$f":"IF(ISNUMBER(PROMESA!P6),PROMESA!P6,\" \")","v":" "},{"$f":"IF(ISNUMBER(PROMESA!Q6),PROMESA!Q6,\" \")","v":" "},{"$f":"IF(ISNUMBER(PROMESA!R6),PROMESA!R6,\" \")","v":" "},{"$f":"IF(ISNUMBER(PROMESA!S6),PROMESA!S6,\" \")","v":" "},{"$f":"PROMESA!T6","v":0},{"$f":"IF(ISNUMBER(PROMESA!U6),PROMESA!U6,\" \")","v":" "},{"$f":"IF(ISNUMBER(PROMESA!V6),PROMESA!V6,\" \")","v":" "},{"$f":"IF(ISNUMBER(PROMESA!W6),PROMESA!W6,\" \")","v":" "},{"$f":"IF(ISNUMBER(PROMESA!X6),PROMESA!X6,\" \")","v":" "},{"$f":"IF(ISNUMBER(PROMESA!Y6),PROMESA!Y6,\" \")","v":" "},{"$f":"IF(ISNUMBER(PROMESA!Z6),PROMESA!Z6,\" \")","v":" "},{"$f":"PROMESA!AA6","v":0},{"$f":"IF(ISNUMBER(PROMESA!AB6),PROMESA!AB6,\" \")","v":" "},{"$f":"PROMESA!AC6","v":0},{"$f":"PROMESA!AE6","v":"00:00:00"}]
[{"$f":"PROMESA!A7","v":4},{"$f":"PROMESA!B7","v":0},{"$f":"PROMESA!C7","v":0},{"$f":"PROMESA!D7","v":0},{"$f":"PROMESA!E7","v":0},{"$f":"IF(ISNUMBER(PROMESA!G7),PROMESA!G7,\" \")","v":" "},{"$f":"IF(ISNUMBER(PROMESA!H7),PROMESA!H7,\" \")","v":" "},{"$f":"IF(ISNUMBER(PROMESA!I7),PROMESA!I7,\" \")","v":" "},{"$f":"IF(ISNUMBER(PROMESA!J7),PROMESA!J7,\" \")","v":" "},{"$f":"IF(ISNUMBER(PROMESA!K7),PROMESA!K7,\" \")","v":" "},{"$f":"IF(ISNUMBER(PROMESA!L7),PROMESA!L7,\" \")","v":" "},{"$f":"PROMESA!M7","v":0},{"$f":"IF(ISNUMBER(PROMESA!N7),PROMESA!N7,\" \")","v":" "},{"$f":"IF(ISNUMBER(PROMESA!O7),PROMESA!O7,\" \")","v":" "},{"$f":"IF(ISNUMBER(PROMESA!P7),PROMESA!P7,\" \")","v":" "},{"$f":"IF(ISNUMBER(PROMESA!Q7),PROMESA!Q7,\" \")","v":" "},{"$f":"IF(ISNUMBER(PROMESA!R7),PROMESA!R7,\" \")","v":" "},{"$f":"IF(ISNUMBER(PROMESA!S7),PROMESA!S7,\" \")","v":" "},{"$f":"PROMESA!T7","v":0},{"$f":"IF(ISNUMBER(PROMESA!U7),PROMESA!U7,\" \")","v":" "},{"$f":"IF(ISNUMBER(PROMESA!V7),PROMESA!V7,\" \")","v":" "},{"$f":"IF(ISNUMBER(PROMESA!W7),PROMESA!W7,\" \")","v":" "},{"$f":"IF(ISNUMBER(PROMESA!X7),PROMESA!X7,\" \")","v":" "},{"$f":"IF(ISNUMBER(PROMESA!Y7),PROMESA!Y7,\" \")","v":" "},{"$f":"IF(ISNUMBER(PROMESA!Z7),PROMESA!Z7,\" \")","v":" "},{"$f":"PROMESA!AA7","v":0},{"$f":"IF(ISNUMBER(PROMESA!AB7),PROMESA!AB7,\" \")","v":" "},{"$f":"PROMESA!AC7","v":0},{"$f":"PROMESA!AE7","v":"00:00:00"}]
[{"$f":"PROMESA!A8","v":5},{"$f":"PROMESA!B8","v":0},{"$f":"PROMESA!C8","v":0},{"$f":"PROMESA!D8","v":0},{"$f":"PROMESA!E8","v":0},{"$f":"IF(ISNUMBER(PROMESA!G8),PROMESA!G8,\" \")","v":" "},{"$f":"IF(ISNUMBER(PROMESA!H8),PROMESA!H8,\" \")","v":" "},{"$f":"IF(ISNUMBER(PROMESA!I8),PROMESA!I8,\" \")","v":" "},{"$f":"IF(ISNUMBER(PROMESA!J8),PROMESA!J8,\" \")","v":" "},{"$f":"IF(ISNUMBER(PROMESA!K8),PROMESA!K8,\" \")","v":" "},{"$f":"IF(ISNUMBER(PROMESA!L8),PROMESA!L8,\" \")","v":" "},{"$f":"PROMESA!M8","v":0},{"$f":"IF(ISNUMBER(PROMESA!N8),PROMESA!N8,\" \")","v":" "},{"$f":"IF(ISNUMBER(PROMESA!O8),PROMESA!O8,\" \")","v":" "},{"$f":"IF(ISNUMBER(PROMESA!P8),PROMESA!P8,\" \")","v":" "},{"$f":"IF(ISNUMBER(PROMESA!Q8),PROMESA!Q8,\" \")","v":" "},{"$f":"IF(ISNUMBER(PROMESA!R8),PROMESA!R8,\" \")","v":" "},{"$f":"IF(ISNUMBER(PROMESA!S8),PROMESA!S8,\" \")","v":" "},{"$f":"PROMESA!T8","v":0},{"$f":"IF(ISNUMBER(PROMESA!U8),PROMESA!U8,\" \")","v":" "},{"$f":"IF(ISNUMBER(PROMESA!V8),PROMESA!V8,\" \")","v":" "},{"$f":"IF(ISNUMBER(PROMESA!W8),PROMESA!W8,\" \")","v":" "},{"$f":"IF(ISNUMBER(PROMESA!X8),PROMESA!X8,\" \")","v":" "},{"$f":"IF(ISNUMBER(PROMESA!Y8),PROMESA!Y8,\" \")","v":" "},{"$f":"IF(ISNUMBER(PROMESA!Z8),PROMESA!Z8,\" \")","v":" "},{"$f":"PROMESA!AA8","v":0},{"$f":"IF(ISNUMBER(PROMESA!AB8),PROMESA!AB8,\" \")","v":" "},{"$f":"PROMESA!AC8","v":0},{"$f":"PROMESA!AE8","v":"00:00:00"}]
[{"$f":"PROMESA!A9","v":6},{"$f":"PROMESA!B9","v":0},{"$f":"PROMESA!C9","v":0},{"$f":"PROMESA!D9","v":0},{"$f":"PROMESA!E9","v":0},{"$f":"IF(ISNUMBER(PROMESA!G9),PROMESA!G9,\" \")","v":" "},{"$f":"IF(ISNUMBER(PROMESA!H9),PROMESA!H9,\" \")","v":" "},{"$f":"IF(ISNUMBER(PROMESA!I9),PROMESA!I9,\" \")","v":" "},{"$f":"IF(ISNUMBER(PROMESA!J9),PROMESA!J9,\" \")","v":" "},{"$f":"IF(ISNUMBER(PROMESA!K9),PROMESA!K9,\" \")","v":" "},{"$f":"IF(ISNUMBER(PROMESA!L9),PROMESA!L9,\" \")","v":" "},{"$f":"PROMESA!M9","v":0},{"$f":"IF(ISNUMBER(PROMESA!N9),PROMESA!N9,\" \")","v":" "},{"$f":"IF(ISNUMBER(PROMESA!O9),PROMESA!O9,\" \")","v":" "},{"$f":"IF(ISNUMBER(PROMESA!P9),PROMESA!P9,\" \")","v":" "},{"$f":"IF(ISNUMBER(PROMESA!Q9),PROMESA!Q9,\" \")","v":" "},{"$f":"IF(ISNUMBER(PROMESA!R9),PROMESA!R9,\" \")","v":" "},{"$f":"IF(ISNUMBER(PROMESA!S9),PROMESA!S9,\" \")","v":" "},{"$f":"PROMESA!T9","v":0},{"$f":"IF(ISNUMBER(PROMESA!U9),PROMESA!U9,\" \")","v":" "},{"$f":"IF(ISNUMBER(PROMESA!V9),PROMESA!V9,\" \")","v":" "},{"$f":"IF(ISNUMBER(PROMESA!W9),PROMESA!W9,\" \")","v":" "},{"$f":"IF(ISNUMBER(PROMESA!X9),PROMESA!X9,\" \")","v":" "},{"$f":"IF(ISNUMBER(PROMESA!Y9),PROMESA!Y9,\" \")","v":" "},{"$f":"IF(ISNUMBER(PROMESA!Z9),PROMESA!Z9,\" \")","v":" "},{"$f":"PROMESA!AA9","v":0},{"$f":"IF(ISNUMBER(PROMESA!AB9),PROMESA!AB9,\" \")","v":" "},{"$f":"PROMESA!AC9","v":0},{"$f":"PROMESA!AE9","v":"00:00:00"}]
[{"$f":"PROMESA!A10","v":7},{"$f":"PROMESA!B10","v":0},{"$f":"PROMESA!C10","v":0},{"$f":"PROMESA!D10","v":0},{"$f":"PROMESA!E10","v":0},{"$f":"IF(ISNUMBER(PROMESA!G10),PROMESA!G10,\" \")","v":" "},{"$f":"IF(ISNUMBER(PROMESA!H10),PROMESA!H10,\" \")","v":" "},{"$f":"IF(ISNUMBER(PROMESA!I10),PROMESA!I10,\" \")","v":" "},{"$f":"IF(ISNUMBER(PROMESA!J10),PROMESA!J10,\" \")","v":" "},{"$f":"IF(ISNUMBER(PROMESA!K10),PROMESA!K10,\" \")","v":" "},{"$f":"IF(ISNUMBER(PROMESA!L10),PROMESA!L10,\" \")","v":" "},{"$f":"PROMESA!M10","v":0},{"$f":"IF(ISNUMBER(PROMESA!N10),PROMESA!N10,\" \")","v":" "},{"$f":"IF(ISNUMBER(PROMESA!O10),PROMESA!O10,\" \")","v":" "},{"$f":"IF(ISNUMBER(PROMESA!P10),PROMESA!P10,\" \")","v":" "},{"$f":"IF(ISNUMBER(PROMESA!Q10),PROMESA!Q10,\" \")","v":" "},{"$f":"IF(ISNUMBER(PROMESA!R10),PROMESA!R10,\" \")","v":" "},{"$f":"IF(ISNUMBER(PROMESA!S10),PROMESA!S10,\" \")","v":" "},{"$f":"PROMESA!T10","v":0},{"$f":"IF(ISNUMBER(PROMESA!U10),PROMESA!U10,\" \")","v":" "},{"$f":"IF(ISNUMBER(PROMESA!V10),PROMESA!V10,\" \")","v":" "},{"$f":"IF(ISNUMBER(PROMESA!W10),PROMESA!W10,\" \")","v":" "},{"$f":"IF(ISNUMBER(PROMESA!X10),PROMESA!X10,\" \")","v":" "},{"$f":"IF(ISNUMBER(PROMESA!Y10),PROMESA!Y10,\" \")","v":" "},{"$f":"IF(ISNUMBER(PROMESA!Z10),PROMESA!Z10,\" \")","v":" "},{"$f":"PROMESA!AA10","v":0},{"$f":"IF(ISNUMBER(PROMESA!AB10),PROMESA!AB10,\" \")","v":" "},{"$f":"PROMESA!AC10","v":0},{"$f":"PROMESA!AE10","v":"00:00:00"}]
[{"$f":"PROMESA!A11","v":8},{"$f":"PROMESA!B11","v":0},{"$f":"PROMESA!C11","v":0},{"$f":"PROMESA!D11","v":0},{"$f":"PROMESA!E11","v":0},{"$f":"IF(ISNUMBER(PROMESA!G11),PROMESA!G11,\" \")","v":" "},{"$f":"IF(ISNUMBER(PROMESA!H11),PROMESA!H11,\" \")","v":" "},{"$f":"IF(ISNUMBER(PROMESA!I11),PROMESA!I11,\" \")","v":" "},{"$f":"IF(ISNUMBER(PROMESA!J11),PROMESA!J11,\" \")","v":" "},{"$f":"IF(ISNUMBER(PROMESA!K11),PROMESA!K11,\" \")","v":" "},{"$f":"IF(ISNUMBER(PROMESA!L11),PROMESA!L11,\" \")","v":" "},{"$f":"PROMESA!M11","v":0},{"$f":"IF(ISNUMBER(PROMESA!N11),PROMESA!N11,\" \")","v":" "},{"$f":"IF(ISNUMBER(PROMESA!O11),PROMESA!O11,\" \")","v":" "},{"$f":"IF(ISNUMBER(PROMESA!P11),PROMESA!P11,\" \")","v":" "},{"$f":"IF(ISNUMBER(PROMESA!Q11),PROMESA!Q11,\" \")","v":" "},{"$f":"IF(ISNUMBER(PROMESA!R11),PROMESA!R11,\" \")","v":" "},{"$f":"IF(ISNUMBER(PROMESA!S11),PROMESA!S11,\" \")","v":" "},{"$f":"PROMESA!T11","v":0},{"$f":"IF(ISNUMBER(PROMESA!U11),PROMESA!U11,\" \")","v":" "},{"$f":"IF(ISNUMBER(PROMESA!V11),PROMESA!V11,\" \")","v":" "},{"$f":"IF(ISNUMBER(PROMESA!W11),PROMESA!W11,\" \")","v":" "},{"$f":"IF(ISNUMBER(PROMESA!X11),PROMESA!X11,\" \")","v":" "},{"$f":"IF(ISNUMBER(PROMESA!Y11),PROMESA!Y11,\" \")","v":" "},{"$f":"IF(ISNUMBER(PROMESA!Z11),PROMESA!Z11,\" \")","v":" "},{"$f":"PROMESA!AA11","v":0},{"$f":"IF(ISNUMBER(PROMESA!AB11),PROMESA!AB11,\" \")","v":" "},{"$f":"PROMESA!AC11","v":0},{"$f":"PROMESA!AE11","v":"00:00:00"}]
[{"$f":"PROMESA!A12","v":9},{"$f":"PROMESA!B12","v":0},{"$f":"PROMESA!C12","v":0},{"$f":"PROMESA!D12","v":0},{"$f":"PROMESA!E12","v":0},{"$f":"IF(ISNUMBER(PROMESA!G12),PROMESA!G12,\" \")","v":" "},{"$f":"IF(ISNUMBER(PROMESA!H12),PROMESA!H12,\" \")","v":" "},{"$f":"IF(ISNUMBER(PROMESA!I12),PROMESA!I12,\" \")","v":" "},{"$f":"IF(ISNUMBER(PROMESA!J12),PROMESA!J12,\" \")","v":" "},{"$f":"IF(ISNUMBER(PROMESA!K12),PROMESA!K12,\" \")","v":" "},{"$f":"IF(ISNUMBER(PROMESA!L12),PROMESA!L12,\" \")","v":" "},{"$f":"PROMESA!M12","v":0},{"$f":"IF(ISNUMBER(PROMESA!N12),PROMESA!N12,\" \")","v":" "},{"$f":"IF(ISNUMBER(PROMESA!O12),PROMESA!O12,\" \")","v":" "},{"$f":"IF(ISNUMBER(PROMESA!P12),PROMESA!P12,\" \")","v":" "},{"$f":"IF(ISNUMBER(PROMESA!Q12),PROMESA!Q12,\" \")","v":" "},{"$f":"IF(ISNUMBER(PROMESA!R12),PROMESA!R12,\" \")","v":" "},{"$f":"IF(ISNUMBER(PROMESA!S12),PROMESA!S12,\" \")","v":" "},{"$f":"PROMESA!T12","v":0},{"$f":"IF(ISNUMBER(PROMESA!U12),PROMESA!U12,\" \")","v":" "},{"$f":"IF(ISNUMBER(PROMESA!V12),PROMESA!V12,\" \")","v":" "},{"$f":"IF(ISNUMBER(PROMESA!W12),PROMESA!W12,\" \")","v":" "},{"$f":"IF(ISNUMBER(PROMESA!X12),PROMESA!X12,\" \")","v":" "},{"$f":"IF(ISNUMBER(PROMESA!Y12),PROMESA!Y12,\" \")","v":" "},{"$f":"IF(ISNUMBER(PROMESA!Z12),PROMESA!Z12,\" \")","v":" "},{"$f":"PROMESA!AA12","v":0},{"$f":"IF(ISNUMBER(PROMESA!AB12),PROMESA!AB12,\" \")","v":" "},{"$f":"PROMESA!AC12","v":0},{"$f":"PROMESA!AE12","v":"00:00:00"}]
[{"$f":"PROMESA!A13","v":10},{"$f":"PROMESA!B13","v":0},{"$f":"PROMESA!C13","v":0},{"$f":"PROMESA!D13","v":0},{"$f":"PROMESA!E13","v":0},{"$f":"IF(ISNUMBER(PROMESA!G13),PROMESA!G13,\" \")","v":" "},{"$f":"IF(ISNUMBER(PROMESA!H13),PROMESA!H13,\" \")","v":" "},{"$f":"IF(ISNUMBER(PROMESA!I13),PROMESA!I13,\" \")","v":" "},{"$f":"IF(ISNUMBER(PROMESA!J13),PROMESA!J13,\" \")","v":" "},{"$f":"IF(ISNUMBER(PROMESA!K13),PROMESA!K13,\" \")","v":" "},{"$f":"IF(ISNUMBER(PROMESA!L13),PROMESA!L13,\" \")","v":" "},{"$f":"PROMESA!M13","v":0},{"$f":"IF(ISNUMBER(PROMESA!N13),PROMESA!N13,\" \")","v":" "},{"$f":"IF(ISNUMBER(PROMESA!O13),PROMESA!O13,\" \")","v":" "},{"$f":"IF(ISNUMBER(PROMESA!P13),PROMESA!P13,\" \")","v":" "},{"$f":"IF(ISNUMBER(PROMESA!Q13),PROMESA!Q13,\" \")","v":" "},{"$f":"IF(ISNUMBER(PROMESA!R13),PROMESA!R13,\" \")","v":" "},{"$f":"IF(ISNUMBER(PROMESA!S13),PROMESA!S13,\" \")","v":" "},{"$f":"PROMESA!T13","v":0},{"$f":"IF(ISNUMBER(PROMESA!U13),PROMESA!U13,\" \")","v":" "},{"$f":"IF(ISNUMBER(PROMESA!V13),PROMESA!V13,\" \")","v":" "},{"$f":"IF(ISNUMBER(PROMESA!W13),PROMESA!W13,\" \")","v":" "},{"$f":"IF(ISNUMBER(PROMESA!X13),PROMESA!X13,\" \")","v":" "},{"$f":"IF(ISNUMBER(PROMESA!Y13),PROMESA!Y13,\" \")","v":" "},{"$f":"IF(ISNUMBER(PROMESA!Z13),PROMESA!Z13,\" \")","v":" "},{"$f":"PROMESA!AA13","v":0},{"$f":"IF(ISNUMBER(PROMESA!AB13),PROMESA!AB13,\" \")","v":" "},{"$f":"PROMESA!AC13","v":0},{"$f":"PROMESA!AE13","v":"00:00:00"}]
[{"$f":"PROMESA!A14","v":11},{"$f":"PROMESA!B14","v":0},{"$f":"PROMESA!C14","v":0},{"$f":"PROMESA!D14","v":0},{"$f":"PROMESA!E14","v":0},{"$f":"IF(ISNUMBER(PROMESA!G14),PROMESA!G14,\" \")","v":" "},{"$f":"IF(ISNUMBER(PROMESA!H14),PROMESA!H14,\" \")","v":" "},{"$f":"IF(ISNUMBER(PROMESA!I14),PROMESA!I14,\" \")","v":" "},{"$f":"IF(ISNUMBER(PROMESA!J14),PROMESA!J14,\" \")","v":" "},{"$f":"IF(ISNUMBER(PROMESA!K14),PROMESA!K14,\" \")","v":" "},{"$f":"IF(ISNUMBER(PROMESA!L14),PROMESA!L14,\" \")","v":" "},{"$f":"PROMESA!M14","v":0},{"$f":"IF(ISNUMBER(PROMESA!N14),PROMESA!N14,\" \")","v":" "},{"$f":"IF(ISNUMBER(PROMESA!O14),PROMESA!O14,\" \")","v":" "},{"$f":"IF(ISNUMBER(PROMESA!P14),PROMESA!P14,\" \")","v":" "},{"$f":"IF(ISNUMBER(PROMESA!Q14),PROMESA!Q14,\" \")","v":" "},{"$f":"IF(ISNUMBER(PROMESA!R14),PROMESA!R14,\" \")","v":" "},{"$f":"IF(ISNUMBER(PROMESA!S14),PROMESA!S14,\" \")","v":" "},{"$f":"PROMESA!T14","v":0},{"$f":"IF(ISNUMBER(PROMESA!U14),PROMESA!U14,\" \")","v":" "},{"$f":"IF(ISNUMBER(PROMESA!V14),PROMESA!V14,\" \")","v":" "},{"$f":"IF(ISNUMBER(PROMESA!W14),PROMESA!W14,\" \")","v":" "},{"$f":"IF(ISNUMBER(PROMESA!X14),PROMESA!X14,\" \")","v":" "},{"$f":"IF(ISNUMBER(PROMESA!Y14),PROMESA!Y14,\" \")","v":" "},{"$f":"IF(ISNUMBER(PROMESA!Z14),PROMESA!Z14,\" \")","v":" "},{"$f":"PROMESA!AA14","v":0},{"$f":"IF(ISNUMBER(PROMESA!AB14),PROMESA!AB14,\" \")","v":" "},{"$f":"PROMESA!AC14","v":0},{"$f":"PROMESA!AE14","v":"00:00:00"}]
[{"$f":"PROMESA!A15","v":12},{"$f":"PROMESA!B15","v":0},{"$f":"PROMESA!C15","v":0},{"$f":"PROMESA!D15","v":0},{"$f":"PROMESA!E15","v":0},{"$f":"IF(ISNUMBER(PROMESA!G15),PROMESA!G15,\" \")","v":" "},{"$f":"IF(ISNUMBER(PROMESA!H15),PROMESA!H15,\" \")","v":" "},{"$f":"IF(ISNUMBER(PROMESA!I15),PROMESA!I15,\" \")","v":" "},{"$f":"IF(ISNUMBER(PROMESA!J15),PROMESA!J15,\" \")","v":" "},{"$f":"IF(ISNUMBER(PROMESA!K15),PROMESA!K15,\" \")","v":" "},{"$f":"IF(ISNUMBER(PROMESA!L15),PROMESA!L15,\" \")","v":" "},{"$f":"PROMESA!M15","v":0},{"$f":"IF(ISNUMBER(PROMESA!N15),PROMESA!N15,\" \")","v":" "},{"$f":"IF(ISNUMBER(PROMESA!O15),PROMESA!O15,\" \")","v":" "},{"$f":"IF(ISNUMBER(PROMESA!P15),PROMESA!P15,\" \")","v":" "},{"$f":"IF(ISNUMBER(PROMESA!Q15),PROMESA!Q15,\" \")","v":" "},{"$f":"IF(ISNUMBER(PROMESA!R15),PROMESA!R15,\" \")","v":" "},{"$f":"IF(ISNUMBER(PROMESA!S15),PROMESA!S15,\" \")","v":" "},{"$f":"PROMESA!T15","v":0},{"$f":"IF(ISNUMBER(PROMESA!U15),PROMESA!U15,\" \")","v":" "},{"$f":"IF(ISNUMBER(PROMESA!V15),PROMESA!V15,\" \")","v":" "},{"$f":"IF(ISNUMBER(PROMESA!W15),PROMESA!W15,\" \")","v":" "},{"$f":"IF(ISNUMBER(PROMESA!X15),PROMESA!X15,\" \")","v":" "},{"$f":"IF(ISNUMBER(PROMESA!Y15),PROMESA!Y15,\" \")","v":" "},{"$f":"IF(ISNUMBER(PROMESA!Z15),PROMESA!Z15,\" \")","v":" "},{"$f":"PROMESA!AA15","v":0},{"$f":"IF(ISNUMBER(PROMESA!AB15),PROMESA!AB15,\" \")","v":" "},{"$f":"PROMESA!AC15","v":0},{"$f":"PROMESA!AE15","v":"00:00:00"}]
[{"$f":"PROMESA!A16","v":13},{"$f":"PROMESA!B16","v":0},{"$f":"PROMESA!C16","v":0},{"$f":"PROMESA!D16","v":0},{"$f":"PROMESA!E16","v":0},{"$f":"IF(ISNUMBER(PROMESA!G16),PROMESA!G16,\" \")","v":" "},{"$f":"IF(ISNUMBER(PROMESA!H16),PROMESA!H16,\" \")","v":" "},{"$f":"IF(ISNUMBER(PROMESA!I16),PROMESA!I16,\" \")","v":" "},{"$f":"IF(ISNUMBER(PROMESA!J16),PROMESA!J16,\" \")","v":" "},{"$f":"IF(ISNUMBER(PROMESA!K16),PROMESA!K16,\" \")","v":" "},{"$f":"IF(ISNUMBER(PROMESA!L16),PROMESA!L16,\" \")","v":" "},{"$f":"PROMESA!M16","v":0},{"$f":"IF(ISNUMBER(PROMESA!N16),PROMESA!N16,\" \")","v":" "},{"$f":"IF(ISNUMBER(PROMESA!O16),PROMESA!O16,\" \")","v":" "},{"$f":"IF(ISNUMBER(PROMESA!P16),PROMESA!P16,\" \")","v":" "},{"$f":"IF(ISNUMBER(PROMESA!Q16),PROMESA!Q16,\" \")","v":" "},{"$f":"IF(ISNUMBER(PROMESA!R16),PROMESA!R16,\" \")","v":" "},{"$f":"IF(ISNUMBER(PROMESA!S16),PROMESA!S16,\" \")","v":" "},{"$f":"PROMESA!T16","v":0},{"$f":"IF(ISNUMBER(PROMESA!U16),PROMESA!U16,\" \")","v":" "},{"$f":"IF(ISNUMBER(PROMESA!V16),PROMESA!V16,\" \")","v":" "},{"$f":"IF(ISNUMBER(PROMESA!W16),PROMESA!W16,\" \")","v":" "},{"$f":"IF(ISNUMBER(PROMESA!X16),PROMESA!X16,\" \")","v":" "},{"$f":"IF(ISNUMBER(PROMESA!Y16),PROMESA!Y16,\" \")","v":" "},{"$f":"IF(ISNUMBER(PROMESA!Z16),PROMESA!Z16,\" \")","v":" "},{"$f":"PROMESA!AA16","v":0},{"$f":"IF(ISNUMBER(PROMESA!AB16),PROMESA!AB16,\" \")","v":" "},{"$f":"PROMESA!AC16","v":0},{"$f":"PROMESA!AE16","v":"00:00:00"}]
[{"$f":"PROMESA!A17","v":14},{"$f":"PROMESA!B17","v":0},{"$f":"PROMESA!C17","v":0},{"$f":"PROMESA!D17","v":0},{"$f":"PROMESA!E17","v":0},{"$f":"IF(ISNUMBER(PROMESA!G17),PROMESA!G17,\" \")","v":" "},{"$f":"IF(ISNUMBER(PROMESA!H17),PROMESA!H17,\" \")","v":" "},{"$f":"IF(ISNUMBER(PROMESA!I17),PROMESA!I17,\" \")","v":" "},{"$f":"IF(ISNUMBER(PROMESA!J17),PROMESA!J17,\" \")","v":" "},{"$f":"IF(ISNUMBER(PROMESA!K17),PROMESA!K17,\" \")","v":" "},{"$f":"IF(ISNUMBER(PROMESA!L17),PROMESA!L17,\" \")","v":" "},{"$f":"PROMESA!M17","v":0},{"$f":"IF(ISNUMBER(PROMESA!N17),PROMESA!N17,\" \")","v":" "},{"$f":"IF(ISNUMBER(PROMESA!O17),PROMESA!O17,\" \")","v":" "},{"$f":"IF(ISNUMBER(PROMESA!P17),PROMESA!P17,\" \")","v":" "},{"$f":"IF(ISNUMBER(PROMESA!Q17),PROMESA!Q17,\" \")","v":" "},{"$f":"IF(ISNUMBER(PROMESA!R17),PROMESA!R17,\" \")","v":" "},{"$f":"IF(ISNUMBER(PROMESA!S17),PROMESA!S17,\" \")","v":" "},{"$f":"PROMESA!T17","v":0},{"$f":"IF(ISNUMBER(PROMESA!U17),PROMESA!U17,\" \")","v":" "},{"$f":"IF(ISNUMBER(PROMESA!V17),PROMESA!V17,\" \")","v":" "},{"$f":"IF(ISNUMBER(PROMESA!W17),PROMESA!W17,\" \")","v":" "},{"$f":"IF(ISNUMBER(PROMESA!X17),PROMESA!X17,\" \")","v":" "},{"$f":"IF(ISNUMBER(PROMESA!Y17),PROMESA!Y17,\" \")","v":" "},{"$f":"IF(ISNUMBER(PROMESA!Z17),PROMESA!Z17,\" \")","v":" "},{"$f":"PROMESA!AA17","v":0},{"$f":"IF(ISNUMBER(PROMESA!AB17),PROMESA!AB17,\" \")","v":" "},{"$f":"PROMESA!AC17","v":0},{"$f":"PROMESA!AE17","v":"00:00:00"}]
[{"$f":"PROMESA!A18","v":15},{"$f":"PROMESA!B18","v":0},{"$f":"PROMESA!C18","v":0},{"$f":"PROMESA!D18","v":0},{"$f":"PROMESA!E18","v":0},{"$f":"IF(ISNUMBER(PROMESA!G18),PROMESA!G18,\" \")","v":" "},{"$f":"IF(ISNUMBER(PROMESA!H18),PROMESA!H18,\" \")","v":" "},{"$f":"IF(ISNUMBER(PROMESA!I18),PROMESA!I18,\" \")","v":" "},{"$f":"IF(ISNUMBER(PROMESA!J18),PROMESA!J18,\" \")","v":" "},{"$f":"IF(ISNUMBER(PROMESA!K18),PROMESA!K18,\" \")","v":" "},{"$f":"IF(ISNUMBER(PROMESA!L18),PROMESA!L18,\" \")","v":" "},{"$f":"PROMESA!M18","v":0},{"$f":"IF(ISNUMBER(PROMESA!N18),PROMESA!N18,\" \")","v":" "},{"$f":"IF(ISNUMBER(PROMESA!O18),PROMESA!O18,\" \")","v":" "},{"$f":"IF(ISNUMBER(PROMESA!P18),PROMESA!P18,\" \")","v":" "},{"$f":"IF(ISNUMBER(PROMESA!Q18),PROMESA!Q18,\" \")","v":" "},{"$f":"IF(ISNUMBER(PROMESA!R18),PROMESA!R18,\" \")","v":" "},{"$f":"IF(ISNUMBER(PROMESA!S18),PROMESA!S18,\" \")","v":" "},{"$f":"PROMESA!T18","v":0},{"$f":"IF(ISNUMBER(PROMESA!U18),PROMESA!U18,\" \")","v":" "},{"$f":"IF(ISNUMBER(PROMESA!V18),PROMESA!V18,\" \")","v":" "},{"$f":"IF(ISNUMBER(PROMESA!W18),PROMESA!W18,\" \")","v":" "},{"$f":"IF(ISNUMBER(PROMESA!X18),PROMESA!X18,\" \")","v":" "},{"$f":"IF(ISNUMBER(PROMESA!Y18),PROMESA!Y18,\" \")","v":" "},{"$f":"IF(ISNUMBER(PROMESA!Z18),PROMESA!Z18,\" \")","v":" "},{"$f":"PROMESA!AA18","v":0},{"$f":"IF(ISNUMBER(PROMESA!AB18),PROMESA!AB18,\" \")","v":" "},{"$f":"PROMESA!AC18","v":0},{"$f":"PROMESA!AE18","v":"00:00:00"}]
[{"$f":"PROMESA!A19","v":16},{"$f":"PROMESA!B19","v":0},{"$f":"PROMESA!C19","v":0},{"$f":"PROMESA!D19","v":0},{"$f":"PROMESA!E19","v":0},{"$f":"IF(ISNUMBER(PROMESA!G19),PROMESA!G19,\" \")","v":" "},{"$f":"IF(ISNUMBER(PROMESA!H19),PROMESA!H19,\" \")","v":" "},{"$f":"IF(ISNUMBER(PROMESA!I19),PROMESA!I19,\" \")","v":" "},{"$f":"IF(ISNUMBER(PROMESA!J19),PROMESA!J19,\" \")","v":" "},{"$f":"IF(ISNUMBER(PROMESA!K19),PROMESA!K19,\" \")","v":" "},{"$f":"IF(ISNUMBER(PROMESA!L19),PROMESA!L19,\" \")","v":" "},{"$f":"PROMESA!M19","v":0},{"$f":"IF(ISNUMBER(PROMESA!N19),PROMESA!N19,\" \")","v":" "},{"$f":"IF(ISNUMBER(PROMESA!O19),PROMESA!O19,\" \")","v":" "},{"$f":"IF(ISNUMBER(PROMESA!P19),PROMESA!P19,\" \")","v":" "},{"$f":"IF(ISNUMBER(PROMESA!Q19),PROMESA!Q19,\" \")","v":" "},{"$f":"IF(ISNUMBER(PROMESA!R19),PROMESA!R19,\" \")","v":" "},{"$f":"IF(ISNUMBER(PROMESA!S19),PROMESA!S19,\" \")","v":" "},{"$f":"PROMESA!T19","v":0},{"$f":"IF(ISNUMBER(PROMESA!U19),PROMESA!U19,\" \")","v":" "},{"$f":"IF(ISNUMBER(PROMESA!V19),PROMESA!V19,\" \")","v":" "},{"$f":"IF(ISNUMBER(PROMESA!W19),PROMESA!W19,\" \")","v":" "},{"$f":"IF(ISNUMBER(PROMESA!X19),PROMESA!X19,\" \")","v":" "},{"$f":"IF(ISNUMBER(PROMESA!Y19),PROMESA!Y19,\" \")","v":" "},{"$f":"IF(ISNUMBER(PROMESA!Z19),PROMESA!Z19,\" \")","v":" "},{"$f":"PROMESA!AA19","v":0},{"$f":"IF(ISNUMBER(PROMESA!AB19),PROMESA!AB19,\" \")","v":" "},{"$f":"PROMESA!AC19","v":0},{"$f":"PROMESA!AE19","v":"00:00:00"}]
[{"$f":"PROMESA!A20","v":17},{"$f":"PROMESA!B20","v":0},{"$f":"PROMESA!C20","v":0},{"$f":"PROMESA!D20","v":0},{"$f":"PROMESA!E20","v":0},{"$f":"IF(ISNUMBER(PROMESA!G20),PROMESA!G20,\" \")","v":" "},{"$f":"IF(ISNUMBER(PROMESA!H20),PROMESA!H20,\" \")","v":" "},{"$f":"IF(ISNUMBER(PROMESA!I20),PROMESA!I20,\" \")","v":" "},{"$f":"IF(ISNUMBER(PROMESA!J20),PROMESA!J20,\" \")","v":" "},{"$f":"IF(ISNUMBER(PROMESA!K20),PROMESA!K20,\" \")","v":" "},{"$f":"IF(ISNUMBER(PROMESA!L20),PROMESA!L20,\" \")","v":" "},{"$f":"PROMESA!M20","v":0},{"$f":"IF(ISNUMBER(PROMESA!N20),PROMESA!N20,\" \")","v":" "},{"$f":"IF(ISNUMBER(PROMESA!O20),PROMESA!O20,\" \")","v":" "},{"$f":"IF(ISNUMBER(PROMESA!P20),PROMESA!P20,\" \")","v":" "},{"$f":"IF(ISNUMBER(PROMESA!Q20),PROMESA!Q20,\" \")","v":" "},{"$f":"IF(ISNUMBER(PROMESA!R20),PROMESA!R20,\" \")","v":" "},{"$f":"IF(ISNUMBER(PROMESA!S20),PROMESA!S20,\" \")","v":" "},{"$f":"PROMESA!T20","v":0},{"$f":"IF(ISNUMBER(PROMESA!U20),PROMESA!U20,\" \")","v":" "},{"$f":"IF(ISNUMBER(PROMESA!V20),PROMESA!V20,\" \")","v":" "},{"$f":"IF(ISNUMBER(PROMESA!W20),PROMESA!W20,\" \")","v":" "},{"$f":"IF(ISNUMBER(PROMESA!X20),PROMESA!X20,\" \")","v":" "},{"$f":"IF(ISNUMBER(PROMESA!Y20),PROMESA!Y20,\" \")","v":" "},{"$f":"IF(ISNUMBER(PROMESA!Z20),PROMESA!Z20,\" \")","v":" "},{"$f":"PROMESA!AA20","v":0},{"$f":"IF(ISNUMBER(PROMESA!AB20),PROMESA!AB20,\" \")","v":" "},{"$f":"PROMESA!AC20","v":0},{"$f":"PROMESA!AE20","v":"00:00:00"}]
[{"$f":"PROMESA!A21","v":18},{"$f":"PROMESA!B21","v":0},{"$f":"PROMESA!C21","v":0},{"$f":"PROMESA!D21","v":0},{"$f":"PROMESA!E21","v":0},{"$f":"IF(ISNUMBER(PROMESA!G21),PROMESA!G21,\" \")","v":" "},{"$f":"IF(ISNUMBER(PROMESA!H21),PROMESA!H21,\" \")","v":" "},{"$f":"IF(ISNUMBER(PROMESA!I21),PROMESA!I21,\" \")","v":" "},{"$f":"IF(ISNUMBER(PROMESA!J21),PROMESA!J21,\" \")","v":" "},{"$f":"IF(ISNUMBER(PROMESA!K21),PROMESA!K21,\" \")","v":" "},{"$f":"IF(ISNUMBER(PROMESA!L21),PROMESA!L21,\" \")","v":" "},{"$f":"PROMESA!M21","v":0},{"$f":"IF(ISNUMBER(PROMESA!N21),PROMESA!N21,\" \")","v":" "},{"$f":"IF(ISNUMBER(PROMESA!O21),PROMESA!O21,\" \")","v":" "},{"$f":"IF(ISNUMBER(PROMESA!P21),PROMESA!P21,\" \")","v":" "},{"$f":"IF(ISNUMBER(PROMESA!Q21),PROMESA!Q21,\" \")","v":" "},{"$f":"IF(ISNUMBER(PROMESA!R21),PROMESA!R21,\" \")","v":" "},{"$f":"IF(ISNUMBER(PROMESA!S21),PROMESA!S21,\" \")","v":" "},{"$f":"PROMESA!T21","v":0},{"$f":"IF(ISNUMBER(PROMESA!U21),PROMESA!U21,\" \")","v":" "},{"$f":"IF(ISNUMBER(PROMESA!V21),PROMESA!V21,\" \")","v":" "},{"$f":"IF(ISNUMBER(PROMESA!W21),PROMESA!W21,\" \")","v":" "},{"$f":"IF(ISNUMBER(PROMESA!X21),PROMESA!X21,\" \")","v":" "},{"$f":"IF(ISNUMBER(PROMESA!Y21),PROMESA!Y21,\" \")","v":" "},{"$f":"IF(ISNUMBER(PROMESA!Z21),PROMESA!Z21,\" \")","v":" "},{"$f":"PROMESA!AA21","v":0},{"$f":"IF(ISNUMBER(PROMESA!AB21),PROMESA!AB21,\" \")","v":" "},{"$f":"PROMESA!AC21","v":0},{"$f":"PROMESA!AE21","v":"00:00:00"}]
[{"$f":"PROMESA!A22","v":19},{"$f":"PROMESA!B22","v":0},{"$f":"PROMESA!C22","v":0},{"$f":"PROMESA!D22","v":0},{"$f":"PROMESA!E22","v":0},{"$f":"IF(ISNUMBER(PROMESA!G22),PROMESA!G22,\" \")","v":" "},{"$f":"IF(ISNUMBER(PROMESA!H22),PROMESA!H22,\" \")","v":" "},{"$f":"IF(ISNUMBER(PROMESA!I22),PROMESA!I22,\" \")","v":" "},{"$f":"IF(ISNUMBER(PROMESA!J22),PROMESA!J22,\" \")","v":" "},{"$f":"IF(ISNUMBER(PROMESA!K22),PROMESA!K22,\" \")","v":" "},{"$f":"IF(ISNUMBER(PROMESA!L22),PROMESA!L22,\" \")","v":" "},{"$f":"PROMESA!M22","v":0},{"$f":"IF(ISNUMBER(PROMESA!N22),PROMESA!N22,\" \")","v":" "},{"$f":"IF(ISNUMBER(PROMESA!O22),PROMESA!O22,\" \")","v":" "},{"$f":"IF(ISNUMBER(PROMESA!P22),PROMESA!P22,\" \")","v":" "},{"$f":"IF(ISNUMBER(PROMESA!Q22),PROMESA!Q22,\" \")","v":" "},{"$f":"IF(ISNUMBER(PROMESA!R22),PROMESA!R22,\" \")","v":" "},{"$f":"IF(ISNUMBER(PROMESA!S22),PROMESA!S22,\" \")","v":" "},{"$f":"PROMESA!T22","v":0},{"$f":"IF(ISNUMBER(PROMESA!U22),PROMESA!U22,\" \")","v":" "},{"$f":"IF(ISNUMBER(PROMESA!V22),PROMESA!V22,\" \")","v":" "},{"$f":"IF(ISNUMBER(PROMESA!W22),PROMESA!W22,\" \")","v":" "},{"$f":"IF(ISNUMBER(PROMESA!X22),PROMESA!X22,\" \")","v":" "},{"$f":"IF(ISNUMBER(PROMESA!Y22),PROMESA!Y22,\" \")","v":" "},{"$f":"IF(ISNUMBER(PROMESA!Z22),PROMESA!Z22,\" \")","v":" "},{"$f":"PROMESA!AA22","v":0},{"$f":"IF(ISNUMBER(PROMESA!AB22),PROMESA!AB22,\" \")","v":" "},{"$f":"PROMESA!AC22","v":0},{"$f":"PROMESA!AE22","v":"00:00:00"}]
[{"$f":"PROMESA!A23","v":20},{"$f":"PROMESA!B23","v":0},{"$f":"PROMESA!C23","v":0},{"$f":"PROMESA!D23","v":0},{"$f":"PROMESA!E23","v":0},{"$f":"IF(ISNUMBER(PROMESA!G23),PROMESA!G23,\" \")","v":" "},{"$f":"IF(ISNUMBER(PROMESA!H23),PROMESA!H23,\" \")","v":" "},{"$f":"IF(ISNUMBER(PROMESA!I23),PROMESA!I23,\" \")","v":" "},{"$f":"IF(ISNUMBER(PROMESA!J23),PROMESA!J23,\" \")","v":" "},{"$f":"IF(ISNUMBER(PROMESA!K23),PROMESA!K23,\" \")","v":" "},{"$f":"IF(ISNUMBER(PROMESA!L23),PROMESA!L23,\" \")","v":" "},{"$f":"PROMESA!M23","v":0},{"$f":"IF(ISNUMBER(PROMESA!N23),PROMESA!N23,\" \")","v":" "},{"$f":"IF(ISNUMBER(PROMESA!O23),PROMESA!O23,\" \")","v":" "},{"$f":"IF(ISNUMBER(PROMESA!P23),PROMESA!P23,\" \")","v":" "},{"$f":"IF(ISNUMBER(PROMESA!Q23),PROMESA!Q23,\" \")","v":" "},{"$f":"IF(ISNUMBER(PROMESA!R23),PROMESA!R23,\" \")","v":" "},{"$f":"IF(ISNUMBER(PROMESA!S23),PROMESA!S23,\" \")","v":" "},{"$f":"PROMESA!T23","v":0},{"$f":"IF(ISNUMBER(PROMESA!U23),PROMESA!U23,\" \")","v":" "},{"$f":"IF(ISNUMBER(PROMESA!V23),PROMESA!V23,\" \")","v":" "},{"$f":"IF(ISNUMBER(PROMESA!W23),PROMESA!W23,\" \")","v":" "},{"$f":"IF(ISNUMBER(PROMESA!X23),PROMESA!X23,\" \")","v":" "},{"$f":"IF(ISNUMBER(PROMESA!Y23),PROMESA!Y23,\" \")","v":" "},{"$f":"IF(ISNUMBER(PROMESA!Z23),PROMESA!Z23,\" \")","v":" "},{"$f":"PROMESA!AA23","v":0},{"$f":"IF(ISNUMBER(PROMESA!AB23),PROMESA!AB23,\" \")","v":" "},{"$f":"PROMESA!AC23","v":0},{"$f":"PROMESA!AE23","v":"00:00:00"}]
[]
["KATEGORIE POUSSIN"]
[]
[null,null,null,null,null,{"$f":"POUSSIN!G2","v":"1.kolo"},null,null,null,null,null,null,{"$f":"POUSSIN!N2","v":"2.kolo"},null,null,null,null,null,null,{"$f":"POUSSIN!U2","v":"3.kolo"}]
[{"$f":"POUSSIN!A3","v":"pořadí"},{"$f":"POUSSIN!B3","v":"číslo"},{"$f":"POUSSIN!C3","v":"jméno"},{"$f":"POUSSIN!D3","v":"narození"},{"$f":"POUSSIN!E3","v":"klub"},{"$f":"POUSSIN!G3","v":1},{"$f":"POUSSIN!H3","v":2},{"$f":"POUSSIN!I3","v":3},{"$f":"POUSSIN!J3","v":4},{"$f":"POUSSIN!K3","v":5},{"$f":"POUSSIN!L3","v":6},{"$f":"POUSSIN!M3","v":"∑1"},{"$f":"POUSSIN!N3","v":1},{"$f":"POUSSIN!O3","v":2},{"$f":"POUSSIN!P3","v":3},{"$f":"POUSSIN!Q3","v":4},{"$f":"POUSSIN!R3","v":5},{"$f":"POUSSIN!S3","v":6},{"$f":"POUSSIN!T3","v":"∑2"},{"$f":"POUSSIN!U3","v":1},{"$f":"POUSSIN!V3","v":2},{"$f":"POUSSIN!W3","v":3},{"$f":"POUSSIN!X3","v":4},{"$f":"POUSSIN!Y3","v":5},{"$f":"POUSSIN!Z3","v":6},{"$f":"POUSSIN!AA3","v":"∑3"},{"$f":"POUSSIN!AB3","v":"penalizace"},{"$f":"POUSSIN!AC3","v":"∑∑"},{"$f":"POUSSIN!AE3","v":"čas"}]
[{"$f":"POUSSIN!A4","v":1},{"$f":"POUSSIN!B4","v":0},{"$f":"POUSSIN!C4","v":0},{"$f":"POUSSIN!D4","v":0},{"$f":"POUSSIN!E4","v":0},{"$f":"IF(ISNUMBER(POUSSIN!G4),POUSSIN!G4,\" \")","v":" "},{"$f":"IF(ISNUMBER(POUSSIN!H4),POUSSIN!H4,\" \")","v":" "},{"$f":"IF(ISNUMBER(POUSSIN!I4),POUSSIN!I4,\" \")","v":" "},{"$f":"IF(ISNUMBER(POUSSIN!J4),POUSSIN!J4,\" \")","v":" "},{"$f":"IF(ISNUMBER(POUSSIN!K4),POUSSIN!K4,\" \")","v":" "},{"$f":"IF(ISNUMBER(POUSSIN!L4),POUSSIN!L4,\" \")","v":" "},{"$f":"IF(ISNUMBER(POUSSIN!M4),POUSSIN!M4,\" \")","v":0},{"$f":"IF(ISNUMBER(POUSSIN!N4),POUSSIN!N4,\" \")","v":" "},{"$f":"IF(ISNUMBER(POUSSIN!O4),POUSSIN!O4,\" \")","v":" "},{"$f":"IF(ISNUMBER(POUSSIN!P4),POUSSIN!P4,\" \")","v":" "},{"$f":"IF(ISNUMBER(POUSSIN!Q4),POUSSIN!Q4,\" \")","v":" "},{"$f":"IF(ISNUMBER(POUSSIN!R4),POUSSIN!R4,\" \")","v":" "},{"$f":"IF(ISNUMBER(POUSSIN!S4),POUSSIN!S4,\" \")","v":" "},{"$f":"IF(ISNUMBER(POUSSIN!T4),POUSSIN!T4,\" \")","v":0},{"$f":"IF(ISNUMBER(POUSSIN!U4),POUSSIN!U4,\" \")","v":" "},{"$f":"IF(ISNUMBER(POUSSIN!V4),POUSSIN!V4,\" \")","v":" "},{"$f":"IF(ISNUMBER(POUSSIN!W4),POUSSIN!W4,\" \")","v":" "},{"$f":"IF(ISNUMBER(POUSSIN!X4),POUSSIN!X4,\" \")","v":" "},{"$f":"IF(ISNUMBER(POUSSIN!Y4),POUSSIN!Y4,\" \")","v":" "},{"$f":"IF(ISNUMBER(POUSSIN!Z4),POUSSIN!Z4,\" \")","v":" "},{"$f":"IF(ISNUMBER(POUSSIN!AA4),POUSSIN!AA4,\" \")","v":0},{"$f":"IF(ISNUMBER(POUSSIN!AB4),POUSSIN!AB4,\" \")","v":" "},{"$f":"POUSSIN!AC4","v":0},{"$f":"POUSSIN!AE4","v":"00:00:00"}]
[{"$f":"POUSSIN!A5","v":2},{"$f":"POUSSIN!B5","v":0},{"$f":"POUSSIN!C5","v":0},{"$f":"POUSSIN!D5","v":0},{"$f":"POUSSIN!E5","v":0},{"$f":"IF(ISNUMBER(POUSSIN!G5),POUSSIN!G5,\" \")","v":" "},{"$f":"IF(ISNUMBER(POUSSIN!H5),POUSSIN!H5,\" \")","v":" "},{"$f":"IF(ISNUMBER(POUSSIN!I5),POUSSIN!I5,\" \")","v":" "},{"$f":"IF(ISNUMBER(POUSSIN!J5),POUSSIN!J5,\" \")","v":" "},{"$f":"IF(ISNUMBER(POUSSIN!K5),POUSSIN!K5,\" \")","v":" "},{"$f":"IF(ISNUMBER(POUSSIN!L5),POUSSIN!L5,\" \")","v":" "},{"$f":"IF(ISNUMBER(POUSSIN!M5),POUSSIN!M5,\" \")","v":0},{"$f":"IF(ISNUMBER(POUSSIN!N5),POUSSIN!N5,\" \")","v":" "},{"$f":"IF(ISNUMBER(POUSSIN!O5),POUSSIN!O5,\" \")","v":" "},{"$f":"IF(ISNUMBER(POUSSIN!P5),POUSSIN!P5,\" \")","v":" "},{"$f":"IF(ISNUMBER(POUSSIN!Q5),POUSSIN!Q5,\" \")","v":" "},{"$f":"IF(ISNUMBER(POUSSIN!R5),POUSSIN!R5,\" \")","v":" "},{"$f":"IF(ISNUMBER(POUSSIN!S5),POUSSIN!S5,\" \")","v":" "},{"$f":"IF(ISNUMBER(POUSSIN!T5),POUSSIN!T5,\" \")","v":0},{"$f":"IF(ISNUMBER(POUSSIN!U5),POUSSIN!U5,\" \")","v":" "},{"$f":"IF(ISNUMBER(POUSSIN!V5),POUSSIN!V5,\" \")","v":" "},{"$f":"IF(ISNUMBER(POUSSIN!W5),POUSSIN!W5,\" \")","v":" "},{"$f":"IF(ISNUMBER(POUSSIN!X5),POUSSIN!X5,\" \")","v":" "},{"$f":"IF(ISNUMBER(POUSSIN!Y5),POUSSIN!Y5,\" \")","v":" "},{"$f":"IF(ISNUMBER(POUSSIN!Z5),POUSSIN!Z5,\" \")","v":" "},{"$f":"IF(ISNUMBER(POUSSIN!AA5),POUSSIN!AA5,\" \")","v":0},{"$f":"IF(ISNUMBER(POUSSIN!AB5),POUSSIN!AB5,\" \")","v":" "},{"$f":"POUSSIN!AC5","v":0},{"$f":"POUSSIN!AE5","v":"00:00:00"}]
[{"$f":"POUSSIN!A6","v":3},{"$f":"POUSSIN!B6","v":0},{"$f":"POUSSIN!C6","v":0},{"$f":"POUSSIN!D6","v":0},{"$f":"POUSSIN!E6","v":0},{"$f":"IF(ISNUMBER(POUSSIN!G6),POUSSIN!G6,\" \")","v":" "},{"$f":"IF(ISNUMBER(POUSSIN!H6),POUSSIN!H6,\" \")","v":" "},{"$f":"IF(ISNUMBER(POUSSIN!I6),POUSSIN!I6,\" \")","v":" "},{"$f":"IF(ISNUMBER(POUSSIN!J6),POUSSIN!J6,\" \")","v":" "},{"$f":"IF(ISNUMBER(POUSSIN!K6),POUSSIN!K6,\" \")","v":" "},{"$f":"IF(ISNUMBER(POUSSIN!L6),POUSSIN!L6,\" \")","v":" "},{"$f":"IF(ISNUMBER(POUSSIN!M6),POUSSIN!M6,\" \")","v":0},{"$f":"IF(ISNUMBER(POUSSIN!N6),POUSSIN!N6,\" \")","v":" "},{"$f":"IF(ISNUMBER(POUSSIN!O6),POUSSIN!O6,\" \")","v":" "},{"$f":"IF(ISNUMBER(POUSSIN!P6),POUSSIN!P6,\" \")","v":" "},{"$f":"IF(ISNUMBER(POUSSIN!Q6),POUSSIN!Q6,\" \")","v":" "},{"$f":"IF(ISNUMBER(POUSSIN!R6),POUSSIN!R6,\" \")","v":" "},{"$f":"IF(ISNUMBER(POUSSIN!S6),POUSSIN!S6,\" \")","v":" "},{"$f":"IF(ISNUMBER(POUSSIN!T6),POUSSIN!T6,\" \")","v":0},{"$f":"IF(ISNUMBER(POUSSIN!U6),POUSSIN!U6,\" \")","v":" "},{"$f":"IF(ISNUMBER(POUSSIN!V6),POUSSIN!V6,\" \")","v":" "},{"$f":"IF(ISNUMBER(POUSSIN!W6),POUSSIN!W6,\" \")","v":" "},{"$f":"IF(ISNUMBER(POUSSIN!X6),POUSSIN!X6,\" \")","v":" "},{"$f":"IF(ISNUMBER(POUSSIN!Y6),POUSSIN!Y6,\" \")","v":" "},{"$f":"IF(ISNUMBER(POUSSIN!Z6),POUSSIN!Z6,\" \")","v":" "},{"$f":"IF(ISNUMBER(POUSSIN!AA6),POUSSIN!AA6,\" \")","v":0},{"$f":"IF(ISNUMBER(POUSSIN!AB6),POUSSIN!AB6,\" \")","v":" "},{"$f":"POUSSIN!AC6","v":0},{"$f":"POUSSIN!AE6","v":"00:00:00"}]
[{"$f":"POUSSIN!A7","v":4},{"$f":"POUSSIN!B7","v":0},{"$f":"POUSSIN!C7","v":0},{"$f":"POUSSIN!D7","v":0},{"$f":"POUSSIN!E7","v":0},{"$f":"IF(ISNUMBER(POUSSIN!G7),POUSSIN!G7,\" \")","v":" "},{"$f":"IF(ISNUMBER(POUSSIN!H7),POUSSIN!H7,\" \")","v":" "},{"$f":"IF(ISNUMBER(POUSSIN!I7),POUSSIN!I7,\" \")","v":" "},{"$f":"IF(ISNUMBER(POUSSIN!J7),POUSSIN!J7,\" \")","v":" "},{"$f":"IF(ISNUMBER(POUSSIN!K7),POUSSIN!K7,\" \")","v":" "},{"$f":"IF(ISNUMBER(POUSSIN!L7),POUSSIN!L7,\" \")","v":" "},{"$f":"IF(ISNUMBER(POUSSIN!M7),POUSSIN!M7,\" \")","v":0},{"$f":"IF(ISNUMBER(POUSSIN!N7),POUSSIN!N7,\" \")","v":" "},{"$f":"IF(ISNUMBER(POUSSIN!O7),POUSSIN!O7,\" \")","v":" "},{"$f":"IF(ISNUMBER(POUSSIN!P7),POUSSIN!P7,\" \")","v":" "},{"$f":"IF(ISNUMBER(POUSSIN!Q7),POUSSIN!Q7,\" \")","v":" "},{"$f":"IF(ISNUMBER(POUSSIN!R7),POUSSIN!R7,\" \")","v":" "},{"$f":"IF(ISNUMBER(POUSSIN!S7),POUSSIN!S7,\" \")","v":" "},{"$f":"IF(ISNUMBER(POUSSIN!T7),POUSSIN!T7,\" \")","v":0},{"$f":"IF(ISNUMBER(POUSSIN!U7),POUSSIN!U7,\" \")","v":" "},{"$f":"IF(ISNUMBER(POUSSIN!V7),POUSSIN!V7,\" \")","v":" "},{"$f":"IF(ISNUMBER(POUSSIN!W7),POUSSIN!W7,\" \")","v":" "},{"$f":"IF(ISNUMBER(POUSSIN!X7),POUSSIN!X7,\" \")","v":" "},{"$f":"IF(ISNUMBER(POUSSIN!Y7),POUSSIN!Y7,\" \")","v":" "},{"$f":"IF(ISNUMBER(POUSSIN!Z7),POUSSIN!Z7,\" \")","v":" "},{"$f":"IF(ISNUMBER(POUSSIN!AA7),POUSSIN!AA7,\" \")","v":0},{"$f":"IF(ISNUMBER(POUSSIN!AB7),POUSSIN!AB7,\" \")","v":" "},{"$f":"POUSSIN!AC7","v":0},{"$f":"POUSSIN!AE7","v":"00:00:00"}]
[{"$f":"POUSSIN!A8","v":5},{"$f":"POUSSIN!B8","v":0},{"$f":"POUSSIN!C8","v":0},{"$f":"POUSSIN!D8","v":0},{"$f":"POUSSIN!E8","v":0},{"$f":"IF(ISNUMBER(POUSSIN!G8),POUSSIN!G8,\" \")","v":" "},{"$f":"IF(ISNUMBER(POUSSIN!H8),POUSSIN!H8,\" \")","v":" "},{"$f":"IF(ISNUMBER(POUSSIN!I8),POUSSIN!I8,\" \")","v":" "},{"$f":"IF(ISNUMBER(POUSSIN!J8),POUSSIN!J8,\" \")","v":" "},{"$f":"IF(ISNUMBER(POUSSIN!K8),POUSSIN!K8,\" \")","v":" "},{"$f":"IF(ISNUMBER(POUSSIN!L8),POUSSIN!L8,\" \")","v":" "},{"$f":"IF(ISNUMBER(POUSSIN!M8),POUSSIN!M8,\" \")","v":0},{"$f":"IF(ISNUMBER(POUSSIN!N8),POUSSIN!N8,\" \")","v":" "},{"$f":"IF(ISNUMBER(POUSSIN!O8),POUSSIN!O8,\" \")","v":" "},{"$f":"IF(ISNUMBER(POUSSIN!P8),POUSSIN!P8,\" \")","v":" "},{"$f":"IF(ISNUMBER(POUSSIN!Q8),POUSSIN!Q8,\" \")","v":" "},{"$f":"IF(ISNUMBER(POUSSIN!R8),POUSSIN!R8,\" \")","v":" "},{"$f":"IF(ISNUMBER(POUSSIN!S8),POUSSIN!S8,\" \")","v":" "},{"$f":"IF(ISNUMBER(POUSSIN!T8),POUSSIN!T8,\" \")","v":0},{"$f":"IF(ISNUMBER(POUSSIN!U8),POUSSIN!U8,\" \")","v":" "},{"$f":"IF(ISNUMBER(POUSSIN!V8),POUSSIN!V8,\" \")","v":" "},{"$f":"IF(ISNUMBER(POUSSIN!W8),POUSSIN!W8,\" \")","v":" "},{"$f":"IF(ISNUMBER(POUSSIN!X8),POUSSIN!X8,\" \")","v":" "},{"$f":"IF(ISNUMBER(POUSSIN!Y8),POUSSIN!Y8,\" \")","v":" "},{"$f":"IF(ISNUMBER(POUSSIN!Z8),POUSSIN!Z8,\" \")","v":" "},{"$f":"IF(ISNUMBER(POUSSIN!AA8),POUSSIN!AA8,\" \")","v":0},{"$f":"IF(ISNUMBER(POUSSIN!AB8),POUSSIN!AB8,\" \")","v":" "},{"$f":"POUSSIN!AC8","v":0},{"$f":"POUSSIN!AE8","v":"00:00:00"}]
[{"$f":"POUSSIN!A9","v":6},{"$f":"POUSSIN!B9","v":0},{"$f":"POUSSIN!C9","v":0},{"$f":"POUSSIN!D9","v":0},{"$f":"POUSSIN!E9","v":0},{"$f":"IF(ISNUMBER(POUSSIN!G9),POUSSIN!G9,\" \")","v":" "},{"$f":"IF(ISNUMBER(POUSSIN!H9),POUSSIN!H9,\" \")","v":" "},{"$f":"IF(ISNUMBER(POUSSIN!I9),POUSSIN!I9,\" \")","v":" "},{"$f":"IF(ISNUMBER(POUSSIN!J9),POUSSIN!J9,\" \")","v":" "},{"$f":"IF(ISNUMBER(POUSSIN!K9),POUSSIN!K9,\" \")","v":" "},{"$f":"IF(ISNUMBER(POUSSIN!L9),POUSSIN!L9,\" \")","v":" "},{"$f":"IF(ISNUMBER(POUSSIN!M9),POUSSIN!M9,\" \")","v":0},{"$f":"IF(ISNUMBER(POUSSIN!N9),POUSSIN!N9,\" \")","v":" "},{"$f":"IF(ISNUMBER(POUSSIN!O9),POUSSIN!O9,\" \")","v":" "},{"$f":"IF(ISNUMBER(POUSSIN!P9),POUSSIN!P9,\" \")","v":" "},{"$f":"IF(ISNUMBER(POUSSIN!Q9),POUSSIN!Q9,\" \")","v":" "},{"$f":"IF(ISNUMBER(POUSSIN!R9),POUSSIN!R9,\" \")","v":" "},{"$f":"IF(ISNUMBER(POUSSIN!S9),POUSSIN!S9,\" \")","v":" "},{"$f":"IF(ISNUMBER(POUSSIN!T9),POUSSIN!T9,\" \")","v":0},{"$f":"IF(ISNUMBER(POUSSIN!U9),POUSSIN!U9,\" \")","v":" "},{"$f":"IF(ISNUMBER(POUSSIN!V9),POUSSIN!V9,\" \")","v":" "},{"$f":"IF(ISNUMBER(POUSSIN!W9),POUSSIN!W9,\" \")","v":" "},{"$f":"IF(ISNUMBER(POUSSIN!X9),POUSSIN!X9,\" \")","v":" "},{"$f":"IF(ISNUMBER(POUSSIN!Y9),POUSSIN!Y9,\" \")","v":" "},{"$f":"IF(ISNUMBER(POUSSIN!Z9),POUSSIN!Z9,\" \")","v":" "},{"$f":"IF(ISNUMBER(POUSSIN!AA9),POUSSIN!AA9,\" \")","v":0},{"$f":"IF(ISNUMBER(POUSSIN!AB9),POUSSIN!AB9,\" \")","v":" "},{"$f":"POUSSIN!AC9","v":0},{"$f":"POUSSIN!AE9","v":"00:00:00"}]
[{"$f":"POUSSIN!A10","v":7},{"$f":"POUSSIN!B10","v":0},{"$f":"POUSSIN!C10","v":0},{"$f":"POUSSIN!D10","v":0},{"$f":"POUSSIN!E10","v":0},{"$f":"IF(ISNUMBER(POUSSIN!G10),POUSSIN!G10,\" \")","v":" "},{"$f":"IF(ISNUMBER(POUSSIN!H10),POUSSIN!H10,\" \")","v":" "},{"$f":"IF(ISNUMBER(POUSSIN!I10),POUSSIN!I10,\" \")","v":" "},{"$f":"IF(ISNUMBER(POUSSIN!J10),POUSSIN!J10,\" \")","v":" "},{"$f":"IF(ISNUMBER(POUSSIN!K10),POUSSIN!K10,\" \")","v":" "},{"$f":"IF(ISNUMBER(POUSSIN!L10),POUSSIN!L10,\" \")","v":" "},{"$f":"IF(ISNUMBER(POUSSIN!M10),POUSSIN!M10,\" \")","v":0},{"$f":"IF(ISNUMBER(POUSSIN!N10),POUSSIN!N10,\" \")","v":" "},{"$f":"IF(ISNUMBER(POUSSIN!O10),POUSSIN!O10,\" \")","v":" "},{"$f":"IF(ISNUMBER(POUSSIN!P10),POUSSIN!P10,\" \")","v":" "},{"$f":"IF(ISNUMBER(POUSSIN!Q10),POUSSIN!Q10,\" \")","v":" "},{"$f":"IF(ISNUMBER(POUSSIN!R10),POUSSIN!R10,\" \")","v":" "},{"$f":"IF(ISNUMBER(POUSSIN!S10),POUSSIN!S10,\" \")","v":" "},{"$f":"IF(ISNUMBER(POUSSIN!T10),POUSSIN!T10,\" \")","v":0},{"$f":"IF(ISNUMBER(POUSSIN!U10),POUSSIN!U10,\" \")","v":" "},{"$f":"IF(ISNUMBER(POUSSIN!V10),POUSSIN!V10,\" \")","v":" "},{"$f":"IF(ISNUMBER(POUSSIN!W10),POUSSIN!W10,\" \")","v":" "},{"$f":"IF(ISNUMBER(POUSSIN!X10),POUSSIN!X10,\" \")","v":" "},{"$f":"IF(ISNUMBER(POUSSIN!Y10),POUSSIN!Y10,\" \")","v":" "},{"$f":"IF(ISNUMBER(POUSSIN!Z10),POUSSIN!Z10,\" \")","v":" "},{"$f":"IF(ISNUMBER(POUSSIN!AA10),POUSSIN!AA10,\" \")","v":0},{"$f":"IF(ISNUMBER(POUSSIN!AB10),POUSSIN!AB10,\" \")","v":" "},{"$f":"POUSSIN!AC10","v":0},{"$f":"POUSSIN!AE10","v":"00:00:00"}]
[{"$f":"POUSSIN!A11","v":8},{"$f":"POUSSIN!B11","v":0},{"$f":"POUSSIN!C11","v":0},{"$f":"POUSSIN!D11","v":0},{"$f":"POUSSIN!E11","v":0},{"$f":"IF(ISNUMBER(POUSSIN!G11),POUSSIN!G11,\" \")","v":" "},{"$f":"IF(ISNUMBER(POUSSIN!H11),POUSSIN!H11,\" \")","v":" "},{"$f":"IF(ISNUMBER(POUSSIN!I11),POUSSIN!I11,\" \")","v":" "},{"$f":"IF(ISNUMBER(POUSSIN!J11),POUSSIN!J11,\" \")","v":" "},{"$f":"IF(ISNUMBER(POUSSIN!K11),POUSSIN!K11,\" \")","v":" "},{"$f":"IF(ISNUMBER(POUSSIN!L11),POUSSIN!L11,\" \")","v":" "},{"$f":"IF(ISNUMBER(POUSSIN!M11),POUSSIN!M11,\" \")","v":0},{"$f":"IF(ISNUMBER(POUSSIN!N11),POUSSIN!N11,\" \")","v":" "},{"$f":"IF(ISNUMBER(POUSSIN!O11),POUSSIN!O11,\" \")","v":" "},{"$f":"IF(ISNUMBER(POUSSIN!P11),POUSSIN!P11,\" \")","v":" "},{"$f":"IF(ISNUMBER(POUSSIN!Q11),POUSSIN!Q11,\" \")","v":" "},{"$f":"IF(ISNUMBER(POUSSIN!R11),POUSSIN!R11,\" \")","v":" "},{"$f":"IF(ISNUMBER(POUSSIN!S11),POUSSIN!S11,\" \")","v":" "},{"$f":"IF(ISNUMBER(POUSSIN!T11),POUSSIN!T11,\" \")","v":0},{"$f":"IF(ISNUMBER(POUSSIN!U11),POUSSIN!U11,\" \")","v":" "},{"$f":"IF(ISNUMBER(POUSSIN!V11),POUSSIN!V11,\" \")","v":" "},{"$f":"IF(ISNUMBER(POUSSIN!W11),POUSSIN!W11,\" \")","v":" "},{"$f":"IF(ISNUMBER(POUSSIN!X11),POUSSIN!X11,\" \")","v":" "},{"$f":"IF(ISNUMBER(POUSSIN!Y11),POUSSIN!Y11,\" \")","v":" "},{"$f":"IF(ISNUMBER(POUSSIN!Z11),POUSSIN!Z11,\" \")","v":" "},{"$f":"IF(ISNUMBER(POUSSIN!AA11),POUSSIN!AA11,\" \")","v":0},{"$f":"IF(ISNUMBER(POUSSIN!AB11),POUSSIN!AB11,\" \")","v":" "},{"$f":"POUSSIN!AC11","v":0},{"$f":"POUSSIN!AE11","v":"00:00:00"}]
[{"$f":"POUSSIN!A12","v":9},{"$f":"POUSSIN!B12","v":0},{"$f":"POUSSIN!C12","v":0},{"$f":"POUSSIN!D12","v":0},{"$f":"POUSSIN!E12","v":0},{"$f":"IF(ISNUMBER(POUSSIN!G12),POUSSIN!G12,\" \")","v":" "},{"$f":"IF(ISNUMBER(POUSSIN!H12),POUSSIN!H12,\" \")","v":" "},{"$f":"IF(ISNUMBER(POUSSIN!I12),POUSSIN!I12,\" \")","v":" "},{"$f":"IF(ISNUMBER(POUSSIN!J12),POUSSIN!J12,\" \")","v":" "},{"$f":"IF(ISNUMBER(POUSSIN!K12),POUSSIN!K12,\" \")","v":" "},{"$f":"IF(ISNUMBER(POUSSIN!L12),POUSSIN!L12,\" \")","v":" "},{"$f":"IF(ISNUMBER(POUSSIN!M12),POUSSIN!M12,\" \")","v":0},{"$f":"IF(ISNUMBER(POUSSIN!N12),POUSSIN!N12,\" \")","v":" "},{"$f":"IF(ISNUMBER(POUSSIN!O12),POUSSIN!O12,\" \")","v":" "},{"$f":"IF(ISNUMBER(POUSSIN!P12),POUSSIN!P12,\" \")","v":" "},{"$f":"IF(ISNUMBER(POUSSIN!Q12),POUSSIN!Q12,\" \")","v":" "},{"$f":"IF(ISNUMBER(POUSSIN!R12),POUSSIN!R12,\" \")","v":" "},{"$f":"IF(ISNUMBER(POUSSIN!S12),POUSSIN!S12,\" \")","v":" "},{"$f":"IF(ISNUMBER(POUSSIN!T12),POUSSIN!T12,\" \")","v":0},{"$f":"IF(ISNUMBER(POUSSIN!U12),POUSSIN!U12,\" \")","v":" "},{"$f":"IF(ISNUMBER(POUSSIN!V12),POUSSIN!V12,\" \")","v":" "},{"$f":"IF(ISNUMBER(POUSSIN!W12),POUSSIN!W12,\" \")","v":" "},{"$f":"IF(ISNUMBER(POUSSIN!X12),POUSSIN!X12,\" \")","v":" "},{"$f":"IF(ISNUMBER(POUSSIN!Y12),POUSSIN!Y12,\" \")","v":" "},{"$f":"IF(ISNUMBER(POUSSIN!Z12),POUSSIN!Z12,\" \")","v":" "},{"$f":"IF(ISNUMBER(POUSSIN!AA12),POUSSIN!AA12,\" \")","v":0},{"$f":"IF(ISNUMBER(POUSSIN!AB12),POUSSIN!AB12,\" \")","v":" "},{"$f":"POUSSIN!AC12","v":0},{"$f":"POUSSIN!AE12","v":"00:00:00"}]
[{"$f":"POUSSIN!A13","v":10},{"$f":"POUSSIN!B13","v":0},{"$f":"POUSSIN!C13","v":0},{"$f":"POUSSIN!D13","v":0},{"$f":"POUSSIN!E13","v":0},{"$f":"IF(ISNUMBER(POUSSIN!G13),POUSSIN!G13,\" \")","v":" "},{"$f":"IF(ISNUMBER(POUSSIN!H13),POUSSIN!H13,\" \")","v":" "},{"$f":"IF(ISNUMBER(POUSSIN!I13),POUSSIN!I13,\" \")","v":" "},{"$f":"IF(ISNUMBER(POUSSIN!J13),POUSSIN!J13,\" \")","v":" "},{"$f":"IF(ISNUMBER(POUSSIN!K13),POUSSIN!K13,\" \")","v":" "},{"$f":"IF(ISNUMBER(POUSSIN!L13),POUSSIN!L13,\" \")","v":" "},{"$f":"IF(ISNUMBER(POUSSIN!M13),POUSSIN!M13,\" \")","v":0},{"$f":"IF(ISNUMBER(POUSSIN!N13),POUSSIN!N13,\" \")","v":" "},{"$f":"IF(ISNUMBER(POUSSIN!O13),POUSSIN!O13,\" \")","v":" "},{"$f":"IF(ISNUMBER(POUSSIN!P13),POUSSIN!P13,\" \")","v":" "},{"$f":"IF(ISNUMBER(POUSSIN!Q13),POUSSIN!Q13,\" \")","v":" "},{"$f":"IF(ISNUMBER(POUSSIN!R13),POUSSIN!R13,\" \")","v":" "},{"$f":"IF(ISNUMBER(POUSSIN!S13),POUSSIN!S13,\" \")","v":" "},{"$f":"IF(ISNUMBER(POUSSIN!T13),POUSSIN!T13,\" \")","v":0},{"$f":"IF(ISNUMBER(POUSSIN!U13),POUSSIN!U13,\" \")","v":" "},{"$f":"IF(ISNUMBER(POUSSIN!V13),POUSSIN!V13,\" \")","v":" "},{"$f":"IF(ISNUMBER(POUSSIN!W13),POUSSIN!W13,\" \")","v":" "},{"$f":"IF(ISNUMBER(POUSSIN!X13),POUSSIN!X13,\" \")","v":" "},{"$f":"IF(ISNUMBER(POUSSIN!Y13),POUSSIN!Y13,\" \")","v":" "},{"$f":"IF(ISNUMBER(POUSSIN!Z13),POUSSIN!Z13,\" \")","v":" "},{"$f":"IF(ISNUMBER(POUSSIN!AA13),POUSSIN!AA13,\" \")","v":0},{"$f":"IF(ISNUMBER(POUSSIN!AB13),POUSSIN!AB13,\" \")","v":" "},{"$f":"POUSSIN!AC13","v":0},{"$f":"POUSSIN!AE13","v":"00:00:00"}]
[{"$f":"POUSSIN!A14","v":11},{"$f":"POUSSIN!B14","v":0},{"$f":"POUSSIN!C14","v":0},{"$f":"POUSSIN!D14","v":0},{"$f":"POUSSIN!E14","v":0},{"$f":"IF(ISNUMBER(POUSSIN!G14),POUSSIN!G14,\" \")","v":" "},{"$f":"IF(ISNUMBER(POUSSIN!H14),POUSSIN!H14,\" \")","v":" "},{"$f":"IF(ISNUMBER(POUSSIN!I14),POUSSIN!I14,\" \")","v":" "},{"$f":"IF(ISNUMBER(POUSSIN!J14),POUSSIN!J14,\" \")","v":" "},{"$f":"IF(ISNUMBER(POUSSIN!K14),POUSSIN!K14,\" \")","v":" "},{"$f":"IF(ISNUMBER(POUSSIN!L14),POUSSIN!L14,\" \")","v":" "},{"$f":"IF(ISNUMBER(POUSSIN!M14),POUSSIN!M14,\" \")","v":0},{"$f":"IF(ISNUMBER(POUSSIN!N14),POUSSIN!N14,\" \")","v":" "},{"$f":"IF(ISNUMBER(POUSSIN!O14),POUSSIN!O14,\" \")","v":" "},{"$f":"IF(ISNUMBER(POUSSIN!P14),POUSSIN!P14,\" \")","v":" "},{"$f":"IF(ISNUMBER(POUSSIN!Q14),POUSSIN!Q14,\" \")","v":" "},{"$f":"IF(ISNUMBER(POUSSIN!R14),POUSSIN!R14,\" \")","v":" "},{"$f":"IF(ISNUMBER(POUSSIN!S14),POUSSIN!S14,\" \")","v":" "},{"$f":"IF(ISNUMBER(POUSSIN!T14),POUSSIN!T14,\" \")","v":0},{"$f":"IF(ISNUMBER(POUSSIN!U14),POUSSIN!U14,\" \")","v":" "},{"$f":"IF(ISNUMBER(POUSSIN!V14),POUSSIN!V14,\" \")","v":" "},{"$f":"IF(ISNUMBER(POUSSIN!W14),POUSSIN!W14,\" \")","v":" "},{"$f":"IF(ISNUMBER(POUSSIN!X14),POUSSIN!X14,\" \")","v":" "},{"$f":"IF(ISNUMBER(POUSSIN!Y14),POUSSIN!Y14,\" \")","v":" "},{"$f":"IF(ISNUMBER(POUSSIN!Z14),POUSSIN!Z14,\" \")","v":" "},{"$f":"IF(ISNUMBER(POUSSIN!AA14),POUSSIN!AA14,\" \")","v":0},{"$f":"IF(ISNUMBER(POUSSIN!AB14),POUSSIN!AB14,\" \")","v":" "},{"$f":"POUSSIN!AC14","v":0},{"$f":"POUSSIN!AE14","v":"00:00:00"}]
[{"$f":"POUSSIN!A15","v":12},{"$f":"POUSSIN!B15","v":0},{"$f":"POUSSIN!C15","v":0},{"$f":"POUSSIN!D15","v":0},{"$f":"POUSSIN!E15","v":0},{"$f":"IF(ISNUMBER(POUSSIN!G15),POUSSIN!G15,\" \")","v":" "},{"$f":"IF(ISNUMBER(POUSSIN!H15),POUSSIN!H15,\" \")","v":" "},{"$f":"IF(ISNUMBER(POUSSIN!I15),POUSSIN!I15,\" \")","v":" "},{"$f":"IF(ISNUMBER(POUSSIN!J15),POUSSIN!J15,\" \")","v":" "},{"$f":"IF(ISNUMBER(POUSSIN!K15),POUSSIN!K15,\" \")","v":" "},{"$f":"IF(ISNUMBER(POUSSIN!L15),POUSSIN!L15,\" \")","v":" "},{"$f":"IF(ISNUMBER(POUSSIN!M15),POUSSIN!M15,\" \")","v":0},{"$f":"IF(ISNUMBER(POUSSIN!N15),POUSSIN!N15,\" \")","v":" "},{"$f":"IF(ISNUMBER(POUSSIN!O15),POUSSIN!O15,\" \")","v":" "},{"$f":"IF(ISNUMBER(POUSSIN!P15),POUSSIN!P15,\" \")","v":" "},{"$f":"IF(ISNUMBER(POUSSIN!Q15),POUSSIN!Q15,\" \")","v":" "},{"$f":"IF(ISNUMBER(POUSSIN!R15),POUSSIN!R15,\" \")","v":" "},{"$f":"IF(ISNUMBER(POUSSIN!S15),POUSSIN!S15,\" \")","v":" "},{"$f":"IF(ISNUMBER(POUSSIN!T15),POUSSIN!T15,\" \")","v":0},{"$f":"IF(ISNUMBER(POUSSIN!U15),POUSSIN!U15,\" \")","v":" "},{"$f":"IF(ISNUMBER(POUSSIN!V15),POUSSIN!V15,\" \")","v":" "},{"$f":"IF(ISNUMBER(POUSSIN!W15),POUSSIN!W15,\" \")","v":" "},{"$f":"IF(ISNUMBER(POUSSIN!X15),POUSSIN!X15,\" \")","v":" "},{"$f":"IF(ISNUMBER(POUSSIN!Y15),POUSSIN!Y15,\" \")","v":" "},{"$f":"IF(ISNUMBER(POUSSIN!Z15),POUSSIN!Z15,\" \")","v":" "},{"$f":"IF(ISNUMBER(POUSSIN!AA15),POUSSIN!AA15,\" \")","v":0},{"$f":"IF(ISNUMBER(POUSSIN!AB15),POUSSIN!AB15,\" \")","v":" "},{"$f":"POUSSIN!AC15","v":0},{"$f":"POUSSIN!AE15","v":"00:00:00"}]
[{"$f":"POUSSIN!A16","v":13},{"$f":"POUSSIN!B16","v":0},{"$f":"POUSSIN!C16","v":0},{"$f":"POUSSIN!D16","v":0},{"$f":"POUSSIN!E16","v":0},{"$f":"IF(ISNUMBER(POUSSIN!G16),POUSSIN!G16,\" \")","v":" "},{"$f":"IF(ISNUMBER(POUSSIN!H16),POUSSIN!H16,\" \")","v":" "},{"$f":"IF(ISNUMBER(POUSSIN!I16),POUSSIN!I16,\" \")","v":" "},{"$f":"IF(ISNUMBER(POUSSIN!J16),POUSSIN!J16,\" \")","v":" "},{"$f":"IF(ISNUMBER(POUSSIN!K16),POUSSIN!K16,\" \")","v":" "},{"$f":"IF(ISNUMBER(POUSSIN!L16),POUSSIN!L16,\" \")","v":" "},{"$f":"IF(ISNUMBER(POUSSIN!M16),POUSSIN!M16,\" \")","v":0},{"$f":"IF(ISNUMBER(POUSSIN!N16),POUSSIN!N16,\" \")","v":" "},{"$f":"IF(ISNUMBER(POUSSIN!O16),POUSSIN!O16,\" \")","v":" "},{"$f":"IF(ISNUMBER(POUSSIN!P16),POUSSIN!P16,\" \")","v":" "},{"$f":"IF(ISNUMBER(POUSSIN!Q16),POUSSIN!Q16,\" \")","v":" "},{"$f":"IF(ISNUMBER(POUSSIN!R16),POUSSIN!R16,\" \")","v":" "},{"$f":"IF(ISNUMBER(POUSSIN!S16),POUSSIN!S16,\" \")","v":" "},{"$f":"IF(ISNUMBER(POUSSIN!T16),POUSSIN!T16,\" \")","v":0},{"$f":"IF(ISNUMBER(POUSSIN!U16),POUSSIN!U16,\" \")","v":" "},{"$f":"IF(ISNUMBER(POUSSIN!V16),POUSSIN!V16,\" \")","v":" "},{"$f":"IF(ISNUMBER(POUSSIN!W16),POUSSIN!W16,\" \")","v":" "},{"$f":"IF(ISNUMBER(POUSSIN!X16),POUSSIN!X16,\" \")","v":" "},{"$f":"IF(ISNUMBER(POUSSIN!Y16),POUSSIN!Y16,\" \")","v":" "},{"$f":"IF(ISNUMBER(POUSSIN!Z16),POUSSIN!Z16,\" \")","v":" "},{"$f":"IF(ISNUMBER(POUSSIN!AA16),POUSSIN!AA16,\" \")","v":0},{"$f":"IF(ISNUMBER(POUSSIN!AB16),POUSSIN!AB16,\" \")","v":" "},{"$f":"POUSSIN!AC16","v":0},{"$f":"POUSSIN!AE16","v":"00:00:00"}]
[{"$f":"POUSSIN!A17","v":14},{"$f":"POUSSIN!B17","v":0},{"$f":"POUSSIN!C17","v":0},{"$f":"POUSSIN!D17","v":0},{"$f":"POUSSIN!E17","v":0},{"$f":"IF(ISNUMBER(POUSSIN!G17),POUSSIN!G17,\" \")","v":" "},{"$f":"IF(ISNUMBER(POUSSIN!H17),POUSSIN!H17,\" \")","v":" "},{"$f":"IF(ISNUMBER(POUSSIN!I17),POUSSIN!I17,\" \")","v":" "},{"$f":"IF(ISNUMBER(POUSSIN!J17),POUSSIN!J17,\" \")","v":" "},{"$f":"IF(ISNUMBER(POUSSIN!K17),POUSSIN!K17,\" \")","v":" "},{"$f":"IF(ISNUMBER(POUSSIN!L17),POUSSIN!L17,\" \")","v":" "},{"$f":"IF(ISNUMBER(POUSSIN!M17),POUSSIN!M17,\" \")","v":0},{"$f":"IF(ISNUMBER(POUSSIN!N17),POUSSIN!N17,\" \")","v":" "},{"$f":"IF(ISNUMBER(POUSSIN!O17),POUSSIN!O17,\" \")","v":" "},{"$f":"IF(ISNUMBER(POUSSIN!P17),POUSSIN!P17,\" \")","v":" "},{"$f":"IF(ISNUMBER(POUSSIN!Q17),POUSSIN!Q17,\" \")","v":" "},{"$f":"IF(ISNUMBER(POUSSIN!R17),POUSSIN!R17,\" \")","v":" "},{"$f":"IF(ISNUMBER(POUSSIN!S17),POUSSIN!S17,\" \")","v":" "},{"$f":"IF(ISNUMBER(POUSSIN!T17),POUSSIN!T17,\" \")","v":0},{"$f":"IF(ISNUMBER(POUSSIN!U17),POUSSIN!U17,\" \")","v":" "},{"$f":"IF(ISNUMBER(POUSSIN!V17),POUSSIN!V17,\" \")","v":" "},{"$f":"IF(ISNUMBER(POUSSIN!W17),POUSSIN!W17,\" \")","v":" "},{"$f":"IF(ISNUMBER(POUSSIN!X17),POUSSIN!X17,\" \")","v":" "},{"$f":"IF(ISNUMBER(POUSSIN!Y17),POUSSIN!Y17,\" \")","v":" "},{"$f":"IF(ISNUMBER(POUSSIN!Z17),POUSSIN!Z17,\" \")","v":" "},{"$f":"IF(ISNUMBER(POUSSIN!AA17),POUSSIN!AA17,\" \")","v":0},{"$f":"IF(ISNUMBER(POUSSIN!AB17),POUSSIN!AB17,\" \")","v":" "},{"$f":"POUSSIN!AC17","v":0},{"$f":"POUSSIN!AE17","v":"00:00:00"}]
[{"$f":"POUSSIN!A18","v":15},{"$f":"POUSSIN!B18","v":0},{"$f":"POUSSIN!C18","v":0},{"$f":"POUSSIN!D18","v":0},{"$f":"POUSSIN!E18","v":0},{"$f":"IF(ISNUMBER(POUSSIN!G18),POUSSIN!G18,\" \")","v":" "},{"$f":"IF(ISNUMBER(POUSSIN!H18),POUSSIN!H18,\" \")","v":" "},{"$f":"IF(ISNUMBER(POUSSIN!I18),POUSSIN!I18,\" \")","v":" "},{"$f":"IF(ISNUMBER(POUSSIN!J18),POUSSIN!J18,\" \")","v":" "},{"$f":"IF(ISNUMBER(POUSSIN!K18),POUSSIN!K18,\" \")","v":" "},{"$f":"IF(ISNUMBER(POUSSIN!L18),POUSSIN!L18,\" \")","v":" "},{"$f":"IF(ISNUMBER(POUSSIN!M18),POUSSIN!M18,\" \")","v":0},{"$f":"IF(ISNUMBER(POUSSIN!N18),POUSSIN!N18,\" \")","v":" "},{"$f":"IF(ISNUMBER(POUSSIN!O18),POUSSIN!O18,\" \")","v":" "},{"$f":"IF(ISNUMBER(POUSSIN!P18),POUSSIN!P18,\" \")","v":" "},{"$f":"IF(ISNUMBER(POUSSIN!Q18),POUSSIN!Q18,\" \")","v":" "},{"$f":"IF(ISNUMBER(POUSSIN!R18),POUSSIN!R18,\" \")","v":" "},{"$f":"IF(ISNUMBER(POUSSIN!S18),POUSSIN!S18,\" \")","v":" "},{"$f":"IF(ISNUMBER(POUSSIN!T18),POUSSIN!T18,\" \")","v":0},{"$f":"IF(ISNUMBER(POUSSIN!U18),POUSSIN!U18,\" \")","v":" "},{"$f":"IF(ISNUMBER(POUSSIN!V18),POUSSIN!V18,\" \")","v":" "},{"$f":"IF(ISNUMBER(POUSSIN!W18),POUSSIN!W18,\" \")","v":" "},{"$f":"IF(ISNUMBER(POUSSIN!X18),POUSSIN!X18,\" \")","v":" "},{"$f":"IF(ISNUMBER(POUSSIN!Y18),POUSSIN!Y18,\" \")","v":" "},{"$f":"IF(ISNUMBER(POUSSIN!Z18),POUSSIN!Z18,\" \")","v":" "},{"$f":"IF(ISNUMBER(POUSSIN!AA18),POUSSIN!AA18,\" \")","v":0},{"$f":"IF(ISNUMBER(POUSSIN!AB18),POUSSIN!AB18,\" \")","v":" "},{"$f":"POUSSIN!AC18","v":0},{"$f":"POUSSIN!AE18","v":"00:00:00"}]
[{"$f":"POUSSIN!A19","v":16},{"$f":"POUSSIN!B19","v":0},{"$f":"POUSSIN!C19","v":0},{"$f":"POUSSIN!D19","v":0},{"$f":"POUSSIN!E19","v":0},{"$f":"IF(ISNUMBER(POUSSIN!G19),POUSSIN!G19,\" \")","v":" "},{"$f":"IF(ISNUMBER(POUSSIN!H19),POUSSIN!H19,\" \")","v":" "},{"$f":"IF(ISNUMBER(POUSSIN!I19),POUSSIN!I19,\" \")","v":" "},{"$f":"IF(ISNUMBER(POUSSIN!J19),POUSSIN!J19,\" \")","v":" "},{"$f":"IF(ISNUMBER(POUSSIN!K19),POUSSIN!K19,\" \")","v":" "},{"$f":"IF(ISNUMBER(POUSSIN!L19),POUSSIN!L19,\" \")","v":" "},{"$f":"IF(ISNUMBER(POUSSIN!M19),POUSSIN!M19,\" \")","v":0},{"$f":"IF(ISNUMBER(POUSSIN!N19),POUSSIN!N19,\" \")","v":" "},{"$f":"IF(ISNUMBER(POUSSIN!O19),POUSSIN!O19,\" \")","v":" "},{"$f":"IF(ISNUMBER(POUSSIN!P19),POUSSIN!P19,\" \")","v":" "},{"$f":"IF(ISNUMBER(POUSSIN!Q19),POUSSIN!Q19,\" \")","v":" "},{"$f":"IF(ISNUMBER(POUSSIN!R19),POUSSIN!R19,\" \")","v":" "},{"$f":"IF(ISNUMBER(POUSSIN!S19),POUSSIN!S19,\" \")","v":" "},{"$f":"IF(ISNUMBER(POUSSIN!T19),POUSSIN!T19,\" \")","v":0},{"$f":"IF(ISNUMBER(POUSSIN!U19),POUSSIN!U19,\" \")","v":" "},{"$f":"IF(ISNUMBER(POUSSIN!V19),POUSSIN!V19,\" \")","v":" "},{"$f":"IF(ISNUMBER(POUSSIN!W19),POUSSIN!W19,\" \")","v":" "},{"$f":"IF(ISNUMBER(POUSSIN!X19),POUSSIN!X19,\" \")","v":" "},{"$f":"IF(ISNUMBER(POUSSIN!Y19),POUSSIN!Y19,\" \")","v":" "},{"$f":"IF(ISNUMBER(POUSSIN!Z19),POUSSIN!Z19,\" \")","v":" "},{"$f":"IF(ISNUMBER(POUSSIN!AA19),POUSSIN!AA19,\" \")","v":0},{"$f":"IF(ISNUMBER(POUSSIN!AB19),POUSSIN!AB19,\" \")","v":" "},{"$f":"POUSSIN!AC19","v":0},{"$f":"POUSSIN!AE19","v":"00:00:00"}]
[{"$f":"POUSSIN!A20","v":17},{"$f":"POUSSIN!B20","v":0},{"$f":"POUSSIN!C20","v":0},{"$f":"POUSSIN!D20","v":0},{"$f":"POUSSIN!E20","v":0},{"$f":"IF(ISNUMBER(POUSSIN!G20),POUSSIN!G20,\" \")","v":" "},{"$f":"IF(ISNUMBER(POUSSIN!H20),POUSSIN!H20,\" \")","v":" "},{"$f":"IF(ISNUMBER(POUSSIN!I20),POUSSIN!I20,\" \")","v":" "},{"$f":"IF(ISNUMBER(POUSSIN!J20),POUSSIN!J20,\" \")","v":" "},{"$f":"IF(ISNUMBER(POUSSIN!K20),POUSSIN!K20,\" \")","v":" "},{"$f":"IF(ISNUMBER(POUSSIN!L20),POUSSIN!L20,\" \")","v":" "},{"$f":"IF(ISNUMBER(POUSSIN!M20),POUSSIN!M20,\" \")","v":0},{"$f":"IF(ISNUMBER(POUSSIN!N20),POUSSIN!N20,\" \")","v":" "},{"$f":"IF(ISNUMBER(POUSSIN!O20),POUSSIN!O20,\" \")","v":" "},{"$f":"IF(ISNUMBER(POUSSIN!P20),POUSSIN!P20,\" \")","v":" "},{"$f":"IF(ISNUMBER(POUSSIN!Q20),POUSSIN!Q20,\" \")","v":" "},{"$f":"IF(ISNUMBER(POUSSIN!R20),POUSSIN!R20,\" \")","v":" "},{"$f":"IF(ISNUMBER(POUSSIN!S20),POUSSIN!S20,\" \")","v":" "},{"$f":"IF(ISNUMBER(POUSSIN!T20),POUSSIN!T20,\" \")","v":0},{"$f":"IF(ISNUMBER(POUSSIN!U20),POUSSIN!U20,\" \")","v":" "},{"$f":"IF(ISNUMBER(POUSSIN!V20),POUSSIN!V20,\" \")","v":" "},{"$f":"IF(ISNUMBER(POUSSIN!W20),POUSSIN!W20,\" \")","v":" "},{"$f":"IF(ISNUMBER(POUSSIN!X20),POUSSIN!X20,\" \")","v":" "},{"$f":"IF(ISNUMBER(POUSSIN!Y20),POUSSIN!Y20,\" \")","v":" "},{"$f":"IF(ISNUMBER(POUSSIN!Z20),POUSSIN!Z20,\" \")","v":" "},{"$f":"IF(ISNUMBER(POUSSIN!AA20),POUSSIN!AA20,\" \")","v":0},{"$f":"IF(ISNUMBER(POUSSIN!AB20),POUSSIN!AB20,\" \")","v":" "},{"$f":"POUSSIN!AC20","v":0},{"$f":"POUSSIN!AE20","v":"00:00:00"}]
[{"$f":"POUSSIN!A21","v":18},{"$f":"POUSSIN!B21","v":0},{"$f":"POUSSIN!C21","v":0},{"$f":"POUSSIN!D21","v":0},{"$f":"POUSSIN!E21","v":0},{"$f":"IF(ISNUMBER(POUSSIN!G21),POUSSIN!G21,\" \")","v":" "},{"$f":"IF(ISNUMBER(POUSSIN!H21),POUSSIN!H21,\" \")","v":" "},{"$f":"IF(ISNUMBER(POUSSIN!I21),POUSSIN!I21,\" \")","v":" "},{"$f":"IF(ISNUMBER(POUSSIN!J21),POUSSIN!J21,\" \")","v":" "},{"$f":"IF(ISNUMBER(POUSSIN!K21),POUSSIN!K21,\" \")","v":" "},{"$f":"IF(ISNUMBER(POUSSIN!L21),POUSSIN!L21,\" \")","v":" "},{"$f":"IF(ISNUMBER(POUSSIN!M21),POUSSIN!M21,\" \")","v":0},{"$f":"IF(ISNUMBER(POUSSIN!N21),POUSSIN!N21,\" \")","v":" "},{"$f":"IF(ISNUMBER(POUSSIN!O21),POUSSIN!O21,\" \")","v":" "},{"$f":"IF(ISNUMBER(POUSSIN!P21),POUSSIN!P21,\" \")","v":" "},{"$f":"IF(ISNUMBER(POUSSIN!Q21),POUSSIN!Q21,\" \")","v":" "},{"$f":"IF(ISNUMBER(POUSSIN!R21),POUSSIN!R21,\" \")","v":" "},{"$f":"IF(ISNUMBER(POUSSIN!S21),POUSSIN!S21,\" \")","v":" "},{"$f":"IF(ISNUMBER(POUSSIN!T21),POUSSIN!T21,\" \")","v":0},{"$f":"IF(ISNUMBER(POUSSIN!U21),POUSSIN!U21,\" \")","v":" "},{"$f":"IF(ISNUMBER(POUSSIN!V21),POUSSIN!V21,\" \")","v":" "},{"$f":"IF(ISNUMBER(POUSSIN!W21),POUSSIN!W21,\" \")","v":" "},{"$f":"IF(ISNUMBER(POUSSIN!X21),POUSSIN!X21,\" \")","v":" "},{"$f":"IF(ISNUMBER(POUSSIN!Y21),POUSSIN!Y21,\" \")","v":" "},{"$f":"IF(ISNUMBER(POUSSIN!Z21),POUSSIN!Z21,\" \")","v":" "},{"$f":"IF(ISNUMBER(POUSSIN!AA21),POUSSIN!AA21,\" \")","v":0},{"$f":"IF(ISNUMBER(POUSSIN!AB21),POUSSIN!AB21,\" \")","v":" "},{"$f":"POUSSIN!AC21","v":0},{"$f":"POUSSIN!AE21","v":"00:00:00"}]
[{"$f":"POUSSIN!A22","v":19},{"$f":"POUSSIN!B22","v":0},{"$f":"POUSSIN!C22","v":0},{"$f":"POUSSIN!D22","v":0},{"$f":"POUSSIN!E22","v":0},{"$f":"IF(ISNUMBER(POUSSIN!G22),POUSSIN!G22,\" \")","v":" "},{"$f":"IF(ISNUMBER(POUSSIN!H22),POUSSIN!H22,\" \")","v":" "},{"$f":"IF(ISNUMBER(POUSSIN!I22),POUSSIN!I22,\" \")","v":" "},{"$f":"IF(ISNUMBER(POUSSIN!J22),POUSSIN!J22,\" \")","v":" "},{"$f":"IF(ISNUMBER(POUSSIN!K22),POUSSIN!K22,\" \")","v":" "},{"$f":"IF(ISNUMBER(POUSSIN!L22),POUSSIN!L22,\" \")","v":" "},{"$f":"IF(ISNUMBER(POUSSIN!M22),POUSSIN!M22,\" \")","v":0},{"$f":"IF(ISNUMBER(POUSSIN!N22),POUSSIN!N22,\" \")","v":" "},{"$f":"IF(ISNUMBER(POUSSIN!O22),POUSSIN!O22,\" \")","v":" "},{"$f":"IF(ISNUMBER(POUSSIN!P22),POUSSIN!P22,\" \")","v":" "},{"$f":"IF(ISNUMBER(POUSSIN!Q22),POUSSIN!Q22,\" \")","v":" "},{"$f":"IF(ISNUMBER(POUSSIN!R22),POUSSIN!R22,\" \")","v":" "},{"$f":"IF(ISNUMBER(POUSSIN!S22),POUSSIN!S22,\" \")","v":" "},{"$f":"IF(ISNUMBER(POUSSIN!T22),POUSSIN!T22,\" \")","v":0},{"$f":"IF(ISNUMBER(POUSSIN!U22),POUSSIN!U22,\" \")","v":" "},{"$f":"IF(ISNUMBER(POUSSIN!V22),POUSSIN!V22,\" \")","v":" "},{"$f":"IF(ISNUMBER(POUSSIN!W22),POUSSIN!W22,\" \")","v":" "},{"$f":"IF(ISNUMBER(POUSSIN!X22),POUSSIN!X22,\" \")","v":" "},{"$f":"IF(ISNUMBER(POUSSIN!Y22),POUSSIN!Y22,\" \")","v":" "},{"$f":"IF(ISNUMBER(POUSSIN!Z22),POUSSIN!Z22,\" \")","v":" "},{"$f":"IF(ISNUMBER(POUSSIN!AA22),POUSSIN!AA22,\" \")","v":0},{"$f":"IF(ISNUMBER(POUSSIN!AB22),POUSSIN!AB22,\" \")","v":" "},{"$f":"POUSSIN!AC22","v":0},{"$f":"POUSSIN!AE22","v":"00:00:00"}]
[{"$f":"POUSSIN!A23","v":20},{"$f":"POUSSIN!B23","v":0},{"$f":"POUSSIN!C23","v":0},{"$f":"POUSSIN!D23","v":0},{"$f":"POUSSIN!E23","v":0},{"$f":"IF(ISNUMBER(POUSSIN!G23),POUSSIN!G23,\" \")","v":" "},{"$f":"IF(ISNUMBER(POUSSIN!H23),POUSSIN!H23,\" \")","v":" "},{"$f":"IF(ISNUMBER(POUSSIN!I23),POUSSIN!I23,\" \")","v":" "},{"$f":"IF(ISNUMBER(POUSSIN!J23),POUSSIN!J23,\" \")","v":" "},{"$f":"IF(ISNUMBER(POUSSIN!K23),POUSSIN!K23,\" \")","v":" "},{"$f":"IF(ISNUMBER(POUSSIN!L23),POUSSIN!L23,\" \")","v":" "},{"$f":"IF(ISNUMBER(POUSSIN!M23),POUSSIN!M23,\" \")","v":0},{"$f":"IF(ISNUMBER(POUSSIN!N23),POUSSIN!N23,\" \")","v":" "},{"$f":"IF(ISNUMBER(POUSSIN!O23),POUSSIN!O23,\" \")","v":" "},{"$f":"IF(ISNUMBER(POUSSIN!P23),POUSSIN!P23,\" \")","v":" "},{"$f":"IF(ISNUMBER(POUSSIN!Q23),POUSSIN!Q23,\" \")","v":" "},{"$f":"IF(ISNUMBER(POUSSIN!R23),POUSSIN!R23,\" \")","v":" "},{"$f":"IF(ISNUMBER(POUSSIN!S23),POUSSIN!S23,\" \")","v":" "},{"$f":"IF(ISNUMBER(POUSSIN!T23),POUSSIN!T23,\" \")","v":0},{"$f":"IF(ISNUMBER(POUSSIN!U23),POUSSIN!U23,\" \")","v":" "},{"$f":"IF(ISNUMBER(POUSSIN!V23),POUSSIN!V23,\" \")","v":" "},{"$f":"IF(ISNUMBER(POUSSIN!W23),POUSSIN!W23,\" \")","v":" "},{"$f":"IF(ISNUMBER(POUSSIN!X23),POUSSIN!X23,\" \")","v":" "},{"$f":"IF(ISNUMBER(POUSSIN!Y23),POUSSIN!Y23,\" \")","v":" "},{"$f":"IF(ISNUMBER(POUSSIN!Z23),POUSSIN!Z23,\" \")","v":" "},{"$f":"IF(ISNUMBER(POUSSIN!AA23),POUSSIN!AA23,\" \")","v":0},{"$f":"IF(ISNUMBER(POUSSIN!AB23),POUSSIN!AB23,\" \")","v":" "},{"$f":"POUSSIN!AC23","v":0},{"$f":"POUSSIN!AE23","v":"00:00:00"}]
[]
["KATEGORIE BENJAMIN"]
[]
[null,null,null,null,null,{"$f":"BENJAMIN!G2","v":"1.kolo"},null,null,null,null,null,null,{"$f":"BENJAMIN!N2","v":"2.kolo"},null,null,null,null,null,null,{"$f":"BENJAMIN!U2","v":"3.kolo"}]
[{"$f":"BENJAMIN!A3","v":"pořadí"},{"$f":"BENJAMIN!B3","v":"číslo"},{"$f":"BENJAMIN!C3","v":"jméno"},{"$f":"BENJAMIN!D3","v":"narození"},{"$f":"BENJAMIN!E3","v":"klub"},{"$f":"BENJAMIN!G3","v":1},{"$f":"BENJAMIN!H3","v":2},{"$f":"BENJAMIN!I3","v":3},{"$f":"BENJAMIN!J3","v":4},{"$f":"BENJAMIN!K3","v":5},{"$f":"BENJAMIN!L3","v":6},{"$f":"BENJAMIN!M3","v":"∑1"},{"$f":"BENJAMIN!N3","v":1},{"$f":"BENJAMIN!O3","v":2},{"$f":"BENJAMIN!P3","v":3},{"$f":"BENJAMIN!Q3","v":4},{"$f":"BENJAMIN!R3","v":5},{"$f":"BENJAMIN!S3","v":6},{"$f":"BENJAMIN!T3","v":"∑2"},{"$f":"BENJAMIN!U3","v":1},{"$f":"BENJAMIN!V3","v":2},{"$f":"BENJAMIN!W3","v":3},{"$f":"BENJAMIN!X3","v":4},{"$f":"BENJAMIN!Y3","v":5},{"$f":"BENJAMIN!Z3","v":6},{"$f":"BENJAMIN!AA3","v":"∑3"},{"$f":"BENJAMIN!AB3","v":"penalizace"},{"$f":"BENJAMIN!AC3","v":"∑∑"},{"$f":"BENJAMIN!AE3","v":"čas"}]
[{"$f":"BENJAMIN!A4","v":1},{"$f":"BENJAMIN!B4","v":0},{"$f":"BENJAMIN!C4","v":0},{"$f":"BENJAMIN!D4","v":0},{"$f":"BENJAMIN!E4","v":0},{"$f":"IF(ISNUMBER(BENJAMIN!G4),BENJAMIN!G4,\" \")","v":" "},{"$f":"IF(ISNUMBER(BENJAMIN!H4),BENJAMIN!H4,\" \")","v":" "},{"$f":"IF(ISNUMBER(BENJAMIN!I4),BENJAMIN!I4,\" \")","v":" "},{"$f":"IF(ISNUMBER(BENJAMIN!J4),BENJAMIN!J4,\" \")","v":" "},{"$f":"IF(ISNUMBER(BENJAMIN!K4),BENJAMIN!K4,\" \")","v":" "},{"$f":"IF(ISNUMBER(BENJAMIN!L4),BENJAMIN!L4,\" \")","v":" "},{"$f":"IF(ISNUMBER(BENJAMIN!M4),BENJAMIN!M4,\" \")","v":0},{"$f":"IF(ISNUMBER(BENJAMIN!N4),BENJAMIN!N4,\" \")","v":" "},{"$f":"IF(ISNUMBER(BENJAMIN!O4),BENJAMIN!O4,\" \")","v":" "},{"$f":"IF(ISNUMBER(BENJAMIN!P4),BENJAMIN!P4,\" \")","v":" "},{"$f":"IF(ISNUMBER(BENJAMIN!Q4),BENJAMIN!Q4,\" \")","v":" "},{"$f":"IF(ISNUMBER(BENJAMIN!R4),BENJAMIN!R4,\" \")","v":" "},{"$f":"IF(ISNUMBER(BENJAMIN!S4),BENJAMIN!S4,\" \")","v":" "},{"$f":"IF(ISNUMBER(BENJAMIN!T4),BENJAMIN!T4,\" \")","v":0},{"$f":"IF(ISNUMBER(BENJAMIN!U4),BENJAMIN!U4,\" \")","v":" "},{"$f":"IF(ISNUMBER(BENJAMIN!V4),BENJAMIN!V4,\" \")","v":" "},{"$f":"IF(ISNUMBER(BENJAMIN!W4),BENJAMIN!W4,\" \")","v":" "},{"$f":"IF(ISNUMBER(BENJAMIN!X4),BENJAMIN!X4,\" \")","v":" "},{"$f":"IF(ISNUMBER(BENJAMIN!Y4),BENJAMIN!Y4,\" \")","v":" "},{"$f":"IF(ISNUMBER(BENJAMIN!Z4),BENJAMIN!Z4,\" \")","v":" "},{"$f":"IF(ISNUMBER(BENJAMIN!AA4),BENJAMIN!AA4,\" \")","v":0},{"$f":"IF(ISNUMBER(BENJAMIN!AB4),BENJAMIN!AB4,\" \")","v":" "},{"$f":"BENJAMIN!AC4","v":0},{"$f":"BENJAMIN!AE4","v":"00:00:00"}]
[{"$f":"BENJAMIN!A5","v":2},{"$f":"BENJAMIN!B5","v":0},{"$f":"BENJAMIN!C5","v":0},{"$f":"BENJAMIN!D5","v":0},{"$f":"BENJAMIN!E5","v":0},{"$f":"IF(ISNUMBER(BENJAMIN!G5),BENJAMIN!G5,\" \")","v":" "},{"$f":"IF(ISNUMBER(BENJAMIN!H5),BENJAMIN!H5,\" \")","v":" "},{"$f":"IF(ISNUMBER(BENJAMIN!I5),BENJAMIN!I5,\" \")","v":" "},{"$f":"IF(ISNUMBER(BENJAMIN!J5),BENJAMIN!J5,\" \")","v":" "},{"$f":"IF(ISNUMBER(BENJAMIN!K5),BENJAMIN!K5,\" \")","v":" "},{"$f":"IF(ISNUMBER(BENJAMIN!L5),BENJAMIN!L5,\" \")","v":" "},{"$f":"IF(ISNUMBER(BENJAMIN!M5),BENJAMIN!M5,\" \")","v":0},{"$f":"IF(ISNUMBER(BENJAMIN!N5),BENJAMIN!N5,\" \")","v":" "},{"$f":"IF(ISNUMBER(BENJAMIN!O5),BENJAMIN!O5,\" \")","v":" "},{"$f":"IF(ISNUMBER(BENJAMIN!P5),BENJAMIN!P5,\" \")","v":" "},{"$f":"IF(ISNUMBER(BENJAMIN!Q5),BENJAMIN!Q5,\" \")","v":" "},{"$f":"IF(ISNUMBER(BENJAMIN!R5),BENJAMIN!R5,\" \")","v":" "},{"$f":"IF(ISNUMBER(BENJAMIN!S5),BENJAMIN!S5,\" \")","v":" "},{"$f":"IF(ISNUMBER(BENJAMIN!T5),BENJAMIN!T5,\" \")","v":0},{"$f":"IF(ISNUMBER(BENJAMIN!U5),BENJAMIN!U5,\" \")","v":" "},{"$f":"IF(ISNUMBER(BENJAMIN!V5),BENJAMIN!V5,\" \")","v":" "},{"$f":"IF(ISNUMBER(BENJAMIN!W5),BENJAMIN!W5,\" \")","v":" "},{"$f":"IF(ISNUMBER(BENJAMIN!X5),BENJAMIN!X5,\" \")","v":" "},{"$f":"IF(ISNUMBER(BENJAMIN!Y5),BENJAMIN!Y5,\" \")","v":" "},{"$f":"IF(ISNUMBER(BENJAMIN!Z5),BENJAMIN!Z5,\" \")","v":" "},{"$f":"IF(ISNUMBER(BENJAMIN!AA5),BENJAMIN!AA5,\" \")","v":0},{"$f":"IF(ISNUMBER(BENJAMIN!AB5),BENJAMIN!AB5,\" \")","v":" "},{"$f":"BENJAMIN!AC5","v":0},{"$f":"BENJAMIN!AE5","v":"00:00:00"}]
[{"$f":"BENJAMIN!A6","v":3},{"$f":"BENJAMIN!B6","v":0},{"$f":"BENJAMIN!C6","v":0},{"$f":"BENJAMIN!D6","v":0},{"$f":"BENJAMIN!E6","v":0},{"$f":"IF(ISNUMBER(BENJAMIN!G6),BENJAMIN!G6,\" \")","v":" "},{"$f":"IF(ISNUMBER(BENJAMIN!H6),BENJAMIN!H6,\" \")","v":" "},{"$f":"IF(ISNUMBER(BENJAMIN!I6),BENJAMIN!I6,\" \")","v":" "},{"$f":"IF(ISNUMBER(BENJAMIN!J6),BENJAMIN!J6,\" \")","v":" "},{"$f":"IF(ISNUMBER(BENJAMIN!K6),BENJAMIN!K6,\" \")","v":" "},{"$f":"IF(ISNUMBER(BENJAMIN!L6),BENJAMIN!L6,\" \")","v":" "},{"$f":"IF(ISNUMBER(BENJAMIN!M6),BENJAMIN!M6,\" \")","v":0},{"$f":"IF(ISNUMBER(BENJAMIN!N6),BENJAMIN!N6,\" \")","v":" "},{"$f":"IF(ISNUMBER(BENJAMIN!O6),BENJAMIN!O6,\" \")","v":" "},{"$f":"IF(ISNUMBER(BENJAMIN!P6),BENJAMIN!P6,\" \")","v":" "},{"$f":"IF(ISNUMBER(BENJAMIN!Q6),BENJAMIN!Q6,\" \")","v":" "},{"$f":"IF(ISNUMBER(BENJAMIN!R6),BENJAMIN!R6,\" \")","v":" "},{"$f":"IF(ISNUMBER(BENJAMIN!S6),BENJAMIN!S6,\" \")","v":" "},{"$f":"IF(ISNUMBER(BENJAMIN!T6),BENJAMIN!T6,\" \")","v":0},{"$f":"IF(ISNUMBER(BENJAMIN!U6),BENJAMIN!U6,\" \")","v":" "},{"$f":"IF(ISNUMBER(BENJAMIN!V6),BENJAMIN!V6,\" \")","v":" "},{"$f":"IF(ISNUMBER(BENJAMIN!W6),BENJAMIN!W6,\" \")","v":" "},{"$f":"IF(ISNUMBER(BENJAMIN!X6),BENJAMIN!X6,\" \")","v":" "},{"$f":"IF(ISNUMBER(BENJAMIN!Y6),BENJAMIN!Y6,\" \")","v":" "},{"$f":"IF(ISNUMBER(BENJAMIN!Z6),BENJAMIN!Z6,\" \")","v":" "},{"$f":"IF(ISNUMBER(BENJAMIN!AA6),BENJAMIN!AA6,\" \")","v":0},{"$f":"IF(ISNUMBER(BENJAMIN!AB6),BENJAMIN!AB6,\" \")","v":" "},{"$f":"BENJAMIN!AC6","v":0},{"$f":"BENJAMIN!AE6","v":"00:00:00"}]
[{"$f":"BENJAMIN!A7","v":4},{"$f":"BENJAMIN!B7","v":0},{"$f":"BENJAMIN!C7","v":0},{"$f":"BENJAMIN!D7","v":0},{"$f":"BENJAMIN!E7","v":0},{"$f":"IF(ISNUMBER(BENJAMIN!G7),BENJAMIN!G7,\" \")","v":" "},{"$f":"IF(ISNUMBER(BENJAMIN!H7),BENJAMIN!H7,\" \")","v":" "},{"$f":"IF(ISNUMBER(BENJAMIN!I7),BENJAMIN!I7,\" \")","v":" "},{"$f":"IF(ISNUMBER(BENJAMIN!J7),BENJAMIN!J7,\" \")","v":" "},{"$f":"IF(ISNUMBER(BENJAMIN!K7),BENJAMIN!K7,\" \")","v":" "},{"$f":"IF(ISNUMBER(BENJAMIN!L7),BENJAMIN!L7,\" \")","v":" "},{"$f":"IF(ISNUMBER(BENJAMIN!M7),BENJAMIN!M7,\" \")","v":0},{"$f":"IF(ISNUMBER(BENJAMIN!N7),BENJAMIN!N7,\" \")","v":" "},{"$f":"IF(ISNUMBER(BENJAMIN!O7),BENJAMIN!O7,\" \")","v":" "},{"$f":"IF(ISNUMBER(BENJAMIN!P7),BENJAMIN!P7,\" \")","v":" "},{"$f":"IF(ISNUMBER(BENJAMIN!Q7),BENJAMIN!Q7,\" \")","v":" "},{"$f":"IF(ISNUMBER(BENJAMIN!R7),BENJAMIN!R7,\" \")","v":" "},{"$f":"IF(ISNUMBER(BENJAMIN!S7),BENJAMIN!S7,\" \")","v":" "},{"$f":"IF(ISNUMBER(BENJAMIN!T7),BENJAMIN!T7,\" \")","v":0},{"$f":"IF(ISNUMBER(BENJAMIN!U7),BENJAMIN!U7,\" \")","v":" "},{"$f":"IF(ISNUMBER(BENJAMIN!V7),BENJAMIN!V7,\" \")","v":" "},{"$f":"IF(ISNUMBER(BENJAMIN!W7),BENJAMIN!W7,\" \")","v":" "},{"$f":"IF(ISNUMBER(BENJAMIN!X7),BENJAMIN!X7,\" \")","v":" "},{"$f":"IF(ISNUMBER(BENJAMIN!Y7),BENJAMIN!Y7,\" \")","v":" "},{"$f":"IF(ISNUMBER(BENJAMIN!Z7),BENJAMIN!Z7,\" \")","v":" "},{"$f":"IF(ISNUMBER(BENJAMIN!AA7),BENJAMIN!AA7,\" \")","v":0},{"$f":"IF(ISNUMBER(BENJAMIN!AB7),BENJAMIN!AB7,\" \")","v":" "},{"$f":"BENJAMIN!AC7","v":0},{"$f":"BENJAMIN!AE7","v":"00:00:00"}]
[{"$f":"BENJAMIN!A8","v":5},{"$f":"BENJAMIN!B8","v":0},{"$f":"BENJAMIN!C8","v":0},{"$f":"BENJAMIN!D8","v":0},{"$f":"BENJAMIN!E8","v":0},{"$f":"IF(ISNUMBER(BENJAMIN!G8),BENJAMIN!G8,\" \")","v":" "},{"$f":"IF(ISNUMBER(BENJAMIN!H8),BENJAMIN!H8,\" \")","v":" "},{"$f":"IF(ISNUMBER(BENJAMIN!I8),BENJAMIN!I8,\" \")","v":" "},{"$f":"IF(ISNUMBER(BENJAMIN!J8),BENJAMIN!J8,\" \")","v":" "},{"$f":"IF(ISNUMBER(BENJAMIN!K8),BENJAMIN!K8,\" \")","v":" "},{"$f":"IF(ISNUMBER(BENJAMIN!L8),BENJAMIN!L8,\" \")","v":" "},{"$f":"IF(ISNUMBER(BENJAMIN!M8),BENJAMIN!M8,\" \")","v":0},{"$f":"IF(ISNUMBER(BENJAMIN!N8),BENJAMIN!N8,\" \")","v":" "},{"$f":"IF(ISNUMBER(BENJAMIN!O8),BENJAMIN!O8,\" \")","v":" "},{"$f":"IF(ISNUMBER(BENJAMIN!P8),BENJAMIN!P8,\" \")","v":" "},{"$f":"IF(ISNUMBER(BENJAMIN!Q8),BENJAMIN!Q8,\" \")","v":" "},{"$f":"IF(ISNUMBER(BENJAMIN!R8),BENJAMIN!R8,\" \")","v":" "},{"$f":"IF(ISNUMBER(BENJAMIN!S8),BENJAMIN!S8,\" \")","v":" "},{"$f":"IF(ISNUMBER(BENJAMIN!T8),BENJAMIN!T8,\" \")","v":0},{"$f":"IF(ISNUMBER(BENJAMIN!U8),BENJAMIN!U8,\" \")","v":" "},{"$f":"IF(ISNUMBER(BENJAMIN!V8),BENJAMIN!V8,\" \")","v":" "},{"$f":"IF(ISNUMBER(BENJAMIN!W8),BENJAMIN!W8,\" \")","v":" "},{"$f":"IF(ISNUMBER(BENJAMIN!X8),BENJAMIN!X8,\" \")","v":" "},{"$f":"IF(ISNUMBER(BENJAMIN!Y8),BENJAMIN!Y8,\" \")","v":" "},{"$f":"IF(ISNUMBER(BENJAMIN!Z8),BENJAMIN!Z8,\" \")","v":" "},{"$f":"IF(ISNUMBER(BENJAMIN!AA8),BENJAMIN!AA8,\" \")","v":0},{"$f":"IF(ISNUMBER(BENJAMIN!AB8),BENJAMIN!AB8,\" \")","v":" "},{"$f":"BENJAMIN!AC8","v":0},{"$f":"BENJAMIN!AE8","v":"00:00:00"}]
[{"$f":"BENJAMIN!A9","v":6},{"$f":"BENJAMIN!B9","v":0},{"$f":"BENJAMIN!C9","v":0},{"$f":"BENJAMIN!D9","v":0},{"$f":"BENJAMIN!E9","v":0},{"$f":"IF(ISNUMBER(BENJAMIN!G9),BENJAMIN!G9,\" \")","v":" "},{"$f":"IF(ISNUMBER(BENJAMIN!H9),BENJAMIN!H9,\" \")","v":" "},{"$f":"IF(ISNUMBER(BENJAMIN!I9),BENJAMIN!I9,\" \")","v":" "},{"$f":"IF(ISNUMBER(BENJAMIN!J9),BENJAMIN!J9,\" \")","v":" "},{"$f":"IF(ISNUMBER(BENJAMIN!K9),BENJAMIN!K9,\" \")","v":" "},{"$f":"IF(ISNUMBER(BENJAMIN!L9),BENJAMIN!L9,\" \")","v":" "},{"$f":"IF(ISNUMBER(BENJAMIN!M9),BENJAMIN!M9,\" \")","v":0},{"$f":"IF(ISNUMBER(BENJAMIN!N9),BENJAMIN!N9,\" \")","v":" "},{"$f":"IF(ISNUMBER(BENJAMIN!O9),BENJAMIN!O9,\" \")","v":" "},{"$f":"IF(ISNUMBER(BENJAMIN!P9),BENJAMIN!P9,\" \")","v":" "},{"$f":"IF(ISNUMBER(BENJAMIN!Q9),BENJAMIN!Q9,\" \")","v":" "},{"$f":"IF(ISNUMBER(BENJAMIN!R9),BENJAMIN!R9,\" \")","v":" "},{"$f":"IF(ISNUMBER(BENJAMIN!S9),BENJAMIN!S9,\" \")","v":" "},{"$f":"IF(ISNUMBER(BENJAMIN!T9),BENJAMIN!T9,\" \")","v":0},{"$f":"IF(ISNUMBER(BENJAMIN!U9),BENJAMIN!U9,\" \")","v":" "},{"$f":"IF(ISNUMBER(BENJAMIN!V9),BENJAMIN!V9,\" \")","v":" "},{"$f":"IF(ISNUMBER(BENJAMIN!W9),BENJAMIN!W9,\" \")","v":" "},{"$f":"IF(ISNUMBER(BENJAMIN!X9),BENJAMIN!X9,\" \")","v":" "},{"$f":"IF(ISNUMBER(BENJAMIN!Y9),BENJAMIN!Y9,\" \")","v":" "},{"$f":"IF(ISNUMBER(BENJAMIN!Z9),BENJAMIN!Z9,\" \")","v":" "},{"$f":"IF(ISNUMBER(BENJAMIN!AA9),BENJAMIN!AA9,\" \")","v":0},{"$f":"IF(ISNUMBER(BENJAMIN!AB9),BENJAMIN!AB9,\" \")","v":" "},{"$f":"BENJAMIN!AC9","v":0},{"$f":"BENJAMIN!AE9","v":"00:00:00"}]
[{"$f":"BENJAMIN!A10","v":7},{"$f":"BENJAMIN!B10","v":0},{"$f":"BENJAMIN!C10","v":0},{"$f":"BENJAMIN!D10","v":0},{"$f":"BENJAMIN!E10","v":0},{"$f":"IF(ISNUMBER(BENJAMIN!G10),BENJAMIN!G10,\" \")","v":" "},{"$f":"IF(ISNUMBER(BENJAMIN!H10),BENJAMIN!H10,\" \")","v":" "},{"$f":"IF(ISNUMBER(BENJAMIN!I10),BENJAMIN!I10,\" \")","v":" "},{"$f":"IF(ISNUMBER(BENJAMIN!J10),BENJAMIN!J10,\" \")","v":" "},{"$f":"IF(ISNUMBER(BENJAMIN!K10),BENJAMIN!K10,\" \")","v":" "},{"$f":"IF(ISNUMBER(BENJAMIN!L10),BENJAMIN!L10,\" \")","v":" "},{"$f":"IF(ISNUMBER(BENJAMIN!M10),BENJAMIN!M10,\" \")","v":0},{"$f":"IF(ISNUMBER(BENJAMIN!N10),BENJAMIN!N10,\" \")","v":" "},{"$f":"IF(ISNUMBER(BENJAMIN!O10),BENJAMIN!O10,\" \")","v":" "},{"$f":"IF(ISNUMBER(BENJAMIN!P10),BENJAMIN!P10,\" \")","v":" "},{"$f":"IF(ISNUMBER(BENJAMIN!Q10),BENJAMIN!Q10,\" \")","v":" "},{"$f":"IF(ISNUMBER(BENJAMIN!R10),BENJAMIN!R10,\" \")","v":" "},{"$f":"IF(ISNUMBER(BENJAMIN!S10),BENJAMIN!S10,\" \")","v":" "},{"$f":"IF(ISNUMBER(BENJAMIN!T10),BENJAMIN!T10,\" \")","v":0},{"$f":"IF(ISNUMBER(BENJAMIN!U10),BENJAMIN!U10,\" \")","v":" "},{"$f":"IF(ISNUMBER(BENJAMIN!V10),BENJAMIN!V10,\" \")","v":" "},{"$f":"IF(ISNUMBER(BENJAMIN!W10),BENJAMIN!W10,\" \")","v":" "},{"$f":"IF(ISNUMBER(BENJAMIN!X10),BENJAMIN!X10,\" \")","v":" "},{"$f":"IF(ISNUMBER(BENJAMIN!Y10),BENJAMIN!Y10,\" \")","v":" "},{"$f":"IF(ISNUMBER(BENJAMIN!Z10),BENJAMIN!Z10,\" \")","v":" "},{"$f":"IF(ISNUMBER(BENJAMIN!AA10),BENJAMIN!AA10,\" \")","v":0},{"$f":"IF(ISNUMBER(BENJAMIN!AB10),BENJAMIN!AB10,\" \")","v":" "},{"$f":"BENJAMIN!AC10","v":0},{"$f":"BENJAMIN!AE10","v":"00:00:00"}]
[{"$f":"BENJAMIN!A11","v":8},{"$f":"BENJAMIN!B11","v":0},{"$f":"BENJAMIN!C11","v":0},{"$f":"BENJAMIN!D11","v":0},{"$f":"BENJAMIN!E11","v":0},{"$f":"IF(ISNUMBER(BENJAMIN!G11),BENJAMIN!G11,\" \")","v":" "},{"$f":"IF(ISNUMBER(BENJAMIN!H11),BENJAMIN!H11,\" \")","v":" "},{"$f":"IF(ISNUMBER(BENJAMIN!I11),BENJAMIN!I11,\" \")","v":" "},{"$f":"IF(ISNUMBER(BENJAMIN!J11),BENJAMIN!J11,\" \")","v":" "},{"$f":"IF(ISNUMBER(BENJAMIN!K11),BENJAMIN!K11,\" \")","v":" "},{"$f":"IF(ISNUMBER(BENJAMIN!L11),BENJAMIN!L11,\" \")","v":" "},{"$f":"IF(ISNUMBER(BENJAMIN!M11),BENJAMIN!M11,\" \")","v":0},{"$f":"IF(ISNUMBER(BENJAMIN!N11),BENJAMIN!N11,\" \")","v":" "},{"$f":"IF(ISNUMBER(BENJAMIN!O11),BENJAMIN!O11,\" \")","v":" "},{"$f":"IF(ISNUMBER(BENJAMIN!P11),BENJAMIN!P11,\" \")","v":" "},{"$f":"IF(ISNUMBER(BENJAMIN!Q11),BENJAMIN!Q11,\" \")","v":" "},{"$f":"IF(ISNUMBER(BENJAMIN!R11),BENJAMIN!R11,\" \")","v":" "},{"$f":"IF(ISNUMBER(BENJAMIN!S11),BENJAMIN!S11,\" \")","v":" "},{"$f":"IF(ISNUMBER(BENJAMIN!T11),BENJAMIN!T11,\" \")","v":0},{"$f":"IF(ISNUMBER(BENJAMIN!U11),BENJAMIN!U11,\" \")","v":" "},{"$f":"IF(ISNUMBER(BENJAMIN!V11),BENJAMIN!V11,\" \")","v":" "},{"$f":"IF(ISNUMBER(BENJAMIN!W11),BENJAMIN!W11,\" \")","v":" "},{"$f":"IF(ISNUMBER(BENJAMIN!X11),BENJAMIN!X11,\" \")","v":" "},{"$f":"IF(ISNUMBER(BENJAMIN!Y11),BENJAMIN!Y11,\" \")","v":" "},{"$f":"IF(ISNUMBER(BENJAMIN!Z11),BENJAMIN!Z11,\" \")","v":" "},{"$f":"IF(ISNUMBER(BENJAMIN!AA11),BENJAMIN!AA11,\" \")","v":0},{"$f":"IF(ISNUMBER(BENJAMIN!AB11),BENJAMIN!AB11,\" \")","v":" "},{"$f":"BENJAMIN!AC11","v":0},{"$f":"BENJAMIN!AE11","v":"00:00:00"}]
[{"$f":"BENJAMIN!A12","v":9},{"$f":"BENJAMIN!B12","v":0},{"$f":"BENJAMIN!C12","v":0},{"$f":"BENJAMIN!D12","v":0},{"$f":"BENJAMIN!E12","v":0},{"$f":"IF(ISNUMBER(BENJAMIN!G12),BENJAMIN!G12,\" \")","v":" "},{"$f":"IF(ISNUMBER(BENJAMIN!H12),BENJAMIN!H12,\" \")","v":" "},{"$f":"IF(ISNUMBER(BENJAMIN!I12),BENJAMIN!I12,\" \")","v":" "},{"$f":"IF(ISNUMBER(BENJAMIN!J12),BENJAMIN!J12,\" \")","v":" "},{"$f":"IF(ISNUMBER(BENJAMIN!K12),BENJAMIN!K12,\" \")","v":" "},{"$f":"IF(ISNUMBER(BENJAMIN!L12),BENJAMIN!L12,\" \")","v":" "},{"$f":"IF(ISNUMBER(BENJAMIN!M12),BENJAMIN!M12,\" \")","v":0},{"$f":"IF(ISNUMBER(BENJAMIN!N12),BENJAMIN!N12,\" \")","v":" "},{"$f":"IF(ISNUMBER(BENJAMIN!O12),BENJAMIN!O12,\" \")","v":" "},{"$f":"IF(ISNUMBER(BENJAMIN!P12),BENJAMIN!P12,\" \")","v":" "},{"$f":"IF(ISNUMBER(BENJAMIN!Q12),BENJAMIN!Q12,\" \")","v":" "},{"$f":"IF(ISNUMBER(BENJAMIN!R12),BENJAMIN!R12,\" \")","v":" "},{"$f":"IF(ISNUMBER(BENJAMIN!S12),BENJAMIN!S12,\" \")","v":" "},{"$f":"IF(ISNUMBER(BENJAMIN!T12),BENJAMIN!T12,\" \")","v":0},{"$f":"IF(ISNUMBER(BENJAMIN!U12),BENJAMIN!U12,\" \")","v":" "},{"$f":"IF(ISNUMBER(BENJAMIN!V12),BENJAMIN!V12,\" \")","v":" "},{"$f":"IF(ISNUMBER(BENJAMIN!W12),BENJAMIN!W12,\" \")","v":" "},{"$f":"IF(ISNUMBER(BENJAMIN!X12),BENJAMIN!X12,\" \")","v":" "},{"$f":"IF(ISNUMBER(BENJAMIN!Y12),BENJAMIN!Y12,\" \")","v":" "},{"$f":"IF(ISNUMBER(BENJAMIN!Z12),BENJAMIN!Z12,\" \")","v":" "},{"$f":"IF(ISNUMBER(BENJAMIN!AA12),BENJAMIN!AA12,\" \")","v":0},{"$f":"IF(ISNUMBER(BENJAMIN!AB12),BENJAMIN!AB12,\" \")","v":" "},{"$f":"BENJAMIN!AC12","v":0},{"$f":"BENJAMIN!AE12","v":"00:00:00"}]
[{"$f":"BENJAMIN!A13","v":10},{"$f":"BENJAMIN!B13","v":0},{"$f":"BENJAMIN!C13","v":0},{"$f":"BENJAMIN!D13","v":0},{"$f":"BENJAMIN!E13","v":0},{"$f":"IF(ISNUMBER(BENJAMIN!G13),BENJAMIN!G13,\" \")","v":" "},{"$f":"IF(ISNUMBER(BENJAMIN!H13),BENJAMIN!H13,\" \")","v":" "},{"$f":"IF(ISNUMBER(BENJAMIN!I13),BENJAMIN!I13,\" \")","v":" "},{"$f":"IF(ISNUMBER(BENJAMIN!J13),BENJAMIN!J13,\" \")","v":" "},{"$f":"IF(ISNUMBER(BENJAMIN!K13),BENJAMIN!K13,\" \")","v":" "},{"$f":"IF(ISNUMBER(BENJAMIN!L13),BENJAMIN!L13,\" \")","v":" "},{"$f":"IF(ISNUMBER(BENJAMIN!M13),BENJAMIN!M13,\" \")","v":0},{"$f":"IF(ISNUMBER(BENJAMIN!N13),BENJAMIN!N13,\" \")","v":" "},{"$f":"IF(ISNUMBER(BENJAMIN!O13),BENJAMIN!O13,\" \")","v":" "},{"$f":"IF(ISNUMBER(BENJAMIN!P13),BENJAMIN!P13,\" \")","v":" "},{"$f":"IF(ISNUMBER(BENJAMIN!Q13),BENJAMIN!Q13,\" \")","v":" "},{"$f":"IF(ISNUMBER(BENJAMIN!R13),BENJAMIN!R13,\" \")","v":" "},{"$f":"IF(ISNUMBER(BENJAMIN!S13),BENJAMIN!S13,\" \")","v":" "},{"$f":"IF(ISNUMBER(BENJAMIN!T13),BENJAMIN!T13,\" \")","v":0},{"$f":"IF(ISNUMBER(BENJAMIN!U13),BENJAMIN!U13,\" \")","v":" "},{"$f":"IF(ISNUMBER(BENJAMIN!V13),BENJAMIN!V13,\" \")","v":" "},{"$f":"IF(ISNUMBER(BENJAMIN!W13),BENJAMIN!W13,\" \")","v":" "},{"$f":"IF(ISNUMBER(BENJAMIN!X13),BENJAMIN!X13,\" \")","v":" "},{"$f":"IF(ISNUMBER(BENJAMIN!Y13),BENJAMIN!Y13,\" \")","v":" "},{"$f":"IF(ISNUMBER(BENJAMIN!Z13),BENJAMIN!Z13,\" \")","v":" "},{"$f":"IF(ISNUMBER(BENJAMIN!AA13),BENJAMIN!AA13,\" \")","v":0},{"$f":"IF(ISNUMBER(BENJAMIN!AB13),BENJAMIN!AB13,\" \")","v":" "},{"$f":"BENJAMIN!AC13","v":0},{"$f":"BENJAMIN!AE13","v":"00:00:00"}]
[{"$f":"BENJAMIN!A14","v":11},{"$f":"BENJAMIN!B14","v":0},{"$f":"BENJAMIN!C14","v":0},{"$f":"BENJAMIN!D14","v":0},{"$f":"BENJAMIN!E14","v":0},{"$f":"IF(ISNUMBER(BENJAMIN!G14),BENJAMIN!G14,\" \")","v":" "},{"$f":"IF(ISNUMBER(BENJAMIN!H14),BENJAMIN!H14,\" \")","v":" "},{"$f":"IF(ISNUMBER(BENJAMIN!I14),BENJAMIN!I14,\" \")","v":" "},{"$f":"IF(ISNUMBER(BENJAMIN!J14),BENJAMIN!J14,\" \")","v":" "},{"$f":"IF(ISNUMBER(BENJAMIN!K14),BENJAMIN!K14,\" \")","v":" "},{"$f":"IF(ISNUMBER(BENJAMIN!L14),BENJAMIN!L14,\" \")","v":" "},{"$f":"IF(ISNUMBER(BENJAMIN!M14),BENJAMIN!M14,\" \")","v":0},{"$f":"IF(ISNUMBER(BENJAMIN!N14),BENJAMIN!N14,\" \")","v":" "},{"$f":"IF(ISNUMBER(BENJAMIN!O14),BENJAMIN!O14,\" \")","v":" "},{"$f":"IF(ISNUMBER(BENJAMIN!P14),BENJAMIN!P14,\" \")","v":" "},{"$f":"IF(ISNUMBER(BENJAMIN!Q14),BENJAMIN!Q14,\" \")","v":" "},{"$f":"IF(ISNUMBER(BENJAMIN!R14),BENJAMIN!R14,\" \")","v":" "},{"$f":"IF(ISNUMBER(BENJAMIN!S14),BENJAMIN!S14,\" \")","v":" "},{"$f":"IF(ISNUMBER(BENJAMIN!T14),BENJAMIN!T14,\" \")","v":0},{"$f":"IF(ISNUMBER(BENJAMIN!U14),BENJAMIN!U14,\" \")","v":" "},{"$f":"IF(ISNUMBER(BENJAMIN!V14),BENJAMIN!V14,\" \")","v":" "},{"$f":"IF(ISNUMBER(BENJAMIN!W14),BENJAMIN!W14,\" \")","v":" "},{"$f":"IF(ISNUMBER(BENJAMIN!X14),BENJAMIN!X14,\" \")","v":" "},{"$f":"IF(ISNUMBER(BENJAMIN!Y14),BENJAMIN!Y14,\" \")","v":" "},{"$f":"IF(ISNUMBER(BENJAMIN!Z14),BENJAMIN!Z14,\" \")","v":" "},{"$f":"IF(ISNUMBER(BENJAMIN!AA14),BENJAMIN!AA14,\" \")","v":0},{"$f":"IF(ISNUMBER(BENJAMIN!AB14),BENJAMIN!AB14,\" \")","v":" "},{"$f":"BENJAMIN!AC14","v":0},{"$f":"BENJAMIN!AE14","v":"00:00:00"}]
[{"$f":"BENJAMIN!A15","v":12},{"$f":"BENJAMIN!B15","v":0},{"$f":"BENJAMIN!C15","v":0},{"$f":"BENJAMIN!D15","v":0},{"$f":"BENJAMIN!E15","v":0},{"$f":"IF(ISNUMBER(BENJAMIN!G15),BENJAMIN!G15,\" \")","v":" "},{"$f":"IF(ISNUMBER(BENJAMIN!H15),BENJAMIN!H15,\" \")","v":" "},{"$f":"IF(ISNUMBER(BENJAMIN!I15),BENJAMIN!I15,\" \")","v":" "},{"$f":"IF(ISNUMBER(BENJAMIN!J15),BENJAMIN!J15,\" \")","v":" "},{"$f":"IF(ISNUMBER(BENJAMIN!K15),BENJAMIN!K15,\" \")","v":" "},{"$f":"IF(ISNUMBER(BENJAMIN!L15),BENJAMIN!L15,\" \")","v":" "},{"$f":"IF(ISNUMBER(BENJAMIN!M15),BENJAMIN!M15,\" \")","v":0},{"$f":"IF(ISNUMBER(BENJAMIN!N15),BENJAMIN!N15,\" \")","v":" "},{"$f":"IF(ISNUMBER(BENJAMIN!O15),BENJAMIN!O15,\" \")","v":" "},{"$f":"IF(ISNUMBER(BENJAMIN!P15),BENJAMIN!P15,\" \")","v":" "},{"$f":"IF(ISNUMBER(BENJAMIN!Q15),BENJAMIN!Q15,\" \")","v":" "},{"$f":"IF(ISNUMBER(BENJAMIN!R15),BENJAMIN!R15,\" \")","v":" "},{"$f":"IF(ISNUMBER(BENJAMIN!S15),BENJAMIN!S15,\" \")","v":" "},{"$f":"IF(ISNUMBER(BENJAMIN!T15),BENJAMIN!T15,\" \")","v":0},{"$f":"IF(ISNUMBER(BENJAMIN!U15),BENJAMIN!U15,\" \")","v":" "},{"$f":"IF(ISNUMBER(BENJAMIN!V15),BENJAMIN!V15,\" \")","v":" "},{"$f":"IF(ISNUMBER(BENJAMIN!W15),BENJAMIN!W15,\" \")","v":" "},{"$f":"IF(ISNUMBER(BENJAMIN!X15),BENJAMIN!X15,\" \")","v":" "},{"$f":"IF(ISNUMBER(BENJAMIN!Y15),BENJAMIN!Y15,\" \")","v":" "},{"$f":"IF(ISNUMBER(BENJAMIN!Z15),BENJAMIN!Z15,\" \")","v":" "},{"$f":"IF(ISNUMBER(BENJAMIN!AA15),BENJAMIN!AA15,\" \")","v":0},{"$f":"IF(ISNUMBER(BENJAMIN!AB15),BENJAMIN!AB15,\" \")","v":" "},{"$f":"BENJAMIN!AC15","v":0},{"$f":"BENJAMIN!AE15","v":"00:00:00"}]
[{"$f":"BENJAMIN!A16","v":13},{"$f":"BENJAMIN!B16","v":0},{"$f":"BENJAMIN!C16","v":0},{"$f":"BENJAMIN!D16","v":0},{"$f":"BENJAMIN!E16","v":0},{"$f":"IF(ISNUMBER(BENJAMIN!G16),BENJAMIN!G16,\" \")","v":" "},{"$f":"IF(ISNUMBER(BENJAMIN!H16),BENJAMIN!H16,\" \")","v":" "},{"$f":"IF(ISNUMBER(BENJAMIN!I16),BENJAMIN!I16,\" \")","v":" "},{"$f":"IF(ISNUMBER(BENJAMIN!J16),BENJAMIN!J16,\" \")","v":" "},{"$f":"IF(ISNUMBER(BENJAMIN!K16),BENJAMIN!K16,\" \")","v":" "},{"$f":"IF(ISNUMBER(BENJAMIN!L16),BENJAMIN!L16,\" \")","v":" "},{"$f":"IF(ISNUMBER(BENJAMIN!M16),BENJAMIN!M16,\" \")","v":0},{"$f":"IF(ISNUMBER(BENJAMIN!N16),BENJAMIN!N16,\" \")","v":" "},{"$f":"IF(ISNUMBER(BENJAMIN!O16),BENJAMIN!O16,\" \")","v":" "},{"$f":"IF(ISNUMBER(BENJAMIN!P16),BENJAMIN!P16,\" \")","v":" "},{"$f":"IF(ISNUMBER(BENJAMIN!Q16),BENJAMIN!Q16,\" \")","v":" "},{"$f":"IF(ISNUMBER(BENJAMIN!R16),BENJAMIN!R16,\" \")","v":" "},{"$f":"IF(ISNUMBER(BENJAMIN!S16),BENJAMIN!S16,\" \")","v":" "},{"$f":"IF(ISNUMBER(BENJAMIN!T16),BENJAMIN!T16,\" \")","v":0},{"$f":"IF(ISNUMBER(BENJAMIN!U16),BENJAMIN!U16,\" \")","v":" "},{"$f":"IF(ISNUMBER(BENJAMIN!V16),BENJAMIN!V16,\" \")","v":" "},{"$f":"IF(ISNUMBER(BENJAMIN!W16),BENJAMIN!W16,\" \")","v":" "},{"$f":"IF(ISNUMBER(BENJAMIN!X16),BENJAMIN!X16,\" \")","v":" "},{"$f":"IF(ISNUMBER(BENJAMIN!Y16),BENJAMIN!Y16,\" \")","v":" "},{"$f":"IF(ISNUMBER(BENJAMIN!Z16),BENJAMIN!Z16,\" \")","v":" "},{"$f":"IF(ISNUMBER(BENJAMIN!AA16),BENJAMIN!AA16,\" \")","v":0},{"$f":"IF(ISNUMBER(BENJAMIN!AB16),BENJAMIN!AB16,\" \")","v":" "},{"$f":"BENJAMIN!AC16","v":0},{"$f":"BENJAMIN!AE16","v":"00:00:00"}]
[{"$f":"BENJAMIN!A17","v":14},{"$f":"BENJAMIN!B17","v":0},{"$f":"BENJAMIN!C17","v":0},{"$f":"BENJAMIN!D17","v":0},{"$f":"BENJAMIN!E17","v":0},{"$f":"IF(ISNUMBER(BENJAMIN!G17),BENJAMIN!G17,\" \")","v":" "},{"$f":"IF(ISNUMBER(BENJAMIN!H17),BENJAMIN!H17,\" \")","v":" "},{"$f":"IF(ISNUMBER(BENJAMIN!I17),BENJAMIN!I17,\" \")","v":" "},{"$f":"IF(ISNUMBER(BENJAMIN!J17),BENJAMIN!J17,\" \")","v":" "},{"$f":"IF(ISNUMBER(BENJAMIN!K17),BENJAMIN!K17,\" \")","v":" "},{"$f":"IF(ISNUMBER(BENJAMIN!L17),BENJAMIN!L17,\" \")","v":" "},{"$f":"IF(ISNUMBER(BENJAMIN!M17),BENJAMIN!M17,\" \")","v":0},{"$f":"IF(ISNUMBER(BENJAMIN!N17),BENJAMIN!N17,\" \")","v":" "},{"$f":"IF(ISNUMBER(BENJAMIN!O17),BENJAMIN!O17,\" \")","v":" "},{"$f":"IF(ISNUMBER(BENJAMIN!P17),BENJAMIN!P17,\" \")","v":" "},{"$f":"IF(ISNUMBER(BENJAMIN!Q17),BENJAMIN!Q17,\" \")","v":" "},{"$f":"IF(ISNUMBER(BENJAMIN!R17),BENJAMIN!R17,\" \")","v":" "},{"$f":"IF(ISNUMBER(BENJAMIN!S17),BENJAMIN!S17,\" \")","v":" "},{"$f":"IF(ISNUMBER(BENJAMIN!T17),BENJAMIN!T17,\" \")","v":0},{"$f":"IF(ISNUMBER(BENJAMIN!U17),BENJAMIN!U17,\" \")","v":" "},{"$f":"IF(ISNUMBER(BENJAMIN!V17),BENJAMIN!V17,\" \")","v":" "},{"$f":"IF(ISNUMBER(BENJAMIN!W17),BENJAMIN!W17,\" \")","v":" "},{"$f":"IF(ISNUMBER(BENJAMIN!X17),BENJAMIN!X17,\" \")","v":" "},{"$f":"IF(ISNUMBER(BENJAMIN!Y17),BENJAMIN!Y17,\" \")","v":" "},{"$f":"IF(ISNUMBER(BENJAMIN!Z17),BENJAMIN!Z17,\" \")","v":" "},{"$f":"IF(ISNUMBER(BENJAMIN!AA17),BENJAMIN!AA17,\" \")","v":0},{"$f":"IF(ISNUMBER(BENJAMIN!AB17),BENJAMIN!AB17,\" \")","v":" "},{"$f":"BENJAMIN!AC17","v":0},{"$f":"BENJAMIN!AE17","v":"00:00:00"}]
[{"$f":"BENJAMIN!A18","v":15},{"$f":"BENJAMIN!B18","v":0},{"$f":"BENJAMIN!C18","v":0},{"$f":"BENJAMIN!D18","v":0},{"$f":"BENJAMIN!E18","v":0},{"$f":"IF(ISNUMBER(BENJAMIN!G18),BENJAMIN!G18,\" \")","v":" "},{"$f":"IF(ISNUMBER(BENJAMIN!H18),BENJAMIN!H18,\" \")","v":" "},{"$f":"IF(ISNUMBER(BENJAMIN!I18),BENJAMIN!I18,\" \")","v":" "},{"$f":"IF(ISNUMBER(BENJAMIN!J18),BENJAMIN!J18,\" \")","v":" "},{"$f":"IF(ISNUMBER(BENJAMIN!K18),BENJAMIN!K18,\" \")","v":" "},{"$f":"IF(ISNUMBER(BENJAMIN!L18),BENJAMIN!L18,\" \")","v":" "},{"$f":"IF(ISNUMBER(BENJAMIN!M18),BENJAMIN!M18,\" \")","v":0},{"$f":"IF(ISNUMBER(BENJAMIN!N18),BENJAMIN!N18,\" \")","v":" "},{"$f":"IF(ISNUMBER(BENJAMIN!O18),BENJAMIN!O18,\" \")","v":" "},{"$f":"IF(ISNUMBER(BENJAMIN!P18),BENJAMIN!P18,\" \")","v":" "},{"$f":"IF(ISNUMBER(BENJAMIN!Q18),BENJAMIN!Q18,\" \")","v":" "},{"$f":"IF(ISNUMBER(BENJAMIN!R18),BENJAMIN!R18,\" \")","v":" "},{"$f":"IF(ISNUMBER(BENJAMIN!S18),BENJAMIN!S18,\" \")","v":" "},{"$f":"IF(ISNUMBER(BENJAMIN!T18),BENJAMIN!T18,\" \")","v":0},{"$f":"IF(ISNUMBER(BENJAMIN!U18),BENJAMIN!U18,\" \")","v":" "},{"$f":"IF(ISNUMBER(BENJAMIN!V18),BENJAMIN!V18,\" \")","v":" "},{"$f":"IF(ISNUMBER(BENJAMIN!W18),BENJAMIN!W18,\" \")","v":" "},{"$f":"IF(ISNUMBER(BENJAMIN!X18),BENJAMIN!X18,\" \")","v":" "},{"$f":"IF(ISNUMBER(BENJAMIN!Y18),BENJAMIN!Y18,\" \")","v":" "},{"$f":"IF(ISNUMBER(BENJAMIN!Z18),BENJAMIN!Z18,\" \")","v":" "},{"$f":"IF(ISNUMBER(BENJAMIN!AA18),BENJAMIN!AA18,\" \")","v":0},{"$f":"IF(ISNUMBER(BENJAMIN!AB18),BENJAMIN!AB18,\" \")","v":" "},{"$f":"BENJAMIN!AC18","v":0},{"$f":"BENJAMIN!AE18","v":"00:00:00"}]
[{"$f":"BENJAMIN!A19","v":16},{"$f":"BENJAMIN!B19","v":0},{"$f":"BENJAMIN!C19","v":0},{"$f":"BENJAMIN!D19","v":0},{"$f":"BENJAMIN!E19","v":0},{"$f":"IF(ISNUMBER(BENJAMIN!G19),BENJAMIN!G19,\" \")","v":" "},{"$f":"IF(ISNUMBER(BENJAMIN!H19),BENJAMIN!H19,\" \")","v":" "},{"$f":"IF(ISNUMBER(BENJAMIN!I19),BENJAMIN!I19,\" \")","v":" "},{"$f":"IF(ISNUMBER(BENJAMIN!J19),BENJAMIN!J19,\" \")","v":" "},{"$f":"IF(ISNUMBER(BENJAMIN!K19),BENJAMIN!K19,\" \")","v":" "},{"$f":"IF(ISNUMBER(BENJAMIN!L19),BENJAMIN!L19,\" \")","v":" "},{"$f":"IF(ISNUMBER(BENJAMIN!M19),BENJAMIN!M19,\" \")","v":0},{"$f":"IF(ISNUMBER(BENJAMIN!N19),BENJAMIN!N19,\" \")","v":" "},{"$f":"IF(ISNUMBER(BENJAMIN!O19),BENJAMIN!O19,\" \")","v":" "},{"$f":"IF(ISNUMBER(BENJAMIN!P19),BENJAMIN!P19,\" \")","v":" "},{"$f":"IF(ISNUMBER(BENJAMIN!Q19),BENJAMIN!Q19,\" \")","v":" "},{"$f":"IF(ISNUMBER(BENJAMIN!R19),BENJAMIN!R19,\" \")","v":" "},{"$f":"IF(ISNUMBER(BENJAMIN!S19),BENJAMIN!S19,\" \")","v":" "},{"$f":"IF(ISNUMBER(BENJAMIN!T19),BENJAMIN!T19,\" \")","v":0},{"$f":"IF(ISNUMBER(BENJAMIN!U19),BENJAMIN!U19,\" \")","v":" "},{"$f":"IF(ISNUMBER(BENJAMIN!V19),BENJAMIN!V19,\" \")","v":" "},{"$f":"IF(ISNUMBER(BENJAMIN!W19),BENJAMIN!W19,\" \")","v":" "},{"$f":"IF(ISNUMBER(BENJAMIN!X19),BENJAMIN!X19,\" \")","v":" "},{"$f":"IF(ISNUMBER(BENJAMIN!Y19),BENJAMIN!Y19,\" \")","v":" "},{"$f":"IF(ISNUMBER(BENJAMIN!Z19),BENJAMIN!Z19,\" \")","v":" "},{"$f":"IF(ISNUMBER(BENJAMIN!AA19),BENJAMIN!AA19,\" \")","v":0},{"$f":"IF(ISNUMBER(BENJAMIN!AB19),BENJAMIN!AB19,\" \")","v":" "},{"$f":"BENJAMIN!AC19","v":0},{"$f":"BENJAMIN!AE19","v":"00:00:00"}]
[{"$f":"BENJAMIN!A20","v":17},{"$f":"BENJAMIN!B20","v":0},{"$f":"BENJAMIN!C20","v":0},{"$f":"BENJAMIN!D20","v":0},{"$f":"BENJAMIN!E20","v":0},{"$f":"IF(ISNUMBER(BENJAMIN!G20),BENJAMIN!G20,\" \")","v":" "},{"$f":"IF(ISNUMBER(BENJAMIN!H20),BENJAMIN!H20,\" \")","v":" "},{"$f":"IF(ISNUMBER(BENJAMIN!I20),BENJAMIN!I20,\" \")","v":" "},{"$f":"IF(ISNUMBER(BENJAMIN!J20),BENJAMIN!J20,\" \")","v":" "},{"$f":"IF(ISNUMBER(BENJAMIN!K20),BENJAMIN!K20,\" \")","v":" "},{"$f":"IF(ISNUMBER(BENJAMIN!L20),BENJAMIN!L20,\" \")","v":" "},{"$f":"IF(ISNUMBER(BENJAMIN!M20),BENJAMIN!M20,\" \")","v":0},{"$f":"IF(ISNUMBER(BENJAMIN!N20),BENJAMIN!N20,\" \")","v":" "},{"$f":"IF(ISNUMBER(BENJAMIN!O20),BENJAMIN!O20,\" \")","v":" "},{"$f":"IF(ISNUMBER(BENJAMIN!P20),BENJAMIN!P20,\" \")","v":" "},{"$f":"IF(ISNUMBER(BENJAMIN!Q20),BENJAMIN!Q20,\" \")","v":" "},{"$f":"IF(ISNUMBER(BENJAMIN!R20),BENJAMIN!R20,\" \")","v":" "},{"$f":"IF(ISNUMBER(BENJAMIN!S20),BENJAMIN!S20,\" \")","v":" "},{"$f":"IF(ISNUMBER(BENJAMIN!T20),BENJAMIN!T20,\" \")","v":0},{"$f":"IF(ISNUMBER(BENJAMIN!U20),BENJAMIN!U20,\" \")","v":" "},{"$f":"IF(ISNUMBER(BENJAMIN!V20),BENJAMIN!V20,\" \")","v":" "},{"$f":"IF(ISNUMBER(BENJAMIN!W20),BENJAMIN!W20,\" \")","v":" "},{"$f":"IF(ISNUMBER(BENJAMIN!X20),BENJAMIN!X20,\" \")","v":" "},{"$f":"IF(ISNUMBER(BENJAMIN!Y20),BENJAMIN!Y20,\" \")","v":" "},{"$f":"IF(ISNUMBER(BENJAMIN!Z20),BENJAMIN!Z20,\" \")","v":" "},{"$f":"IF(ISNUMBER(BENJAMIN!AA20),BENJAMIN!AA20,\" \")","v":0},{"$f":"IF(ISNUMBER(BENJAMIN!AB20),BENJAMIN!AB20,\" \")","v":" "},{"$f":"BENJAMIN!AC20","v":0},{"$f":"BENJAMIN!AE20","v":"00:00:00"}]
[{"$f":"BENJAMIN!A21","v":18},{"$f":"BENJAMIN!B21","v":0},{"$f":"BENJAMIN!C21","v":0},{"$f":"BENJAMIN!D21","v":0},{"$f":"BENJAMIN!E21","v":0},{"$f":"IF(ISNUMBER(BENJAMIN!G21),BENJAMIN!G21,\" \")","v":" "},{"$f":"IF(ISNUMBER(BENJAMIN!H21),BENJAMIN!H21,\" \")","v":" "},{"$f":"IF(ISNUMBER(BENJAMIN!I21),BENJAMIN!I21,\" \")","v":" "},{"$f":"IF(ISNUMBER(BENJAMIN!J21),BENJAMIN!J21,\" \")","v":" "},{"$f":"IF(ISNUMBER(BENJAMIN!K21),BENJAMIN!K21,\" \")","v":" "},{"$f":"IF(ISNUMBER(BENJAMIN!L21),BENJAMIN!L21,\" \")","v":" "},{"$f":"IF(ISNUMBER(BENJAMIN!M21),BENJAMIN!M21,\" \")","v":0},{"$f":"IF(ISNUMBER(BENJAMIN!N21),BENJAMIN!N21,\" \")","v":" "},{"$f":"IF(ISNUMBER(BENJAMIN!O21),BENJAMIN!O21,\" \")","v":" "},{"$f":"IF(ISNUMBER(BENJAMIN!P21),BENJAMIN!P21,\" \")","v":" "},{"$f":"IF(ISNUMBER(BENJAMIN!Q21),BENJAMIN!Q21,\" \")","v":" "},{"$f":"IF(ISNUMBER(BENJAMIN!R21),BENJAMIN!R21,\" \")","v":" "},{"$f":"IF(ISNUMBER(BENJAMIN!S21),BENJAMIN!S21,\" \")","v":" "},{"$f":"IF(ISNUMBER(BENJAMIN!T21),BENJAMIN!T21,\" \")","v":0},{"$f":"IF(ISNUMBER(BENJAMIN!U21),BENJAMIN!U21,\" \")","v":" "},{"$f":"IF(ISNUMBER(BENJAMIN!V21),BENJAMIN!V21,\" \")","v":" "},{"$f":"IF(ISNUMBER(BENJAMIN!W21),BENJAMIN!W21,\" \")","v":" "},{"$f":"IF(ISNUMBER(BENJAMIN!X21),BENJAMIN!X21,\" \")","v":" "},{"$f":"IF(ISNUMBER(BENJAMIN!Y21),BENJAMIN!Y21,\" \")","v":" "},{"$f":"IF(ISNUMBER(BENJAMIN!Z21),BENJAMIN!Z21,\" \")","v":" "},{"$f":"IF(ISNUMBER(BENJAMIN!AA21),BENJAMIN!AA21,\" \")","v":0},{"$f":"IF(ISNUMBER(BENJAMIN!AB21),BENJAMIN!AB21,\" \")","v":" "},{"$f":"BENJAMIN!AC21","v":0},{"$f":"BENJAMIN!AE21","v":"00:00:00"}]
[{"$f":"BENJAMIN!A22","v":19},{"$f":"BENJAMIN!B22","v":0},{"$f":"BENJAMIN!C22","v":0},{"$f":"BENJAMIN!D22","v":0},{"$f":"BENJAMIN!E22","v":0},{"$f":"IF(ISNUMBER(BENJAMIN!G22),BENJAMIN!G22,\" \")","v":" "},{"$f":"IF(ISNUMBER(BENJAMIN!H22),BENJAMIN!H22,\" \")","v":" "},{"$f":"IF(ISNUMBER(BENJAMIN!I22),BENJAMIN!I22,\" \")","v":" "},{"$f":"IF(ISNUMBER(BENJAMIN!J22),BENJAMIN!J22,\" \")","v":" "},{"$f":"IF(ISNUMBER(BENJAMIN!K22),BENJAMIN!K22,\" \")","v":" "},{"$f":"IF(ISNUMBER(BENJAMIN!L22),BENJAMIN!L22,\" \")","v":" "},{"$f":"IF(ISNUMBER(BENJAMIN!M22),BENJAMIN!M22,\" \")","v":0},{"$f":"IF(ISNUMBER(BENJAMIN!N22),BENJAMIN!N22,\" \")","v":" "},{"$f":"IF(ISNUMBER(BENJAMIN!O22),BENJAMIN!O22,\" \")","v":" "},{"$f":"IF(ISNUMBER(BENJAMIN!P22),BENJAMIN!P22,\" \")","v":" "},{"$f":"IF(ISNUMBER(BENJAMIN!Q22),BENJAMIN!Q22,\" \")","v":" "},{"$f":"IF(ISNUMBER(BENJAMIN!R22),BENJAMIN!R22,\" \")","v":" "},{"$f":"IF(ISNUMBER(BENJAMIN!S22),BENJAMIN!S22,\" \")","v":" "},{"$f":"IF(ISNUMBER(BENJAMIN!T22),BENJAMIN!T22,\" \")","v":0},{"$f":"IF(ISNUMBER(BENJAMIN!U22),BENJAMIN!U22,\" \")","v":" "},{"$f":"IF(ISNUMBER(BENJAMIN!V22),BENJAMIN!V22,\" \")","v":" "},{"$f":"IF(ISNUMBER(BENJAMIN!W22),BENJAMIN!W22,\" \")","v":" "},{"$f":"IF(ISNUMBER(BENJAMIN!X22),BENJAMIN!X22,\" \")","v":" "},{"$f":"IF(ISNUMBER(BENJAMIN!Y22),BENJAMIN!Y22,\" \")","v":" "},{"$f":"IF(ISNUMBER(BENJAMIN!Z22),BENJAMIN!Z22,\" \")","v":" "},{"$f":"IF(ISNUMBER(BENJAMIN!AA22),BENJAMIN!AA22,\" \")","v":0},{"$f":"IF(ISNUMBER(BENJAMIN!AB22),BENJAMIN!AB22,\" \")","v":" "},{"$f":"BENJAMIN!AC22","v":0},{"$f":"BENJAMIN!AE22","v":"00:00:00"}]
[{"$f":"BENJAMIN!A23","v":20},{"$f":"BENJAMIN!B23","v":0},{"$f":"BENJAMIN!C23","v":0},{"$f":"BENJAMIN!D23","v":0},{"$f":"BENJAMIN!E23","v":0},{"$f":"IF(ISNUMBER(BENJAMIN!G23),BENJAMIN!G23,\" \")","v":" "},{"$f":"IF(ISNUMBER(BENJAMIN!H23),BENJAMIN!H23,\" \")","v":" "},{"$f":"IF(ISNUMBER(BENJAMIN!I23),BENJAMIN!I23,\" \")","v":" "},{"$f":"IF(ISNUMBER(BENJAMIN!J23),BENJAMIN!J23,\" \")","v":" "},{"$f":"IF(ISNUMBER(BENJAMIN!K23),BENJAMIN!K23,\" \")","v":" "},{"$f":"IF(ISNUMBER(BENJAMIN!L23),BENJAMIN!L23,\" \")","v":" "},{"$f":"IF(ISNUMBER(BENJAMIN!M23),BENJAMIN!M23,\" \")","v":0},{"$f":"IF(ISNUMBER(BENJAMIN!N23),BENJAMIN!N23,\" \")","v":" "},{"$f":"IF(ISNUMBER(BENJAMIN!O23),BENJAMIN!O23,\" \")","v":" "},{"$f":"IF(ISNUMBER(BENJAMIN!P23),BENJAMIN!P23,\" \")","v":" "},{"$f":"IF(ISNUMBER(BENJAMIN!Q23),BENJAMIN!Q23,\" \")","v":" "},{"$f":"IF(ISNUMBER(BENJAMIN!R23),BENJAMIN!R23,\" \")","v":" "},{"$f":"IF(ISNUMBER(BENJAMIN!S23),BENJAMIN!S23,\" \")","v":" "},{"$f":"IF(ISNUMBER(BENJAMIN!T23),BENJAMIN!T23,\" \")","v":0},{"$f":"IF(ISNUMBER(BENJAMIN!U23),BENJAMIN!U23,\" \")","v":" "},{"$f":"IF(ISNUMBER(BENJAMIN!V23),BENJAMIN!V23,\" \")","v":" "},{"$f":"IF(ISNUMBER(BENJAMIN!W23),BENJAMIN!W23,\" \")","v":" "},{"$f":"IF(ISNUMBER(BENJAMIN!X23),BENJAMIN!X23,\" \")","v":" "},{"$f":"IF(ISNUMBER(BENJAMIN!Y23),BENJAMIN!Y23,\" \")","v":" "},{"$f":"IF(ISNUMBER(BENJAMIN!Z23),BENJAMIN!Z23,\" \")","v":" "},{"$f":"IF(ISNUMBER(BENJAMIN!AA23),BENJAMIN!AA23,\" \")","v":0},{"$f":"IF(ISNUMBER(BENJAMIN!AB23),BENJAMIN!AB23,\" \")","v":" "},{"$f":"BENJAMIN!AC23","v":0},{"$f":"BENJAMIN!AE23","v":"00:00:00"}]
[]
["KATEGORIE MINIME"]
[]
[null,null,null,null,null,{"$f":"MINIME!G2","v":"1.kolo"},null,null,null,null,null,null,{"$f":"MINIME!N2","v":"2.kolo"},null,null,null,null,null,null,{"$f":"MINIME!U2","v":"3.kolo"}]
[{"$f":"MINIME!A3","v":"pořadí"},{"$f":"MINIME!B3","v":"číslo"},{"$f":"MINIME!C3","v":"jméno"},{"$f":"MINIME!D3","v":"narození"},{"$f":"MINIME!E3","v":"klub"},{"$f":"MINIME!G3","v":1},{"$f":"MINIME!H3","v":2},{"$f":"MINIME!I3","v":3},{"$f":"MINIME!J3","v":4},{"$f":"MINIME!K3","v":5},{"$f":"MINIME!L3","v":6},{"$f":"MINIME!M3","v":"∑1"},{"$f":"MINIME!N3","v":1},{"$f":"MINIME!O3","v":2},{"$f":"MINIME!P3","v":3},{"$f":"MINIME!Q3","v":4},{"$f":"MINIME!R3","v":5},{"$f":"MINIME!S3","v":6},{"$f":"MINIME!T3","v":"∑2"},{"$f":"MINIME!U3","v":1},{"$f":"MINIME!V3","v":2},{"$f":"MINIME!W3","v":3},{"$f":"MINIME!X3","v":4},{"$f":"MINIME!Y3","v":5},{"$f":"MINIME!Z3","v":6},{"$f":"MINIME!AA3","v":"∑3"},{"$f":"MINIME!AB3","v":"penalizace"},{"$f":"MINIME!AC3","v":"∑∑"},{"$f":"MINIME!AE3","v":"čas"}]
[{"$f":"MINIME!A4","v":1},{"$f":"MINIME!B4","v":0},{"$f":"MINIME!C4","v":0},{"$f":"MINIME!D4","v":0},{"$f":"MINIME!E4","v":0},{"$f":"IF(ISNUMBER(MINIME!G4),MINIME!G4,\" \")","v":" "},{"$f":"IF(ISNUMBER(MINIME!H4),MINIME!H4,\" \")","v":" "},{"$f":"IF(ISNUMBER(MINIME!I4),MINIME!I4,\" \")","v":" "},{"$f":"IF(ISNUMBER(MINIME!J4),MINIME!J4,\" \")","v":" "},{"$f":"IF(ISNUMBER(MINIME!K4),MINIME!K4,\" \")","v":" "},{"$f":"IF(ISNUMBER(MINIME!L4),MINIME!L4,\" \")","v":" "},{"$f":"IF(ISNUMBER(MINIME!M4),MINIME!M4,\" \")","v":0},{"$f":"IF(ISNUMBER(MINIME!N4),MINIME!N4,\" \")","v":" "},{"$f":"IF(ISNUMBER(MINIME!O4),MINIME!O4,\" \")","v":" "},{"$f":"IF(ISNUMBER(MINIME!P4),MINIME!P4,\" \")","v":" "},{"$f":"IF(ISNUMBER(MINIME!Q4),MINIME!Q4,\" \")","v":" "},{"$f":"IF(ISNUMBER(MINIME!R4),MINIME!R4,\" \")","v":" "},{"$f":"IF(ISNUMBER(MINIME!S4),MINIME!S4,\" \")","v":" "},{"$f":"IF(ISNUMBER(MINIME!T4),MINIME!T4,\" \")","v":0},{"$f":"IF(ISNUMBER(MINIME!U4),MINIME!U4,\" \")","v":" "},{"$f":"IF(ISNUMBER(MINIME!V4),MINIME!V4,\" \")","v":" "},{"$f":"IF(ISNUMBER(MINIME!W4),MINIME!W4,\" \")","v":" "},{"$f":"IF(ISNUMBER(MINIME!X4),MINIME!X4,\" \")","v":" "},{"$f":"IF(ISNUMBER(MINIME!Y4),MINIME!Y4,\" \")","v":" "},{"$f":"IF(ISNUMBER(MINIME!Z4),MINIME!Z4,\" \")","v":" "},{"$f":"IF(ISNUMBER(MINIME!AA4),MINIME!AA4,\" \")","v":0},{"$f":"IF(ISNUMBER(MINIME!AB4),MINIME!AB4,\" \")","v":" "},{"$f":"MINIME!AC4","v":0},{"$f":"MINIME!AE4","v":"00:00:00"}]
[{"$f":"MINIME!A5","v":2},{"$f":"MINIME!B5","v":0},{"$f":"MINIME!C5","v":0},{"$f":"MINIME!D5","v":0},{"$f":"MINIME!E5","v":0},{"$f":"IF(ISNUMBER(MINIME!G5),MINIME!G5,\" \")","v":" "},{"$f":"IF(ISNUMBER(MINIME!H5),MINIME!H5,\" \")","v":" "},{"$f":"IF(ISNUMBER(MINIME!I5),MINIME!I5,\" \")","v":" "},{"$f":"IF(ISNUMBER(MINIME!J5),MINIME!J5,\" \")","v":" "},{"$f":"IF(ISNUMBER(MINIME!K5),MINIME!K5,\" \")","v":" "},{"$f":"IF(ISNUMBER(MINIME!L5),MINIME!L5,\" \")","v":" "},{"$f":"IF(ISNUMBER(MINIME!M5),MINIME!M5,\" \")","v":0},{"$f":"IF(ISNUMBER(MINIME!N5),MINIME!N5,\" \")","v":" "},{"$f":"IF(ISNUMBER(MINIME!O5),MINIME!O5,\" \")","v":" "},{"$f":"IF(ISNUMBER(MINIME!P5),MINIME!P5,\" \")","v":" "},{"$f":"IF(ISNUMBER(MINIME!Q5),MINIME!Q5,\" \")","v":" "},{"$f":"IF(ISNUMBER(MINIME!R5),MINIME!R5,\" \")","v":" "},{"$f":"IF(ISNUMBER(MINIME!S5),MINIME!S5,\" \")","v":" "},{"$f":"IF(ISNUMBER(MINIME!T5),MINIME!T5,\" \")","v":0},{"$f":"IF(ISNUMBER(MINIME!U5),MINIME!U5,\" \")","v":" "},{"$f":"IF(ISNUMBER(MINIME!V5),MINIME!V5,\" \")","v":" "},{"$f":"IF(ISNUMBER(MINIME!W5),MINIME!W5,\" \")","v":" "},{"$f":"IF(ISNUMBER(MINIME!X5),MINIME!X5,\" \")","v":" "},{"$f":"IF(ISNUMBER(MINIME!Y5),MINIME!Y5,\" \")","v":" "},{"$f":"IF(ISNUMBER(MINIME!Z5),MINIME!Z5,\" \")","v":" "},{"$f":"IF(ISNUMBER(MINIME!AA5),MINIME!AA5,\" \")","v":0},{"$f":"IF(ISNUMBER(MINIME!AB5),MINIME!AB5,\" \")","v":" "},{"$f":"MINIME!AC5","v":0},{"$f":"MINIME!AE5","v":"00:00:00"}]
[{"$f":"MINIME!A6","v":3},{"$f":"MINIME!B6","v":0},{"$f":"MINIME!C6","v":0},{"$f":"MINIME!D6","v":0},{"$f":"MINIME!E6","v":0},{"$f":"IF(ISNUMBER(MINIME!G6),MINIME!G6,\" \")","v":" "},{"$f":"IF(ISNUMBER(MINIME!H6),MINIME!H6,\" \")","v":" "},{"$f":"IF(ISNUMBER(MINIME!I6),MINIME!I6,\" \")","v":" "},{"$f":"IF(ISNUMBER(MINIME!J6),MINIME!J6,\" \")","v":" "},{"$f":"IF(ISNUMBER(MINIME!K6),MINIME!K6,\" \")","v":" "},{"$f":"IF(ISNUMBER(MINIME!L6),MINIME!L6,\" \")","v":" "},{"$f":"IF(ISNUMBER(MINIME!M6),MINIME!M6,\" \")","v":0},{"$f":"IF(ISNUMBER(MINIME!N6),MINIME!N6,\" \")","v":" "},{"$f":"IF(ISNUMBER(MINIME!O6),MINIME!O6,\" \")","v":" "},{"$f":"IF(ISNUMBER(MINIME!P6),MINIME!P6,\" \")","v":" "},{"$f":"IF(ISNUMBER(MINIME!Q6),MINIME!Q6,\" \")","v":" "},{"$f":"IF(ISNUMBER(MINIME!R6),MINIME!R6,\" \")","v":" "},{"$f":"IF(ISNUMBER(MINIME!S6),MINIME!S6,\" \")","v":" "},{"$f":"IF(ISNUMBER(MINIME!T6),MINIME!T6,\" \")","v":0},{"$f":"IF(ISNUMBER(MINIME!U6),MINIME!U6,\" \")","v":" "},{"$f":"IF(ISNUMBER(MINIME!V6),MINIME!V6,\" \")","v":" "},{"$f":"IF(ISNUMBER(MINIME!W6),MINIME!W6,\" \")","v":" "},{"$f":"IF(ISNUMBER(MINIME!X6),MINIME!X6,\" \")","v":" "},{"$f":"IF(ISNUMBER(MINIME!Y6),MINIME!Y6,\" \")","v":" "},{"$f":"IF(ISNUMBER(MINIME!Z6),MINIME!Z6,\" \")","v":" "},{"$f":"IF(ISNUMBER(MINIME!AA6),MINIME!AA6,\" \")","v":0},{"$f":"IF(ISNUMBER(MINIME!AB6),MINIME!AB6,\" \")","v":" "},{"$f":"MINIME!AC6","v":0},{"$f":"MINIME!AE6","v":"00:00:00"}]
[{"$f":"MINIME!A7","v":4},{"$f":"MINIME!B7","v":0},{"$f":"MINIME!C7","v":0},{"$f":"MINIME!D7","v":0},{"$f":"MINIME!E7","v":0},{"$f":"IF(ISNUMBER(MINIME!G7),MINIME!G7,\" \")","v":" "},{"$f":"IF(ISNUMBER(MINIME!H7),MINIME!H7,\" \")","v":" "},{"$f":"IF(ISNUMBER(MINIME!I7),MINIME!I7,\" \")","v":" "},{"$f":"IF(ISNUMBER(MINIME!J7),MINIME!J7,\" \")","v":" "},{"$f":"IF(ISNUMBER(MINIME!K7),MINIME!K7,\" \")","v":" "},{"$f":"IF(ISNUMBER(MINIME!L7),MINIME!L7,\" \")","v":" "},{"$f":"IF(ISNUMBER(MINIME!M7),MINIME!M7,\" \")","v":0},{"$f":"IF(ISNUMBER(MINIME!N7),MINIME!N7,\" \")","v":" "},{"$f":"IF(ISNUMBER(MINIME!O7),MINIME!O7,\" \")","v":" "},{"$f":"IF(ISNUMBER(MINIME!P7),MINIME!P7,\" \")","v":" "},{"$f":"IF(ISNUMBER(MINIME!Q7),MINIME!Q7,\" \")","v":" "},{"$f":"IF(ISNUMBER(MINIME!R7),MINIME!R7,\" \")","v":" "},{"$f":"IF(ISNUMBER(MINIME!S7),MINIME!S7,\" \")","v":" "},{"$f":"IF(ISNUMBER(MINIME!T7),MINIME!T7,\" \")","v":0},{"$f":"IF(ISNUMBER(MINIME!U7),MINIME!U7,\" \")","v":" "},{"$f":"IF(ISNUMBER(MINIME!V7),MINIME!V7,\" \")","v":" "},{"$f":"IF(ISNUMBER(MINIME!W7),MINIME!W7,\" \")","v":" "},{"$f":"IF(ISNUMBER(MINIME!X7),MINIME!X7,\" \")","v":" "},{"$f":"IF(ISNUMBER(MINIME!Y7),MINIME!Y7,\" \")","v":" "},{"$f":"IF(ISNUMBER(MINIME!Z7),MINIME!Z7,\" \")","v":" "},{"$f":"IF(ISNUMBER(MINIME!AA7),MINIME!AA7,\" \")","v":0},{"$f":"IF(ISNUMBER(MINIME!AB7),MINIME!AB7,\" \")","v":" "},{"$f":"MINIME!AC7","v":0},{"$f":"MINIME!AE7","v":"00:00:00"}]
[{"$f":"MINIME!A8","v":5},{"$f":"MINIME!B8","v":0},{"$f":"MINIME!C8","v":0},{"$f":"MINIME!D8","v":0},{"$f":"MINIME!E8","v":0},{"$f":"IF(ISNUMBER(MINIME!G8),MINIME!G8,\" \")","v":" "},{"$f":"IF(ISNUMBER(MINIME!H8),MINIME!H8,\" \")","v":" "},{"$f":"IF(ISNUMBER(MINIME!I8),MINIME!I8,\" \")","v":" "},{"$f":"IF(ISNUMBER(MINIME!J8),MINIME!J8,\" \")","v":" "},{"$f":"IF(ISNUMBER(MINIME!K8),MINIME!K8,\" \")","v":" "},{"$f":"IF(ISNUMBER(MINIME!L8),MINIME!L8,\" \")","v":" "},{"$f":"IF(ISNUMBER(MINIME!M8),MINIME!M8,\" \")","v":0},{"$f":"IF(ISNUMBER(MINIME!N8),MINIME!N8,\" \")","v":" "},{"$f":"IF(ISNUMBER(MINIME!O8),MINIME!O8,\" \")","v":" "},{"$f":"IF(ISNUMBER(MINIME!P8),MINIME!P8,\" \")","v":" "},{"$f":"IF(ISNUMBER(MINIME!Q8),MINIME!Q8,\" \")","v":" "},{"$f":"IF(ISNUMBER(MINIME!R8),MINIME!R8,\" \")","v":" "},{"$f":"IF(ISNUMBER(MINIME!S8),MINIME!S8,\" \")","v":" "},{"$f":"IF(ISNUMBER(MINIME!T8),MINIME!T8,\" \")","v":0},{"$f":"IF(ISNUMBER(MINIME!U8),MINIME!U8,\" \")","v":" "},{"$f":"IF(ISNUMBER(MINIME!V8),MINIME!V8,\" \")","v":" "},{"$f":"IF(ISNUMBER(MINIME!W8),MINIME!W8,\" \")","v":" "},{"$f":"IF(ISNUMBER(MINIME!X8),MINIME!X8,\" \")","v":" "},{"$f":"IF(ISNUMBER(MINIME!Y8),MINIME!Y8,\" \")","v":" "},{"$f":"IF(ISNUMBER(MINIME!Z8),MINIME!Z8,\" \")","v":" "},{"$f":"IF(ISNUMBER(MINIME!AA8),MINIME!AA8,\" \")","v":0},{"$f":"IF(ISNUMBER(MINIME!AB8),MINIME!AB8,\" \")","v":" "},{"$f":"MINIME!AC8","v":0},{"$f":"MINIME!AE8","v":"00:00:00"}]
[{"$f":"MINIME!A9","v":6},{"$f":"MINIME!B9","v":0},{"$f":"MINIME!C9","v":0},{"$f":"MINIME!D9","v":0},{"$f":"MINIME!E9","v":0},{"$f":"IF(ISNUMBER(MINIME!G9),MINIME!G9,\" \")","v":" "},{"$f":"IF(ISNUMBER(MINIME!H9),MINIME!H9,\" \")","v":" "},{"$f":"IF(ISNUMBER(MINIME!I9),MINIME!I9,\" \")","v":" "},{"$f":"IF(ISNUMBER(MINIME!J9),MINIME!J9,\" \")","v":" "},{"$f":"IF(ISNUMBER(MINIME!K9),MINIME!K9,\" \")","v":" "},{"$f":"IF(ISNUMBER(MINIME!L9),MINIME!L9,\" \")","v":" "},{"$f":"IF(ISNUMBER(MINIME!M9),MINIME!M9,\" \")","v":0},{"$f":"IF(ISNUMBER(MINIME!N9),MINIME!N9,\" \")","v":" "},{"$f":"IF(ISNUMBER(MINIME!O9),MINIME!O9,\" \")","v":" "},{"$f":"IF(ISNUMBER(MINIME!P9),MINIME!P9,\" \")","v":" "},{"$f":"IF(ISNUMBER(MINIME!Q9),MINIME!Q9,\" \")","v":" "},{"$f":"IF(ISNUMBER(MINIME!R9),MINIME!R9,\" \")","v":" "},{"$f":"IF(ISNUMBER(MINIME!S9),MINIME!S9,\" \")","v":" "},{"$f":"IF(ISNUMBER(MINIME!T9),MINIME!T9,\" \")","v":0},{"$f":"IF(ISNUMBER(MINIME!U9),MINIME!U9,\" \")","v":" "},{"$f":"IF(ISNUMBER(MINIME!V9),MINIME!V9,\" \")","v":" "},{"$f":"IF(ISNUMBER(MINIME!W9),MINIME!W9,\" \")","v":" "},{"$f":"IF(ISNUMBER(MINIME!X9),MINIME!X9,\" \")","v":" "},{"$f":"IF(ISNUMBER(MINIME!Y9),MINIME!Y9,\" \")","v":" "},{"$f":"IF(ISNUMBER(MINIME!Z9),MINIME!Z9,\" \")","v":" "},{"$f":"IF(ISNUMBER(MINIME!AA9),MINIME!AA9,\" \")","v":0},{"$f":"IF(ISNUMBER(MINIME!AB9),MINIME!AB9,\" \")","v":" "},{"$f":"MINIME!AC9","v":0},{"$f":"MINIME!AE9","v":"00:00:00"}]
[{"$f":"MINIME!A10","v":7},{"$f":"MINIME!B10","v":0},{"$f":"MINIME!C10","v":0},{"$f":"MINIME!D10","v":0},{"$f":"MINIME!E10","v":0},{"$f":"IF(ISNUMBER(MINIME!G10),MINIME!G10,\" \")","v":" "},{"$f":"IF(ISNUMBER(MINIME!H10),MINIME!H10,\" \")","v":" "},{"$f":"IF(ISNUMBER(MINIME!I10),MINIME!I10,\" \")","v":" "},{"$f":"IF(ISNUMBER(MINIME!J10),MINIME!J10,\" \")","v":" "},{"$f":"IF(ISNUMBER(MINIME!K10),MINIME!K10,\" \")","v":" "},{"$f":"IF(ISNUMBER(MINIME!L10),MINIME!L10,\" \")","v":" "},{"$f":"IF(ISNUMBER(MINIME!M10),MINIME!M10,\" \")","v":0},{"$f":"IF(ISNUMBER(MINIME!N10),MINIME!N10,\" \")","v":" "},{"$f":"IF(ISNUMBER(MINIME!O10),MINIME!O10,\" \")","v":" "},{"$f":"IF(ISNUMBER(MINIME!P10),MINIME!P10,\" \")","v":" "},{"$f":"IF(ISNUMBER(MINIME!Q10),MINIME!Q10,\" \")","v":" "},{"$f":"IF(ISNUMBER(MINIME!R10),MINIME!R10,\" \")","v":" "},{"$f":"IF(ISNUMBER(MINIME!S10),MINIME!S10,\" \")","v":" "},{"$f":"IF(ISNUMBER(MINIME!T10),MINIME!T10,\" \")","v":0},{"$f":"IF(ISNUMBER(MINIME!U10),MINIME!U10,\" \")","v":" "},{"$f":"IF(ISNUMBER(MINIME!V10),MINIME!V10,\" \")","v":" "},{"$f":"IF(ISNUMBER(MINIME!W10),MINIME!W10,\" \")","v":" "},{"$f":"IF(ISNUMBER(MINIME!X10),MINIME!X10,\" \")","v":" "},{"$f":"IF(ISNUMBER(MINIME!Y10),MINIME!Y10,\" \")","v":" "},{"$f":"IF(ISNUMBER(MINIME!Z10),MINIME!Z10,\" \")","v":" "},{"$f":"IF(ISNUMBER(MINIME!AA10),MINIME!AA10,\" \")","v":0},{"$f":"IF(ISNUMBER(MINIME!AB10),MINIME!AB10,\" \")","v":" "},{"$f":"MINIME!AC10","v":0},{"$f":"MINIME!AE10","v":"00:00:00"}]
[{"$f":"MINIME!A11","v":8},{"$f":"MINIME!B11","v":0},{"$f":"MINIME!C11","v":0},{"$f":"MINIME!D11","v":0},{"$f":"MINIME!E11","v":0},{"$f":"IF(ISNUMBER(MINIME!G11),MINIME!G11,\" \")","v":" "},{"$f":"IF(ISNUMBER(MINIME!H11),MINIME!H11,\" \")","v":" "},{"$f":"IF(ISNUMBER(MINIME!I11),MINIME!I11,\" \")","v":" "},{"$f":"IF(ISNUMBER(MINIME!J11),MINIME!J11,\" \")","v":" "},{"$f":"IF(ISNUMBER(MINIME!K11),MINIME!K11,\" \")","v":" "},{"$f":"IF(ISNUMBER(MINIME!L11),MINIME!L11,\" \")","v":" "},{"$f":"IF(ISNUMBER(MINIME!M11),MINIME!M11,\" \")","v":0},{"$f":"IF(ISNUMBER(MINIME!N11),MINIME!N11,\" \")","v":" "},{"$f":"IF(ISNUMBER(MINIME!O11),MINIME!O11,\" \")","v":" "},{"$f":"IF(ISNUMBER(MINIME!P11),MINIME!P11,\" \")","v":" "},{"$f":"IF(ISNUMBER(MINIME!Q11),MINIME!Q11,\" \")","v":" "},{"$f":"IF(ISNUMBER(MINIME!R11),MINIME!R11,\" \")","v":" "},{"$f":"IF(ISNUMBER(MINIME!S11),MINIME!S11,\" \")","v":" "},{"$f":"IF(ISNUMBER(MINIME!T11),MINIME!T11,\" \")","v":0},{"$f":"IF(ISNUMBER(MINIME!U11),MINIME!U11,\" \")","v":" "},{"$f":"IF(ISNUMBER(MINIME!V11),MINIME!V11,\" \")","v":" "},{"$f":"IF(ISNUMBER(MINIME!W11),MINIME!W11,\" \")","v":" "},{"$f":"IF(ISNUMBER(MINIME!X11),MINIME!X11,\" \")","v":" "},{"$f":"IF(ISNUMBER(MINIME!Y11),MINIME!Y11,\" \")","v":" "},{"$f":"IF(ISNUMBER(MINIME!Z11),MINIME!Z11,\" \")","v":" "},{"$f":"IF(ISNUMBER(MINIME!AA11),MINIME!AA11,\" \")","v":0},{"$f":"IF(ISNUMBER(MINIME!AB11),MINIME!AB11,\" \")","v":" "},{"$f":"MINIME!AC11","v":0},{"$f":"MINIME!AE11","v":"00:00:00"}]
[{"$f":"MINIME!A12","v":9},{"$f":"MINIME!B12","v":0},{"$f":"MINIME!C12","v":0},{"$f":"MINIME!D12","v":0},{"$f":"MINIME!E12","v":0},{"$f":"IF(ISNUMBER(MINIME!G12),MINIME!G12,\" \")","v":" "},{"$f":"IF(ISNUMBER(MINIME!H12),MINIME!H12,\" \")","v":" "},{"$f":"IF(ISNUMBER(MINIME!I12),MINIME!I12,\" \")","v":" "},{"$f":"IF(ISNUMBER(MINIME!J12),MINIME!J12,\" \")","v":" "},{"$f":"IF(ISNUMBER(MINIME!K12),MINIME!K12,\" \")","v":" "},{"$f":"IF(ISNUMBER(MINIME!L12),MINIME!L12,\" \")","v":" "},{"$f":"IF(ISNUMBER(MINIME!M12),MINIME!M12,\" \")","v":0},{"$f":"IF(ISNUMBER(MINIME!N12),MINIME!N12,\" \")","v":" "},{"$f":"IF(ISNUMBER(MINIME!O12),MINIME!O12,\" \")","v":" "},{"$f":"IF(ISNUMBER(MINIME!P12),MINIME!P12,\" \")","v":" "},{"$f":"IF(ISNUMBER(MINIME!Q12),MINIME!Q12,\" \")","v":" "},{"$f":"IF(ISNUMBER(MINIME!R12),MINIME!R12,\" \")","v":" "},{"$f":"IF(ISNUMBER(MINIME!S12),MINIME!S12,\" \")","v":" "},{"$f":"IF(ISNUMBER(MINIME!T12),MINIME!T12,\" \")","v":0},{"$f":"IF(ISNUMBER(MINIME!U12),MINIME!U12,\" \")","v":" "},{"$f":"IF(ISNUMBER(MINIME!V12),MINIME!V12,\" \")","v":" "},{"$f":"IF(ISNUMBER(MINIME!W12),MINIME!W12,\" \")","v":" "},{"$f":"IF(ISNUMBER(MINIME!X12),MINIME!X12,\" \")","v":" "},{"$f":"IF(ISNUMBER(MINIME!Y12),MINIME!Y12,\" \")","v":" "},{"$f":"IF(ISNUMBER(MINIME!Z12),MINIME!Z12,\" \")","v":" "},{"$f":"IF(ISNUMBER(MINIME!AA12),MINIME!AA12,\" \")","v":0},{"$f":"IF(ISNUMBER(MINIME!AB12),MINIME!AB12,\" \")","v":" "},{"$f":"MINIME!AC12","v":0},{"$f":"MINIME!AE12","v":"00:00:00"}]
[{"$f":"MINIME!A13","v":10},{"$f":"MINIME!B13","v":0},{"$f":"MINIME!C13","v":0},{"$f":"MINIME!D13","v":0},{"$f":"MINIME!E13","v":0},{"$f":"IF(ISNUMBER(MINIME!G13),MINIME!G13,\" \")","v":" "},{"$f":"IF(ISNUMBER(MINIME!H13),MINIME!H13,\" \")","v":" "},{"$f":"IF(ISNUMBER(MINIME!I13),MINIME!I13,\" \")","v":" "},{"$f":"IF(ISNUMBER(MINIME!J13),MINIME!J13,\" \")","v":" "},{"$f":"IF(ISNUMBER(MINIME!K13),MINIME!K13,\" \")","v":" "},{"$f":"IF(ISNUMBER(MINIME!L13),MINIME!L13,\" \")","v":" "},{"$f":"IF(ISNUMBER(MINIME!M13),MINIME!M13,\" \")","v":0},{"$f":"IF(ISNUMBER(MINIME!N13),MINIME!N13,\" \")","v":" "},{"$f":"IF(ISNUMBER(MINIME!O13),MINIME!O13,\" \")","v":" "},{"$f":"IF(ISNUMBER(MINIME!P13),MINIME!P13,\" \")","v":" "},{"$f":"IF(ISNUMBER(MINIME!Q13),MINIME!Q13,\" \")","v":" "},{"$f":"IF(ISNUMBER(MINIME!R13),MINIME!R13,\" \")","v":" "},{"$f":"IF(ISNUMBER(MINIME!S13),MINIME!S13,\" \")","v":" "},{"$f":"IF(ISNUMBER(MINIME!T13),MINIME!T13,\" \")","v":0},{"$f":"IF(ISNUMBER(MINIME!U13),MINIME!U13,\" \")","v":" "},{"$f":"IF(ISNUMBER(MINIME!V13),MINIME!V13,\" \")","v":" "},{"$f":"IF(ISNUMBER(MINIME!W13),MINIME!W13,\" \")","v":" "},{"$f":"IF(ISNUMBER(MINIME!X13),MINIME!X13,\" \")","v":" "},{"$f":"IF(ISNUMBER(MINIME!Y13),MINIME!Y13,\" \")","v":" "},{"$f":"IF(ISNUMBER(MINIME!Z13),MINIME!Z13,\" \")","v":" "},{"$f":"IF(ISNUMBER(MINIME!AA13),MINIME!AA13,\" \")","v":0},{"$f":"IF(ISNUMBER(MINIME!AB13),MINIME!AB13,\" \")","v":" "},{"$f":"MINIME!AC13","v":0},{"$f":"MINIME!AE13","v":"00:00:00"}]
[{"$f":"MINIME!A14","v":11},{"$f":"MINIME!B14","v":0},{"$f":"MINIME!C14","v":0},{"$f":"MINIME!D14","v":0},{"$f":"MINIME!E14","v":0},{"$f":"IF(ISNUMBER(MINIME!G14),MINIME!G14,\" \")","v":" "},{"$f":"IF(ISNUMBER(MINIME!H14),MINIME!H14,\" \")","v":" "},{"$f":"IF(ISNUMBER(MINIME!I14),MINIME!I14,\" \")","v":" "},{"$f":"IF(ISNUMBER(MINIME!J14),MINIME!J14,\" \")","v":" "},{"$f":"IF(ISNUMBER(MINIME!K14),MINIME!K14,\" \")","v":" "},{"$f":"IF(ISNUMBER(MINIME!L14),MINIME!L14,\" \")","v":" "},{"$f":"IF(ISNUMBER(MINIME!M14),MINIME!M14,\" \")","v":0},{"$f":"IF(ISNUMBER(MINIME!N14),MINIME!N14,\" \")","v":" "},{"$f":"IF(ISNUMBER(MINIME!O14),MINIME!O14,\" \")","v":" "},{"$f":"IF(ISNUMBER(MINIME!P14),MINIME!P14,\" \")","v":" "},{"$f":"IF(ISNUMBER(MINIME!Q14),MINIME!Q14,\" \")","v":" "},{"$f":"IF(ISNUMBER(MINIME!R14),MINIME!R14,\" \")","v":" "},{"$f":"IF(ISNUMBER(MINIME!S14),MINIME!S14,\" \")","v":" "},{"$f":"IF(ISNUMBER(MINIME!T14),MINIME!T14,\" \")","v":0},{"$f":"IF(ISNUMBER(MINIME!U14),MINIME!U14,\" \")","v":" "},{"$f":"IF(ISNUMBER(MINIME!V14),MINIME!V14,\" \")","v":" "},{"$f":"IF(ISNUMBER(MINIME!W14),MINIME!W14,\" \")","v":" "},{"$f":"IF(ISNUMBER(MINIME!X14),MINIME!X14,\" \")","v":" "},{"$f":"IF(ISNUMBER(MINIME!Y14),MINIME!Y14,\" \")","v":" "},{"$f":"IF(ISNUMBER(MINIME!Z14),MINIME!Z14,\" \")","v":" "},{"$f":"IF(ISNUMBER(MINIME!AA14),MINIME!AA14,\" \")","v":0},{"$f":"IF(ISNUMBER(MINIME!AB14),MINIME!AB14,\" \")","v":" "},{"$f":"MINIME!AC14","v":0},{"$f":"MINIME!AE14","v":"00:00:00"}]
[{"$f":"MINIME!A15","v":12},{"$f":"MINIME!B15","v":0},{"$f":"MINIME!C15","v":0},{"$f":"MINIME!D15","v":0},{"$f":"MINIME!E15","v":0},{"$f":"IF(ISNUMBER(MINIME!G15),MINIME!G15,\" \")","v":" "},{"$f":"IF(ISNUMBER(MINIME!H15),MINIME!H15,\" \")","v":" "},{"$f":"IF(ISNUMBER(MINIME!I15),MINIME!I15,\" \")","v":" "},{"$f":"IF(ISNUMBER(MINIME!J15),MINIME!J15,\" \")","v":" "},{"$f":"IF(ISNUMBER(MINIME!K15),MINIME!K15,\" \")","v":" "},{"$f":"IF(ISNUMBER(MINIME!L15),MINIME!L15,\" \")","v":" "},{"$f":"IF(ISNUMBER(MINIME!M15),MINIME!M15,\" \")","v":0},{"$f":"IF(ISNUMBER(MINIME!N15),MINIME!N15,\" \")","v":" "},{"$f":"IF(ISNUMBER(MINIME!O15),MINIME!O15,\" \")","v":" "},{"$f":"IF(ISNUMBER(MINIME!P15),MINIME!P15,\" \")","v":" "},{"$f":"IF(ISNUMBER(MINIME!Q15),MINIME!Q15,\" \")","v":" "},{"$f":"IF(ISNUMBER(MINIME!R15),MINIME!R15,\" \")","v":" "},{"$f":"IF(ISNUMBER(MINIME!S15),MINIME!S15,\" \")","v":" "},{"$f":"IF(ISNUMBER(MINIME!T15),MINIME!T15,\" \")","v":0},{"$f":"IF(ISNUMBER(MINIME!U15),MINIME!U15,\" \")","v":" "},{"$f":"IF(ISNUMBER(MINIME!V15),MINIME!V15,\" \")","v":" "},{"$f":"IF(ISNUMBER(MINIME!W15),MINIME!W15,\" \")","v":" "},{"$f":"IF(ISNUMBER(MINIME!X15),MINIME!X15,\" \")","v":" "},{"$f":"IF(ISNUMBER(MINIME!Y15),MINIME!Y15,\" \")","v":" "},{"$f":"IF(ISNUMBER(MINIME!Z15),MINIME!Z15,\" \")","v":" "},{"$f":"IF(ISNUMBER(MINIME!AA15),MINIME!AA15,\" \")","v":0},{"$f":"IF(ISNUMBER(MINIME!AB15),MINIME!AB15,\" \")","v":" "},{"$f":"MINIME!AC15","v":0},{"$f":"MINIME!AE15","v":"00:00:00"}]
[{"$f":"MINIME!A16","v":13},{"$f":"MINIME!B16","v":0},{"$f":"MINIME!C16","v":0},{"$f":"MINIME!D16","v":0},{"$f":"MINIME!E16","v":0},{"$f":"IF(ISNUMBER(MINIME!G16),MINIME!G16,\" \")","v":" "},{"$f":"IF(ISNUMBER(MINIME!H16),MINIME!H16,\" \")","v":" "},{"$f":"IF(ISNUMBER(MINIME!I16),MINIME!I16,\" \")","v":" "},{"$f":"IF(ISNUMBER(MINIME!J16),MINIME!J16,\" \")","v":" "},{"$f":"IF(ISNUMBER(MINIME!K16),MINIME!K16,\" \")","v":" "},{"$f":"IF(ISNUMBER(MINIME!L16),MINIME!L16,\" \")","v":" "},{"$f":"IF(ISNUMBER(MINIME!M16),MINIME!M16,\" \")","v":0},{"$f":"IF(ISNUMBER(MINIME!N16),MINIME!N16,\" \")","v":" "},{"$f":"IF(ISNUMBER(MINIME!O16),MINIME!O16,\" \")","v":" "},{"$f":"IF(ISNUMBER(MINIME!P16),MINIME!P16,\" \")","v":" "},{"$f":"IF(ISNUMBER(MINIME!Q16),MINIME!Q16,\" \")","v":" "},{"$f":"IF(ISNUMBER(MINIME!R16),MINIME!R16,\" \")","v":" "},{"$f":"IF(ISNUMBER(MINIME!S16),MINIME!S16,\" \")","v":" "},{"$f":"IF(ISNUMBER(MINIME!T16),MINIME!T16,\" \")","v":0},{"$f":"IF(ISNUMBER(MINIME!U16),MINIME!U16,\" \")","v":" "},{"$f":"IF(ISNUMBER(MINIME!V16),MINIME!V16,\" \")","v":" "},{"$f":"IF(ISNUMBER(MINIME!W16),MINIME!W16,\" \")","v":" "},{"$f":"IF(ISNUMBER(MINIME!X16),MINIME!X16,\" \")","v":" "},{"$f":"IF(ISNUMBER(MINIME!Y16),MINIME!Y16,\" \")","v":" "},{"$f":"IF(ISNUMBER(MINIME!Z16),MINIME!Z16,\" \")","v":" "},{"$f":"IF(ISNUMBER(MINIME!AA16),MINIME!AA16,\" \")","v":0},{"$f":"IF(ISNUMBER(MINIME!AB16),MINIME!AB16,\" \")","v":" "},{"$f":"MINIME!AC16","v":0},{"$f":"MINIME!AE16","v":"00:00:00"}]
[{"$f":"MINIME!A17","v":14},{"$f":"MINIME!B17","v":0},{"$f":"MINIME!C17","v":0},{"$f":"MINIME!D17","v":0},{"$f":"MINIME!E17","v":0},{"$f":"IF(ISNUMBER(MINIME!G17),MINIME!G17,\" \")","v":" "},{"$f":"IF(ISNUMBER(MINIME!H17),MINIME!H17,\" \")","v":" "},{"$f":"IF(ISNUMBER(MINIME!I17),MINIME!I17,\" \")","v":" "},{"$f":"IF(ISNUMBER(MINIME!J17),MINIME!J17,\" \")","v":" "},{"$f":"IF(ISNUMBER(MINIME!K17),MINIME!K17,\" \")","v":" "},{"$f":"IF(ISNUMBER(MINIME!L17),MINIME!L17,\" \")","v":" "},{"$f":"IF(ISNUMBER(MINIME!M17),MINIME!M17,\" \")","v":0},{"$f":"IF(ISNUMBER(MINIME!N17),MINIME!N17,\" \")","v":" "},{"$f":"IF(ISNUMBER(MINIME!O17),MINIME!O17,\" \")","v":" "},{"$f":"IF(ISNUMBER(MINIME!P17),MINIME!P17,\" \")","v":" "},{"$f":"IF(ISNUMBER(MINIME!Q17),MINIME!Q17,\" \")","v":" "},{"$f":"IF(ISNUMBER(MINIME!R17),MINIME!R17,\" \")","v":" "},{"$f":"IF(ISNUMBER(MINIME!S17),MINIME!S17,\" \")","v":" "},{"$f":"IF(ISNUMBER(MINIME!T17),MINIME!T17,\" \")","v":0},{"$f":"IF(ISNUMBER(MINIME!U17),MINIME!U17,\" \")","v":" "},{"$f":"IF(ISNUMBER(MINIME!V17),MINIME!V17,\" \")","v":" "},{"$f":"IF(ISNUMBER(MINIME!W17),MINIME!W17,\" \")","v":" "},{"$f":"IF(ISNUMBER(MINIME!X17),MINIME!X17,\" \")","v":" "},{"$f":"IF(ISNUMBER(MINIME!Y17),MINIME!Y17,\" \")","v":" "},{"$f":"IF(ISNUMBER(MINIME!Z17),MINIME!Z17,\" \")","v":" "},{"$f":"IF(ISNUMBER(MINIME!AA17),MINIME!AA17,\" \")","v":0},{"$f":"IF(ISNUMBER(MINIME!AB17),MINIME!AB17,\" \")","v":" "},{"$f":"MINIME!AC17","v":0},{"$f":"MINIME!AE17","v":"00:00:00"}]
[{"$f":"MINIME!A18","v":15},{"$f":"MINIME!B18","v":0},{"$f":"MINIME!C18","v":0},{"$f":"MINIME!D18","v":0},{"$f":"MINIME!E18","v":0},{"$f":"IF(ISNUMBER(MINIME!G18),MINIME!G18,\" \")","v":" "},{"$f":"IF(ISNUMBER(MINIME!H18),MINIME!H18,\" \")","v":" "},{"$f":"IF(ISNUMBER(MINIME!I18),MINIME!I18,\" \")","v":" "},{"$f":"IF(ISNUMBER(MINIME!J18),MINIME!J18,\" \")","v":" "},{"$f":"IF(ISNUMBER(MINIME!K18),MINIME!K18,\" \")","v":" "},{"$f":"IF(ISNUMBER(MINIME!L18),MINIME!L18,\" \")","v":" "},{"$f":"IF(ISNUMBER(MINIME!M18),MINIME!M18,\" \")","v":0},{"$f":"IF(ISNUMBER(MINIME!N18),MINIME!N18,\" \")","v":" "},{"$f":"IF(ISNUMBER(MINIME!O18),MINIME!O18,\" \")","v":" "},{"$f":"IF(ISNUMBER(MINIME!P18),MINIME!P18,\" \")","v":" "},{"$f":"IF(ISNUMBER(MINIME!Q18),MINIME!Q18,\" \")","v":" "},{"$f":"IF(ISNUMBER(MINIME!R18),MINIME!R18,\" \")","v":" "},{"$f":"IF(ISNUMBER(MINIME!S18),MINIME!S18,\" \")","v":" "},{"$f":"IF(ISNUMBER(MINIME!T18),MINIME!T18,\" \")","v":0},{"$f":"IF(ISNUMBER(MINIME!U18),MINIME!U18,\" \")","v":" "},{"$f":"IF(ISNUMBER(MINIME!V18),MINIME!V18,\" \")","v":" "},{"$f":"IF(ISNUMBER(MINIME!W18),MINIME!W18,\" \")","v":" "},{"$f":"IF(ISNUMBER(MINIME!X18),MINIME!X18,\" \")","v":" "},{"$f":"IF(ISNUMBER(MINIME!Y18),MINIME!Y18,\" \")","v":" "},{"$f":"IF(ISNUMBER(MINIME!Z18),MINIME!Z18,\" \")","v":" "},{"$f":"IF(ISNUMBER(MINIME!AA18),MINIME!AA18,\" \")","v":0},{"$f":"IF(ISNUMBER(MINIME!AB18),MINIME!AB18,\" \")","v":" "},{"$f":"MINIME!AC18","v":0},{"$f":"MINIME!AE18","v":"00:00:00"}]
[{"$f":"MINIME!A19","v":16},{"$f":"MINIME!B19","v":0},{"$f":"MINIME!C19","v":0},{"$f":"MINIME!D19","v":0},{"$f":"MINIME!E19","v":0},{"$f":"IF(ISNUMBER(MINIME!G19),MINIME!G19,\" \")","v":" "},{"$f":"IF(ISNUMBER(MINIME!H19),MINIME!H19,\" \")","v":" "},{"$f":"IF(ISNUMBER(MINIME!I19),MINIME!I19,\" \")","v":" "},{"$f":"IF(ISNUMBER(MINIME!J19),MINIME!J19,\" \")","v":" "},{"$f":"IF(ISNUMBER(MINIME!K19),MINIME!K19,\" \")","v":" "},{"$f":"IF(ISNUMBER(MINIME!L19),MINIME!L19,\" \")","v":" "},{"$f":"IF(ISNUMBER(MINIME!M19),MINIME!M19,\" \")","v":0},{"$f":"IF(ISNUMBER(MINIME!N19),MINIME!N19,\" \")","v":" "},{"$f":"IF(ISNUMBER(MINIME!O19),MINIME!O19,\" \")","v":" "},{"$f":"IF(ISNUMBER(MINIME!P19),MINIME!P19,\" \")","v":" "},{"$f":"IF(ISNUMBER(MINIME!Q19),MINIME!Q19,\" \")","v":" "},{"$f":"IF(ISNUMBER(MINIME!R19),MINIME!R19,\" \")","v":" "},{"$f":"IF(ISNUMBER(MINIME!S19),MINIME!S19,\" \")","v":" "},{"$f":"IF(ISNUMBER(MINIME!T19),MINIME!T19,\" \")","v":0},{"$f":"IF(ISNUMBER(MINIME!U19),MINIME!U19,\" \")","v":" "},{"$f":"IF(ISNUMBER(MINIME!V19),MINIME!V19,\" \")","v":" "},{"$f":"IF(ISNUMBER(MINIME!W19),MINIME!W19,\" \")","v":" "},{"$f":"IF(ISNUMBER(MINIME!X19),MINIME!X19,\" \")","v":" "},{"$f":"IF(ISNUMBER(MINIME!Y19),MINIME!Y19,\" \")","v":" "},{"$f":"IF(ISNUMBER(MINIME!Z19),MINIME!Z19,\" \")","v":" "},{"$f":"IF(ISNUMBER(MINIME!AA19),MINIME!AA19,\" \")","v":0},{"$f":"IF(ISNUMBER(MINIME!AB19),MINIME!AB19,\" \")","v":" "},{"$f":"MINIME!AC19","v":0},{"$f":"MINIME!AE19","v":"00:00:00"}]
[{"$f":"MINIME!A20","v":17},{"$f":"MINIME!B20","v":0},{"$f":"MINIME!C20","v":0},{"$f":"MINIME!D20","v":0},{"$f":"MINIME!E20","v":0},{"$f":"IF(ISNUMBER(MINIME!G20),MINIME!G20,\" \")","v":" "},{"$f":"IF(ISNUMBER(MINIME!H20),MINIME!H20,\" \")","v":" "},{"$f":"IF(ISNUMBER(MINIME!I20),MINIME!I20,\" \")","v":" "},{"$f":"IF(ISNUMBER(MINIME!J20),MINIME!J20,\" \")","v":" "},{"$f":"IF(ISNUMBER(MINIME!K20),MINIME!K20,\" \")","v":" "},{"$f":"IF(ISNUMBER(MINIME!L20),MINIME!L20,\" \")","v":" "},{"$f":"IF(ISNUMBER(MINIME!M20),MINIME!M20,\" \")","v":0},{"$f":"IF(ISNUMBER(MINIME!N20),MINIME!N20,\" \")","v":" "},{"$f":"IF(ISNUMBER(MINIME!O20),MINIME!O20,\" \")","v":" "},{"$f":"IF(ISNUMBER(MINIME!P20),MINIME!P20,\" \")","v":" "},{"$f":"IF(ISNUMBER(MINIME!Q20),MINIME!Q20,\" \")","v":" "},{"$f":"IF(ISNUMBER(MINIME!R20),MINIME!R20,\" \")","v":" "},{"$f":"IF(ISNUMBER(MINIME!S20),MINIME!S20,\" \")","v":" "},{"$f":"IF(ISNUMBER(MINIME!T20),MINIME!T20,\" \")","v":0},{"$f":"IF(ISNUMBER(MINIME!U20),MINIME!U20,\" \")","v":" "},{"$f":"IF(ISNUMBER(MINIME!V20),MINIME!V20,\" \")","v":" "},{"$f":"IF(ISNUMBER(MINIME!W20),MINIME!W20,\" \")","v":" "},{"$f":"IF(ISNUMBER(MINIME!X20),MINIME!X20,\" \")","v":" "},{"$f":"IF(ISNUMBER(MINIME!Y20),MINIME!Y20,\" \")","v":" "},{"$f":"IF(ISNUMBER(MINIME!Z20),MINIME!Z20,\" \")","v":" "},{"$f":"IF(ISNUMBER(MINIME!AA20),MINIME!AA20,\" \")","v":0},{"$f":"IF(ISNUMBER(MINIME!AB20),MINIME!AB20,\" \")","v":" "},{"$f":"MINIME!AC20","v":0},{"$f":"MINIME!AE20","v":"00:00:00"}]
[{"$f":"MINIME!A21","v":18},{"$f":"MINIME!B21","v":0},{"$f":"MINIME!C21","v":0},{"$f":"MINIME!D21","v":0},{"$f":"MINIME!E21","v":0},{"$f":"IF(ISNUMBER(MINIME!G21),MINIME!G21,\" \")","v":" "},{"$f":"IF(ISNUMBER(MINIME!H21),MINIME!H21,\" \")","v":" "},{"$f":"IF(ISNUMBER(MINIME!I21),MINIME!I21,\" \")","v":" "},{"$f":"IF(ISNUMBER(MINIME!J21),MINIME!J21,\" \")","v":" "},{"$f":"IF(ISNUMBER(MINIME!K21),MINIME!K21,\" \")","v":" "},{"$f":"IF(ISNUMBER(MINIME!L21),MINIME!L21,\" \")","v":" "},{"$f":"IF(ISNUMBER(MINIME!M21),MINIME!M21,\" \")","v":0},{"$f":"IF(ISNUMBER(MINIME!N21),MINIME!N21,\" \")","v":" "},{"$f":"IF(ISNUMBER(MINIME!O21),MINIME!O21,\" \")","v":" "},{"$f":"IF(ISNUMBER(MINIME!P21),MINIME!P21,\" \")","v":" "},{"$f":"IF(ISNUMBER(MINIME!Q21),MINIME!Q21,\" \")","v":" "},{"$f":"IF(ISNUMBER(MINIME!R21),MINIME!R21,\" \")","v":" "},{"$f":"IF(ISNUMBER(MINIME!S21),MINIME!S21,\" \")","v":" "},{"$f":"IF(ISNUMBER(MINIME!T21),MINIME!T21,\" \")","v":0},{"$f":"IF(ISNUMBER(MINIME!U21),MINIME!U21,\" \")","v":" "},{"$f":"IF(ISNUMBER(MINIME!V21),MINIME!V21,\" \")","v":" "},{"$f":"IF(ISNUMBER(MINIME!W21),MINIME!W21,\" \")","v":" "},{"$f":"IF(ISNUMBER(MINIME!X21),MINIME!X21,\" \")","v":" "},{"$f":"IF(ISNUMBER(MINIME!Y21),MINIME!Y21,\" \")","v":" "},{"$f":"IF(ISNUMBER(MINIME!Z21),MINIME!Z21,\" \")","v":" "},{"$f":"IF(ISNUMBER(MINIME!AA21),MINIME!AA21,\" \")","v":0},{"$f":"IF(ISNUMBER(MINIME!AB21),MINIME!AB21,\" \")","v":" "},{"$f":"MINIME!AC21","v":0},{"$f":"MINIME!AE21","v":"00:00:00"}]
[{"$f":"MINIME!A22","v":19},{"$f":"MINIME!B22","v":0},{"$f":"MINIME!C22","v":0},{"$f":"MINIME!D22","v":0},{"$f":"MINIME!E22","v":0},{"$f":"IF(ISNUMBER(MINIME!G22),MINIME!G22,\" \")","v":" "},{"$f":"IF(ISNUMBER(MINIME!H22),MINIME!H22,\" \")","v":" "},{"$f":"IF(ISNUMBER(MINIME!I22),MINIME!I22,\" \")","v":" "},{"$f":"IF(ISNUMBER(MINIME!J22),MINIME!J22,\" \")","v":" "},{"$f":"IF(ISNUMBER(MINIME!K22),MINIME!K22,\" \")","v":" "},{"$f":"IF(ISNUMBER(MINIME!L22),MINIME!L22,\" \")","v":" "},{"$f":"IF(ISNUMBER(MINIME!M22),MINIME!M22,\" \")","v":0},{"$f":"IF(ISNUMBER(MINIME!N22),MINIME!N22,\" \")","v":" "},{"$f":"IF(ISNUMBER(MINIME!O22),MINIME!O22,\" \")","v":" "},{"$f":"IF(ISNUMBER(MINIME!P22),MINIME!P22,\" \")","v":" "},{"$f":"IF(ISNUMBER(MINIME!Q22),MINIME!Q22,\" \")","v":" "},{"$f":"IF(ISNUMBER(MINIME!R22),MINIME!R22,\" \")","v":" "},{"$f":"IF(ISNUMBER(MINIME!S22),MINIME!S22,\" \")","v":" "},{"$f":"IF(ISNUMBER(MINIME!T22),MINIME!T22,\" \")","v":0},{"$f":"IF(ISNUMBER(MINIME!U22),MINIME!U22,\" \")","v":" "},{"$f":"IF(ISNUMBER(MINIME!V22),MINIME!V22,\" \")","v":" "},{"$f":"IF(ISNUMBER(MINIME!W22),MINIME!W22,\" \")","v":" "},{"$f":"IF(ISNUMBER(MINIME!X22),MINIME!X22,\" \")","v":" "},{"$f":"IF(ISNUMBER(MINIME!Y22),MINIME!Y22,\" \")","v":" "},{"$f":"IF(ISNUMBER(MINIME!Z22),MINIME!Z22,\" \")","v":" "},{"$f":"IF(ISNUMBER(MINIME!AA22),MINIME!AA22,\" \")","v":0},{"$f":"IF(ISNUMBER(MINIME!AB22),MINIME!AB22,\" \")","v":" "},{"$f":"MINIME!AC22","v":0},{"$f":"MINIME!AE22","v":"00:00:00"}]
[{"$f":"MINIME!A23","v":20},{"$f":"MINIME!B23","v":0},{"$f":"MINIME!C23","v":0},{"$f":"MINIME!D23","v":0},{"$f":"MINIME!E23","v":0},{"$f":"IF(ISNUMBER(MINIME!G23),MINIME!G23,\" \")","v":" "},{"$f":"IF(ISNUMBER(MINIME!H23),MINIME!H23,\" \")","v":" "},{"$f":"IF(ISNUMBER(MINIME!I23),MINIME!I23,\" \")","v":" "},{"$f":"IF(ISNUMBER(MINIME!J23),MINIME!J23,\" \")","v":" "},{"$f":"IF(ISNUMBER(MINIME!K23),MINIME!K23,\" \")","v":" "},{"$f":"IF(ISNUMBER(MINIME!L23),MINIME!L23,\" \")","v":" "},{"$f":"IF(ISNUMBER(MINIME!M23),MINIME!M23,\" \")","v":0},{"$f":"IF(ISNUMBER(MINIME!N23),MINIME!N23,\" \")","v":" "},{"$f":"IF(ISNUMBER(MINIME!O23),MINIME!O23,\" \")","v":" "},{"$f":"IF(ISNUMBER(MINIME!P23),MINIME!P23,\" \")","v":" "},{"$f":"IF(ISNUMBER(MINIME!Q23),MINIME!Q23,\" \")","v":" "},{"$f":"IF(ISNUMBER(MINIME!R23),MINIME!R23,\" \")","v":" "},{"$f":"IF(ISNUMBER(MINIME!S23),MINIME!S23,\" \")","v":" "},{"$f":"IF(ISNUMBER(MINIME!T23),MINIME!T23,\" \")","v":0},{"$f":"IF(ISNUMBER(MINIME!U23),MINIME!U23,\" \")","v":" "},{"$f":"IF(ISNUMBER(MINIME!V23),MINIME!V23,\" \")","v":" "},{"$f":"IF(ISNUMBER(MINIME!W23),MINIME!W23,\" \")","v":" "},{"$f":"IF(ISNUMBER(MINIME!X23),MINIME!X23,\" \")","v":" "},{"$f":"IF(ISNUMBER(MINIME!Y23),MINIME!Y23,\" \")","v":" "},{"$f":"IF(ISNUMBER(MINIME!Z23),MINIME!Z23,\" \")","v":" "},{"$f":"IF(ISNUMBER(MINIME!AA23),MINIME!AA23,\" \")","v":0},{"$f":"IF(ISNUMBER(MINIME!AB23),MINIME!AB23,\" \")","v":" "},{"$f":"MINIME!AC23","v":0},{"$f":"MINIME!AE23","v":"00:00:00"}]
[]
["KATEGORIE CADET"]
[]
[null,null,null,null,null,{"$f":"CADET!G2","v":"1.kolo"},null,null,null,null,null,null,{"$f":"CADET!N2","v":"2.kolo"},null,null,null,null,null,null,{"$f":"CADET!U2","v":"3.kolo"}]
[{"$f":"CADET!A3","v":"pořadí"},{"$f":"CADET!B3","v":"číslo"},{"$f":"CADET!C3","v":"jméno"},{"$f":"CADET!D3","v":"narození"},{"$f":"CADET!E3","v":"klub"},{"$f":"CADET!G3","v":1},{"$f":"CADET!H3","v":2},{"$f":"CADET!I3","v":3},{"$f":"CADET!J3","v":4},{"$f":"CADET!K3","v":5},{"$f":"CADET!L3","v":6},{"$f":"CADET!M3","v":"∑1"},{"$f":"CADET!N3","v":1},{"$f":"CADET!O3","v":2},{"$f":"CADET!P3","v":3},{"$f":"CADET!Q3","v":4},{"$f":"CADET!R3","v":5},{"$f":"CADET!S3","v":6},{"$f":"CADET!T3","v":"∑2"},{"$f":"CADET!U3","v":1},{"$f":"CADET!V3","v":2},{"$f":"CADET!W3","v":3},{"$f":"CADET!X3","v":4},{"$f":"CADET!Y3","v":5},{"$f":"CADET!Z3","v":6},{"$f":"CADET!AA3","v":"∑3"},{"$f":"CADET!AB3","v":"penalizace"},{"$f":"CADET!AC3","v":"∑∑"},{"$f":"CADET!AE3","v":"čas"}]
[{"$f":"CADET!A4","v":1},{"$f":"CADET!B4","v":0},{"$f":"CADET!C4","v":0},{"$f":"CADET!D4","v":0},{"$f":"CADET!E4","v":0},{"$f":"IF(ISNUMBER(CADET!G4),CADET!G4,\" \")","v":" "},{"$f":"IF(ISNUMBER(CADET!H4),CADET!H4,\" \")","v":" "},{"$f":"IF(ISNUMBER(CADET!I4),CADET!I4,\" \")","v":" "},{"$f":"IF(ISNUMBER(CADET!J4),CADET!J4,\" \")","v":" "},{"$f":"IF(ISNUMBER(CADET!K4),CADET!K4,\" \")","v":" "},{"$f":"IF(ISNUMBER(CADET!L4),CADET!L4,\" \")","v":" "},{"$f":"IF(ISNUMBER(CADET!M4),CADET!M4,\" \")","v":0},{"$f":"IF(ISNUMBER(CADET!N4),CADET!N4,\" \")","v":" "},{"$f":"IF(ISNUMBER(CADET!O4),CADET!O4,\" \")","v":" "},{"$f":"IF(ISNUMBER(CADET!P4),CADET!P4,\" \")","v":" "},{"$f":"IF(ISNUMBER(CADET!Q4),CADET!Q4,\" \")","v":" "},{"$f":"IF(ISNUMBER(CADET!R4),CADET!R4,\" \")","v":" "},{"$f":"IF(ISNUMBER(CADET!S4),CADET!S4,\" \")","v":" "},{"$f":"IF(ISNUMBER(CADET!T4),CADET!T4,\" \")","v":0},{"$f":"IF(ISNUMBER(CADET!U4),CADET!U4,\" \")","v":" "},{"$f":"IF(ISNUMBER(CADET!V4),CADET!V4,\" \")","v":" "},{"$f":"IF(ISNUMBER(CADET!W4),CADET!W4,\" \")","v":" "},{"$f":"IF(ISNUMBER(CADET!X4),CADET!X4,\" \")","v":" "},{"$f":"IF(ISNUMBER(CADET!Y4),CADET!Y4,\" \")","v":" "},{"$f":"IF(ISNUMBER(CADET!Z4),CADET!Z4,\" \")","v":" "},{"$f":"IF(ISNUMBER(CADET!AA4),CADET!AA4,\" \")","v":0},{"$f":"IF(ISNUMBER(CADET!AB4),CADET!AB4,\" \")","v":" "},{"$f":"CADET!AC4","v":0},{"$f":"CADET!AE4","v":"00:00:00"}]
[{"$f":"CADET!A5","v":2},{"$f":"CADET!B5","v":0},{"$f":"CADET!C5","v":0},{"$f":"CADET!D5","v":0},{"$f":"CADET!E5","v":0},{"$f":"IF(ISNUMBER(CADET!G5),CADET!G5,\" \")","v":" "},{"$f":"IF(ISNUMBER(CADET!H5),CADET!H5,\" \")","v":" "},{"$f":"IF(ISNUMBER(CADET!I5),CADET!I5,\" \")","v":" "},{"$f":"IF(ISNUMBER(CADET!J5),CADET!J5,\" \")","v":" "},{"$f":"IF(ISNUMBER(CADET!K5),CADET!K5,\" \")","v":" "},{"$f":"IF(ISNUMBER(CADET!L5),CADET!L5,\" \")","v":" "},{"$f":"IF(ISNUMBER(CADET!M5),CADET!M5,\" \")","v":0},{"$f":"IF(ISNUMBER(CADET!N5),CADET!N5,\" \")","v":" "},{"$f":"IF(ISNUMBER(CADET!O5),CADET!O5,\" \")","v":" "},{"$f":"IF(ISNUMBER(CADET!P5),CADET!P5,\" \")","v":" "},{"$f":"IF(ISNUMBER(CADET!Q5),CADET!Q5,\" \")","v":" "},{"$f":"IF(ISNUMBER(CADET!R5),CADET!R5,\" \")","v":" "},{"$f":"IF(ISNUMBER(CADET!S5),CADET!S5,\" \")","v":" "},{"$f":"IF(ISNUMBER(CADET!T5),CADET!T5,\" \")","v":0},{"$f":"IF(ISNUMBER(CADET!U5),CADET!U5,\" \")","v":" "},{"$f":"IF(ISNUMBER(CADET!V5),CADET!V5,\" \")","v":" "},{"$f":"IF(ISNUMBER(CADET!W5),CADET!W5,\" \")","v":" "},{"$f":"IF(ISNUMBER(CADET!X5),CADET!X5,\" \")","v":" "},{"$f":"IF(ISNUMBER(CADET!Y5),CADET!Y5,\" \")","v":" "},{"$f":"IF(ISNUMBER(CADET!Z5),CADET!Z5,\" \")","v":" "},{"$f":"IF(ISNUMBER(CADET!AA5),CADET!AA5,\" \")","v":0},{"$f":"IF(ISNUMBER(CADET!AB5),CADET!AB5,\" \")","v":" "},{"$f":"CADET!AC5","v":0},{"$f":"CADET!AE5","v":"00:00:00"}]
[{"$f":"CADET!A6","v":3},{"$f":"CADET!B6","v":0},{"$f":"CADET!C6","v":0},{"$f":"CADET!D6","v":0},{"$f":"CADET!E6","v":0},{"$f":"IF(ISNUMBER(CADET!G6),CADET!G6,\" \")","v":" "},{"$f":"IF(ISNUMBER(CADET!H6),CADET!H6,\" \")","v":" "},{"$f":"IF(ISNUMBER(CADET!I6),CADET!I6,\" \")","v":" "},{"$f":"IF(ISNUMBER(CADET!J6),CADET!J6,\" \")","v":" "},{"$f":"IF(ISNUMBER(CADET!K6),CADET!K6,\" \")","v":" "},{"$f":"IF(ISNUMBER(CADET!L6),CADET!L6,\" \")","v":" "},{"$f":"IF(ISNUMBER(CADET!M6),CADET!M6,\" \")","v":0},{"$f":"IF(ISNUMBER(CADET!N6),CADET!N6,\" \")","v":" "},{"$f":"IF(ISNUMBER(CADET!O6),CADET!O6,\" \")","v":" "},{"$f":"IF(ISNUMBER(CADET!P6),CADET!P6,\" \")","v":" "},{"$f":"IF(ISNUMBER(CADET!Q6),CADET!Q6,\" \")","v":" "},{"$f":"IF(ISNUMBER(CADET!R6),CADET!R6,\" \")","v":" "},{"$f":"IF(ISNUMBER(CADET!S6),CADET!S6,\" \")","v":" "},{"$f":"IF(ISNUMBER(CADET!T6),CADET!T6,\" \")","v":0},{"$f":"IF(ISNUMBER(CADET!U6),CADET!U6,\" \")","v":" "},{"$f":"IF(ISNUMBER(CADET!V6),CADET!V6,\" \")","v":" "},{"$f":"IF(ISNUMBER(CADET!W6),CADET!W6,\" \")","v":" "},{"$f":"IF(ISNUMBER(CADET!X6),CADET!X6,\" \")","v":" "},{"$f":"IF(ISNUMBER(CADET!Y6),CADET!Y6,\" \")","v":" "},{"$f":"IF(ISNUMBER(CADET!Z6),CADET!Z6,\" \")","v":" "},{"$f":"IF(ISNUMBER(CADET!AA6),CADET!AA6,\" \")","v":0},{"$f":"IF(ISNUMBER(CADET!AB6),CADET!AB6,\" \")","v":" "},{"$f":"CADET!AC6","v":0},{"$f":"CADET!AE6","v":"00:00:00"}]
[{"$f":"CADET!A7","v":4},{"$f":"CADET!B7","v":0},{"$f":"CADET!C7","v":0},{"$f":"CADET!D7","v":0},{"$f":"CADET!E7","v":0},{"$f":"IF(ISNUMBER(CADET!G7),CADET!G7,\" \")","v":" "},{"$f":"IF(ISNUMBER(CADET!H7),CADET!H7,\" \")","v":" "},{"$f":"IF(ISNUMBER(CADET!I7),CADET!I7,\" \")","v":" "},{"$f":"IF(ISNUMBER(CADET!J7),CADET!J7,\" \")","v":" "},{"$f":"IF(ISNUMBER(CADET!K7),CADET!K7,\" \")","v":" "},{"$f":"IF(ISNUMBER(CADET!L7),CADET!L7,\" \")","v":" "},{"$f":"IF(ISNUMBER(CADET!M7),CADET!M7,\" \")","v":0},{"$f":"IF(ISNUMBER(CADET!N7),CADET!N7,\" \")","v":" "},{"$f":"IF(ISNUMBER(CADET!O7),CADET!O7,\" \")","v":" "},{"$f":"IF(ISNUMBER(CADET!P7),CADET!P7,\" \")","v":" "},{"$f":"IF(ISNUMBER(CADET!Q7),CADET!Q7,\" \")","v":" "},{"$f":"IF(ISNUMBER(CADET!R7),CADET!R7,\" \")","v":" "},{"$f":"IF(ISNUMBER(CADET!S7),CADET!S7,\" \")","v":" "},{"$f":"IF(ISNUMBER(CADET!T7),CADET!T7,\" \")","v":0},{"$f":"IF(ISNUMBER(CADET!U7),CADET!U7,\" \")","v":" "},{"$f":"IF(ISNUMBER(CADET!V7),CADET!V7,\" \")","v":" "},{"$f":"IF(ISNUMBER(CADET!W7),CADET!W7,\" \")","v":" "},{"$f":"IF(ISNUMBER(CADET!X7),CADET!X7,\" \")","v":" "},{"$f":"IF(ISNUMBER(CADET!Y7),CADET!Y7,\" \")","v":" "},{"$f":"IF(ISNUMBER(CADET!Z7),CADET!Z7,\" \")","v":" "},{"$f":"IF(ISNUMBER(CADET!AA7),CADET!AA7,\" \")","v":0},{"$f":"IF(ISNUMBER(CADET!AB7),CADET!AB7,\" \")","v":" "},{"$f":"CADET!AC7","v":0},{"$f":"CADET!AE7","v":"00:00:00"}]
[{"$f":"CADET!A8","v":5},{"$f":"CADET!B8","v":0},{"$f":"CADET!C8","v":0},{"$f":"CADET!D8","v":0},{"$f":"CADET!E8","v":0},{"$f":"IF(ISNUMBER(CADET!G8),CADET!G8,\" \")","v":" "},{"$f":"IF(ISNUMBER(CADET!H8),CADET!H8,\" \")","v":" "},{"$f":"IF(ISNUMBER(CADET!I8),CADET!I8,\" \")","v":" "},{"$f":"IF(ISNUMBER(CADET!J8),CADET!J8,\" \")","v":" "},{"$f":"IF(ISNUMBER(CADET!K8),CADET!K8,\" \")","v":" "},{"$f":"IF(ISNUMBER(CADET!L8),CADET!L8,\" \")","v":" "},{"$f":"IF(ISNUMBER(CADET!M8),CADET!M8,\" \")","v":0},{"$f":"IF(ISNUMBER(CADET!N8),CADET!N8,\" \")","v":" "},{"$f":"IF(ISNUMBER(CADET!O8),CADET!O8,\" \")","v":" "},{"$f":"IF(ISNUMBER(CADET!P8),CADET!P8,\" \")","v":" "},{"$f":"IF(ISNUMBER(CADET!Q8),CADET!Q8,\" \")","v":" "},{"$f":"IF(ISNUMBER(CADET!R8),CADET!R8,\" \")","v":" "},{"$f":"IF(ISNUMBER(CADET!S8),CADET!S8,\" \")","v":" "},{"$f":"IF(ISNUMBER(CADET!T8),CADET!T8,\" \")","v":0},{"$f":"IF(ISNUMBER(CADET!U8),CADET!U8,\" \")","v":" "},{"$f":"IF(ISNUMBER(CADET!V8),CADET!V8,\" \")","v":" "},{"$f":"IF(ISNUMBER(CADET!W8),CADET!W8,\" \")","v":" "},{"$f":"IF(ISNUMBER(CADET!X8),CADET!X8,\" \")","v":" "},{"$f":"IF(ISNUMBER(CADET!Y8),CADET!Y8,\" \")","v":" "},{"$f":"IF(ISNUMBER(CADET!Z8),CADET!Z8,\" \")","v":" "},{"$f":"IF(ISNUMBER(CADET!AA8),CADET!AA8,\" \")","v":0},{"$f":"IF(ISNUMBER(CADET!AB8),CADET!AB8,\" \")","v":" "},{"$f":"CADET!AC8","v":0},{"$f":"CADET!AE8","v":"00:00:00"}]
[{"$f":"CADET!A9","v":6},{"$f":"CADET!B9","v":0},{"$f":"CADET!C9","v":0},{"$f":"CADET!D9","v":0},{"$f":"CADET!E9","v":0},{"$f":"IF(ISNUMBER(CADET!G9),CADET!G9,\" \")","v":" "},{"$f":"IF(ISNUMBER(CADET!H9),CADET!H9,\" \")","v":" "},{"$f":"IF(ISNUMBER(CADET!I9),CADET!I9,\" \")","v":" "},{"$f":"IF(ISNUMBER(CADET!J9),CADET!J9,\" \")","v":" "},{"$f":"IF(ISNUMBER(CADET!K9),CADET!K9,\" \")","v":" "},{"$f":"IF(ISNUMBER(CADET!L9),CADET!L9,\" \")","v":" "},{"$f":"IF(ISNUMBER(CADET!M9),CADET!M9,\" \")","v":0},{"$f":"IF(ISNUMBER(CADET!N9),CADET!N9,\" \")","v":" "},{"$f":"IF(ISNUMBER(CADET!O9),CADET!O9,\" \")","v":" "},{"$f":"IF(ISNUMBER(CADET!P9),CADET!P9,\" \")","v":" "},{"$f":"IF(ISNUMBER(CADET!Q9),CADET!Q9,\" \")","v":" "},{"$f":"IF(ISNUMBER(CADET!R9),CADET!R9,\" \")","v":" "},{"$f":"IF(ISNUMBER(CADET!S9),CADET!S9,\" \")","v":" "},{"$f":"IF(ISNUMBER(CADET!T9),CADET!T9,\" \")","v":0},{"$f":"IF(ISNUMBER(CADET!U9),CADET!U9,\" \")","v":" "},{"$f":"IF(ISNUMBER(CADET!V9),CADET!V9,\" \")","v":" "},{"$f":"IF(ISNUMBER(CADET!W9),CADET!W9,\" \")","v":" "},{"$f":"IF(ISNUMBER(CADET!X9),CADET!X9,\" \")","v":" "},{"$f":"IF(ISNUMBER(CADET!Y9),CADET!Y9,\" \")","v":" "},{"$f":"IF(ISNUMBER(CADET!Z9),CADET!Z9,\" \")","v":" "},{"$f":"IF(ISNUMBER(CADET!AA9),CADET!AA9,\" \")","v":0},{"$f":"IF(ISNUMBER(CADET!AB9),CADET!AB9,\" \")","v":" "},{"$f":"CADET!AC9","v":0},{"$f":"CADET!AE9","v":"00:00:00"}]
[{"$f":"CADET!A10","v":7},{"$f":"CADET!B10","v":0},{"$f":"CADET!C10","v":0},{"$f":"CADET!D10","v":0},{"$f":"CADET!E10","v":0},{"$f":"IF(ISNUMBER(CADET!G10),CADET!G10,\" \")","v":" "},{"$f":"IF(ISNUMBER(CADET!H10),CADET!H10,\" \")","v":" "},{"$f":"IF(ISNUMBER(CADET!I10),CADET!I10,\" \")","v":" "},{"$f":"IF(ISNUMBER(CADET!J10),CADET!J10,\" \")","v":" "},{"$f":"IF(ISNUMBER(CADET!K10),CADET!K10,\" \")","v":" "},{"$f":"IF(ISNUMBER(CADET!L10),CADET!L10,\" \")","v":" "},{"$f":"IF(ISNUMBER(CADET!M10),CADET!M10,\" \")","v":0},{"$f":"IF(ISNUMBER(CADET!N10),CADET!N10,\" \")","v":" "},{"$f":"IF(ISNUMBER(CADET!O10),CADET!O10,\" \")","v":" "},{"$f":"IF(ISNUMBER(CADET!P10),CADET!P10,\" \")","v":" "},{"$f":"IF(ISNUMBER(CADET!Q10),CADET!Q10,\" \")","v":" "},{"$f":"IF(ISNUMBER(CADET!R10),CADET!R10,\" \")","v":" "},{"$f":"IF(ISNUMBER(CADET!S10),CADET!S10,\" \")","v":" "},{"$f":"IF(ISNUMBER(CADET!T10),CADET!T10,\" \")","v":0},{"$f":"IF(ISNUMBER(CADET!U10),CADET!U10,\" \")","v":" "},{"$f":"IF(ISNUMBER(CADET!V10),CADET!V10,\" \")","v":" "},{"$f":"IF(ISNUMBER(CADET!W10),CADET!W10,\" \")","v":" "},{"$f":"IF(ISNUMBER(CADET!X10),CADET!X10,\" \")","v":" "},{"$f":"IF(ISNUMBER(CADET!Y10),CADET!Y10,\" \")","v":" "},{"$f":"IF(ISNUMBER(CADET!Z10),CADET!Z10,\" \")","v":" "},{"$f":"IF(ISNUMBER(CADET!AA10),CADET!AA10,\" \")","v":0},{"$f":"IF(ISNUMBER(CADET!AB10),CADET!AB10,\" \")","v":" "},{"$f":"CADET!AC10","v":0},{"$f":"CADET!AE10","v":"00:00:00"}]
[{"$f":"CADET!A11","v":8},{"$f":"CADET!B11","v":0},{"$f":"CADET!C11","v":0},{"$f":"CADET!D11","v":0},{"$f":"CADET!E11","v":0},{"$f":"IF(ISNUMBER(CADET!G11),CADET!G11,\" \")","v":" "},{"$f":"IF(ISNUMBER(CADET!H11),CADET!H11,\" \")","v":" "},{"$f":"IF(ISNUMBER(CADET!I11),CADET!I11,\" \")","v":" "},{"$f":"IF(ISNUMBER(CADET!J11),CADET!J11,\" \")","v":" "},{"$f":"IF(ISNUMBER(CADET!K11),CADET!K11,\" \")","v":" "},{"$f":"IF(ISNUMBER(CADET!L11),CADET!L11,\" \")","v":" "},{"$f":"IF(ISNUMBER(CADET!M11),CADET!M11,\" \")","v":0},{"$f":"IF(ISNUMBER(CADET!N11),CADET!N11,\" \")","v":" "},{"$f":"IF(ISNUMBER(CADET!O11),CADET!O11,\" \")","v":" "},{"$f":"IF(ISNUMBER(CADET!P11),CADET!P11,\" \")","v":" "},{"$f":"IF(ISNUMBER(CADET!Q11),CADET!Q11,\" \")","v":" "},{"$f":"IF(ISNUMBER(CADET!R11),CADET!R11,\" \")","v":" "},{"$f":"IF(ISNUMBER(CADET!S11),CADET!S11,\" \")","v":" "},{"$f":"IF(ISNUMBER(CADET!T11),CADET!T11,\" \")","v":0},{"$f":"IF(ISNUMBER(CADET!U11),CADET!U11,\" \")","v":" "},{"$f":"IF(ISNUMBER(CADET!V11),CADET!V11,\" \")","v":" "},{"$f":"IF(ISNUMBER(CADET!W11),CADET!W11,\" \")","v":" "},{"$f":"IF(ISNUMBER(CADET!X11),CADET!X11,\" \")","v":" "},{"$f":"IF(ISNUMBER(CADET!Y11),CADET!Y11,\" \")","v":" "},{"$f":"IF(ISNUMBER(CADET!Z11),CADET!Z11,\" \")","v":" "},{"$f":"IF(ISNUMBER(CADET!AA11),CADET!AA11,\" \")","v":0},{"$f":"IF(ISNUMBER(CADET!AB11),CADET!AB11,\" \")","v":" "},{"$f":"CADET!AC11","v":0},{"$f":"CADET!AE11","v":"00:00:00"}]
[{"$f":"CADET!A12","v":9},{"$f":"CADET!B12","v":0},{"$f":"CADET!C12","v":0},{"$f":"CADET!D12","v":0},{"$f":"CADET!E12","v":0},{"$f":"IF(ISNUMBER(CADET!G12),CADET!G12,\" \")","v":" "},{"$f":"IF(ISNUMBER(CADET!H12),CADET!H12,\" \")","v":" "},{"$f":"IF(ISNUMBER(CADET!I12),CADET!I12,\" \")","v":" "},{"$f":"IF(ISNUMBER(CADET!J12),CADET!J12,\" \")","v":" "},{"$f":"IF(ISNUMBER(CADET!K12),CADET!K12,\" \")","v":" "},{"$f":"IF(ISNUMBER(CADET!L12),CADET!L12,\" \")","v":" "},{"$f":"IF(ISNUMBER(CADET!M12),CADET!M12,\" \")","v":0},{"$f":"IF(ISNUMBER(CADET!N12),CADET!N12,\" \")","v":" "},{"$f":"IF(ISNUMBER(CADET!O12),CADET!O12,\" \")","v":" "},{"$f":"IF(ISNUMBER(CADET!P12),CADET!P12,\" \")","v":" "},{"$f":"IF(ISNUMBER(CADET!Q12),CADET!Q12,\" \")","v":" "},{"$f":"IF(ISNUMBER(CADET!R12),CADET!R12,\" \")","v":" "},{"$f":"IF(ISNUMBER(CADET!S12),CADET!S12,\" \")","v":" "},{"$f":"IF(ISNUMBER(CADET!T12),CADET!T12,\" \")","v":0},{"$f":"IF(ISNUMBER(CADET!U12),CADET!U12,\" \")","v":" "},{"$f":"IF(ISNUMBER(CADET!V12),CADET!V12,\" \")","v":" "},{"$f":"IF(ISNUMBER(CADET!W12),CADET!W12,\" \")","v":" "},{"$f":"IF(ISNUMBER(CADET!X12),CADET!X12,\" \")","v":" "},{"$f":"IF(ISNUMBER(CADET!Y12),CADET!Y12,\" \")","v":" "},{"$f":"IF(ISNUMBER(CADET!Z12),CADET!Z12,\" \")","v":" "},{"$f":"IF(ISNUMBER(CADET!AA12),CADET!AA12,\" \")","v":0},{"$f":"IF(ISNUMBER(CADET!AB12),CADET!AB12,\" \")","v":" "},{"$f":"CADET!AC12","v":0},{"$f":"CADET!AE12","v":"00:00:00"}]
[{"$f":"CADET!A13","v":10},{"$f":"CADET!B13","v":0},{"$f":"CADET!C13","v":0},{"$f":"CADET!D13","v":0},{"$f":"CADET!E13","v":0},{"$f":"IF(ISNUMBER(CADET!G13),CADET!G13,\" \")","v":" "},{"$f":"IF(ISNUMBER(CADET!H13),CADET!H13,\" \")","v":" "},{"$f":"IF(ISNUMBER(CADET!I13),CADET!I13,\" \")","v":" "},{"$f":"IF(ISNUMBER(CADET!J13),CADET!J13,\" \")","v":" "},{"$f":"IF(ISNUMBER(CADET!K13),CADET!K13,\" \")","v":" "},{"$f":"IF(ISNUMBER(CADET!L13),CADET!L13,\" \")","v":" "},{"$f":"IF(ISNUMBER(CADET!M13),CADET!M13,\" \")","v":0},{"$f":"IF(ISNUMBER(CADET!N13),CADET!N13,\" \")","v":" "},{"$f":"IF(ISNUMBER(CADET!O13),CADET!O13,\" \")","v":" "},{"$f":"IF(ISNUMBER(CADET!P13),CADET!P13,\" \")","v":" "},{"$f":"IF(ISNUMBER(CADET!Q13),CADET!Q13,\" \")","v":" "},{"$f":"IF(ISNUMBER(CADET!R13),CADET!R13,\" \")","v":" "},{"$f":"IF(ISNUMBER(CADET!S13),CADET!S13,\" \")","v":" "},{"$f":"IF(ISNUMBER(CADET!T13),CADET!T13,\" \")","v":0},{"$f":"IF(ISNUMBER(CADET!U13),CADET!U13,\" \")","v":" "},{"$f":"IF(ISNUMBER(CADET!V13),CADET!V13,\" \")","v":" "},{"$f":"IF(ISNUMBER(CADET!W13),CADET!W13,\" \")","v":" "},{"$f":"IF(ISNUMBER(CADET!X13),CADET!X13,\" \")","v":" "},{"$f":"IF(ISNUMBER(CADET!Y13),CADET!Y13,\" \")","v":" "},{"$f":"IF(ISNUMBER(CADET!Z13),CADET!Z13,\" \")","v":" "},{"$f":"IF(ISNUMBER(CADET!AA13),CADET!AA13,\" \")","v":0},{"$f":"IF(ISNUMBER(CADET!AB13),CADET!AB13,\" \")","v":" "},{"$f":"CADET!AC13","v":0},{"$f":"CADET!AE13","v":"00:00:00"}]
[{"$f":"CADET!A14","v":11},{"$f":"CADET!B14","v":0},{"$f":"CADET!C14","v":0},{"$f":"CADET!D14","v":0},{"$f":"CADET!E14","v":0},{"$f":"IF(ISNUMBER(CADET!G14),CADET!G14,\" \")","v":" "},{"$f":"IF(ISNUMBER(CADET!H14),CADET!H14,\" \")","v":" "},{"$f":"IF(ISNUMBER(CADET!I14),CADET!I14,\" \")","v":" "},{"$f":"IF(ISNUMBER(CADET!J14),CADET!J14,\" \")","v":" "},{"$f":"IF(ISNUMBER(CADET!K14),CADET!K14,\" \")","v":" "},{"$f":"IF(ISNUMBER(CADET!L14),CADET!L14,\" \")","v":" "},{"$f":"IF(ISNUMBER(CADET!M14),CADET!M14,\" \")","v":0},{"$f":"IF(ISNUMBER(CADET!N14),CADET!N14,\" \")","v":" "},{"$f":"IF(ISNUMBER(CADET!O14),CADET!O14,\" \")","v":" "},{"$f":"IF(ISNUMBER(CADET!P14),CADET!P14,\" \")","v":" "},{"$f":"IF(ISNUMBER(CADET!Q14),CADET!Q14,\" \")","v":" "},{"$f":"IF(ISNUMBER(CADET!R14),CADET!R14,\" \")","v":" "},{"$f":"IF(ISNUMBER(CADET!S14),CADET!S14,\" \")","v":" "},{"$f":"IF(ISNUMBER(CADET!T14),CADET!T14,\" \")","v":0},{"$f":"IF(ISNUMBER(CADET!U14),CADET!U14,\" \")","v":" "},{"$f":"IF(ISNUMBER(CADET!V14),CADET!V14,\" \")","v":" "},{"$f":"IF(ISNUMBER(CADET!W14),CADET!W14,\" \")","v":" "},{"$f":"IF(ISNUMBER(CADET!X14),CADET!X14,\" \")","v":" "},{"$f":"IF(ISNUMBER(CADET!Y14),CADET!Y14,\" \")","v":" "},{"$f":"IF(ISNUMBER(CADET!Z14),CADET!Z14,\" \")","v":" "},{"$f":"IF(ISNUMBER(CADET!AA14),CADET!AA14,\" \")","v":0},{"$f":"IF(ISNUMBER(CADET!AB14),CADET!AB14,\" \")","v":" "},{"$f":"CADET!AC14","v":0},{"$f":"CADET!AE14","v":"00:00:00"}]
[{"$f":"CADET!A15","v":12},{"$f":"CADET!B15","v":0},{"$f":"CADET!C15","v":0},{"$f":"CADET!D15","v":0},{"$f":"CADET!E15","v":0},{"$f":"IF(ISNUMBER(CADET!G15),CADET!G15,\" \")","v":" "},{"$f":"IF(ISNUMBER(CADET!H15),CADET!H15,\" \")","v":" "},{"$f":"IF(ISNUMBER(CADET!I15),CADET!I15,\" \")","v":" "},{"$f":"IF(ISNUMBER(CADET!J15),CADET!J15,\" \")","v":" "},{"$f":"IF(ISNUMBER(CADET!K15),CADET!K15,\" \")","v":" "},{"$f":"IF(ISNUMBER(CADET!L15),CADET!L15,\" \")","v":" "},{"$f":"IF(ISNUMBER(CADET!M15),CADET!M15,\" \")","v":0},{"$f":"IF(ISNUMBER(CADET!N15),CADET!N15,\" \")","v":" "},{"$f":"IF(ISNUMBER(CADET!O15),CADET!O15,\" \")","v":" "},{"$f":"IF(ISNUMBER(CADET!P15),CADET!P15,\" \")","v":" "},{"$f":"IF(ISNUMBER(CADET!Q15),CADET!Q15,\" \")","v":" "},{"$f":"IF(ISNUMBER(CADET!R15),CADET!R15,\" \")","v":" "},{"$f":"IF(ISNUMBER(CADET!S15),CADET!S15,\" \")","v":" "},{"$f":"IF(ISNUMBER(CADET!T15),CADET!T15,\" \")","v":0},{"$f":"IF(ISNUMBER(CADET!U15),CADET!U15,\" \")","v":" "},{"$f":"IF(ISNUMBER(CADET!V15),CADET!V15,\" \")","v":" "},{"$f":"IF(ISNUMBER(CADET!W15),CADET!W15,\" \")","v":" "},{"$f":"IF(ISNUMBER(CADET!X15),CADET!X15,\" \")","v":" "},{"$f":"IF(ISNUMBER(CADET!Y15),CADET!Y15,\" \")","v":" "},{"$f":"IF(ISNUMBER(CADET!Z15),CADET!Z15,\" \")","v":" "},{"$f":"IF(ISNUMBER(CADET!AA15),CADET!AA15,\" \")","v":0},{"$f":"IF(ISNUMBER(CADET!AB15),CADET!AB15,\" \")","v":" "},{"$f":"CADET!AC15","v":0},{"$f":"CADET!AE15","v":"00:00:00"}]
[{"$f":"CADET!A16","v":13},{"$f":"CADET!B16","v":0},{"$f":"CADET!C16","v":0},{"$f":"CADET!D16","v":0},{"$f":"CADET!E16","v":0},{"$f":"IF(ISNUMBER(CADET!G16),CADET!G16,\" \")","v":" "},{"$f":"IF(ISNUMBER(CADET!H16),CADET!H16,\" \")","v":" "},{"$f":"IF(ISNUMBER(CADET!I16),CADET!I16,\" \")","v":" "},{"$f":"IF(ISNUMBER(CADET!J16),CADET!J16,\" \")","v":" "},{"$f":"IF(ISNUMBER(CADET!K16),CADET!K16,\" \")","v":" "},{"$f":"IF(ISNUMBER(CADET!L16),CADET!L16,\" \")","v":" "},{"$f":"IF(ISNUMBER(CADET!M16),CADET!M16,\" \")","v":0},{"$f":"IF(ISNUMBER(CADET!N16),CADET!N16,\" \")","v":" "},{"$f":"IF(ISNUMBER(CADET!O16),CADET!O16,\" \")","v":" "},{"$f":"IF(ISNUMBER(CADET!P16),CADET!P16,\" \")","v":" "},{"$f":"IF(ISNUMBER(CADET!Q16),CADET!Q16,\" \")","v":" "},{"$f":"IF(ISNUMBER(CADET!R16),CADET!R16,\" \")","v":" "},{"$f":"IF(ISNUMBER(CADET!S16),CADET!S16,\" \")","v":" "},{"$f":"IF(ISNUMBER(CADET!T16),CADET!T16,\" \")","v":0},{"$f":"IF(ISNUMBER(CADET!U16),CADET!U16,\" \")","v":" "},{"$f":"IF(ISNUMBER(CADET!V16),CADET!V16,\" \")","v":" "},{"$f":"IF(ISNUMBER(CADET!W16),CADET!W16,\" \")","v":" "},{"$f":"IF(ISNUMBER(CADET!X16),CADET!X16,\" \")","v":" "},{"$f":"IF(ISNUMBER(CADET!Y16),CADET!Y16,\" \")","v":" "},{"$f":"IF(ISNUMBER(CADET!Z16),CADET!Z16,\" \")","v":" "},{"$f":"IF(ISNUMBER(CADET!AA16),CADET!AA16,\" \")","v":0},{"$f":"IF(ISNUMBER(CADET!AB16),CADET!AB16,\" \")","v":" "},{"$f":"CADET!AC16","v":0},{"$f":"CADET!AE16","v":"00:00:00"}]
[{"$f":"CADET!A17","v":14},{"$f":"CADET!B17","v":0},{"$f":"CADET!C17","v":0},{"$f":"CADET!D17","v":0},{"$f":"CADET!E17","v":0},{"$f":"IF(ISNUMBER(CADET!G17),CADET!G17,\" \")","v":" "},{"$f":"IF(ISNUMBER(CADET!H17),CADET!H17,\" \")","v":" "},{"$f":"IF(ISNUMBER(CADET!I17),CADET!I17,\" \")","v":" "},{"$f":"IF(ISNUMBER(CADET!J17),CADET!J17,\" \")","v":" "},{"$f":"IF(ISNUMBER(CADET!K17),CADET!K17,\" \")","v":" "},{"$f":"IF(ISNUMBER(CADET!L17),CADET!L17,\" \")","v":" "},{"$f":"IF(ISNUMBER(CADET!M17),CADET!M17,\" \")","v":0},{"$f":"IF(ISNUMBER(CADET!N17),CADET!N17,\" \")","v":" "},{"$f":"IF(ISNUMBER(CADET!O17),CADET!O17,\" \")","v":" "},{"$f":"IF(ISNUMBER(CADET!P17),CADET!P17,\" \")","v":" "},{"$f":"IF(ISNUMBER(CADET!Q17),CADET!Q17,\" \")","v":" "},{"$f":"IF(ISNUMBER(CADET!R17),CADET!R17,\" \")","v":" "},{"$f":"IF(ISNUMBER(CADET!S17),CADET!S17,\" \")","v":" "},{"$f":"IF(ISNUMBER(CADET!T17),CADET!T17,\" \")","v":0},{"$f":"IF(ISNUMBER(CADET!U17),CADET!U17,\" \")","v":" "},{"$f":"IF(ISNUMBER(CADET!V17),CADET!V17,\" \")","v":" "},{"$f":"IF(ISNUMBER(CADET!W17),CADET!W17,\" \")","v":" "},{"$f":"IF(ISNUMBER(CADET!X17),CADET!X17,\" \")","v":" "},{"$f":"IF(ISNUMBER(CADET!Y17),CADET!Y17,\" \")","v":" "},{"$f":"IF(ISNUMBER(CADET!Z17),CADET!Z17,\" \")","v":" "},{"$f":"IF(ISNUMBER(CADET!AA17),CADET!AA17,\" \")","v":0},{"$f":"IF(ISNUMBER(CADET!AB17),CADET!AB17,\" \")","v":" "},{"$f":"CADET!AC17","v":0},{"$f":"CADET!AE17","v":"00:00:00"}]
[{"$f":"CADET!A18","v":15},{"$f":"CADET!B18","v":0},{"$f":"CADET!C18","v":0},{"$f":"CADET!D18","v":0},{"$f":"CADET!E18","v":0},{"$f":"IF(ISNUMBER(CADET!G18),CADET!G18,\" \")","v":" "},{"$f":"IF(ISNUMBER(CADET!H18),CADET!H18,\" \")","v":" "},{"$f":"IF(ISNUMBER(CADET!I18),CADET!I18,\" \")","v":" "},{"$f":"IF(ISNUMBER(CADET!J18),CADET!J18,\" \")","v":" "},{"$f":"IF(ISNUMBER(CADET!K18),CADET!K18,\" \")","v":" "},{"$f":"IF(ISNUMBER(CADET!L18),CADET!L18,\" \")","v":" "},{"$f":"IF(ISNUMBER(CADET!M18),CADET!M18,\" \")","v":0},{"$f":"IF(ISNUMBER(CADET!N18),CADET!N18,\" \")","v":" "},{"$f":"IF(ISNUMBER(CADET!O18),CADET!O18,\" \")","v":" "},{"$f":"IF(ISNUMBER(CADET!P18),CADET!P18,\" \")","v":" "},{"$f":"IF(ISNUMBER(CADET!Q18),CADET!Q18,\" \")","v":" "},{"$f":"IF(ISNUMBER(CADET!R18),CADET!R18,\" \")","v":" "},{"$f":"IF(ISNUMBER(CADET!S18),CADET!S18,\" \")","v":" "},{"$f":"IF(ISNUMBER(CADET!T18),CADET!T18,\" \")","v":0},{"$f":"IF(ISNUMBER(CADET!U18),CADET!U18,\" \")","v":" "},{"$f":"IF(ISNUMBER(CADET!V18),CADET!V18,\" \")","v":" "},{"$f":"IF(ISNUMBER(CADET!W18),CADET!W18,\" \")","v":" "},{"$f":"IF(ISNUMBER(CADET!X18),CADET!X18,\" \")","v":" "},{"$f":"IF(ISNUMBER(CADET!Y18),CADET!Y18,\" \")","v":" "},{"$f":"IF(ISNUMBER(CADET!Z18),CADET!Z18,\" \")","v":" "},{"$f":"IF(ISNUMBER(CADET!AA18),CADET!AA18,\" \")","v":0},{"$f":"IF(ISNUMBER(CADET!AB18),CADET!AB18,\" \")","v":" "},{"$f":"CADET!AC18","v":0},{"$f":"CADET!AE18","v":"00:00:00"}]
[{"$f":"CADET!A19","v":16},{"$f":"CADET!B19","v":0},{"$f":"CADET!C19","v":0},{"$f":"CADET!D19","v":0},{"$f":"CADET!E19","v":0},{"$f":"IF(ISNUMBER(CADET!G19),CADET!G19,\" \")","v":" "},{"$f":"IF(ISNUMBER(CADET!H19),CADET!H19,\" \")","v":" "},{"$f":"IF(ISNUMBER(CADET!I19),CADET!I19,\" \")","v":" "},{"$f":"IF(ISNUMBER(CADET!J19),CADET!J19,\" \")","v":" "},{"$f":"IF(ISNUMBER(CADET!K19),CADET!K19,\" \")","v":" "},{"$f":"IF(ISNUMBER(CADET!L19),CADET!L19,\" \")","v":" "},{"$f":"IF(ISNUMBER(CADET!M19),CADET!M19,\" \")","v":0},{"$f":"IF(ISNUMBER(CADET!N19),CADET!N19,\" \")","v":" "},{"$f":"IF(ISNUMBER(CADET!O19),CADET!O19,\" \")","v":" "},{"$f":"IF(ISNUMBER(CADET!P19),CADET!P19,\" \")","v":" "},{"$f":"IF(ISNUMBER(CADET!Q19),CADET!Q19,\" \")","v":" "},{"$f":"IF(ISNUMBER(CADET!R19),CADET!R19,\" \")","v":" "},{"$f":"IF(ISNUMBER(CADET!S19),CADET!S19,\" \")","v":" "},{"$f":"IF(ISNUMBER(CADET!T19),CADET!T19,\" \")","v":0},{"$f":"IF(ISNUMBER(CADET!U19),CADET!U19,\" \")","v":" "},{"$f":"IF(ISNUMBER(CADET!V19),CADET!V19,\" \")","v":" "},{"$f":"IF(ISNUMBER(CADET!W19),CADET!W19,\" \")","v":" "},{"$f":"IF(ISNUMBER(CADET!X19),CADET!X19,\" \")","v":" "},{"$f":"IF(ISNUMBER(CADET!Y19),CADET!Y19,\" \")","v":" "},{"$f":"IF(ISNUMBER(CADET!Z19),CADET!Z19,\" \")","v":" "},{"$f":"IF(ISNUMBER(CADET!AA19),CADET!AA19,\" \")","v":0},{"$f":"IF(ISNUMBER(CADET!AB19),CADET!AB19,\" \")","v":" "},{"$f":"CADET!AC19","v":0},{"$f":"CADET!AE19","v":"00:00:00"}]
[{"$f":"CADET!A20","v":17},{"$f":"CADET!B20","v":0},{"$f":"CADET!C20","v":0},{"$f":"CADET!D20","v":0},{"$f":"CADET!E20","v":0},{"$f":"IF(ISNUMBER(CADET!G20),CADET!G20,\" \")","v":" "},{"$f":"IF(ISNUMBER(CADET!H20),CADET!H20,\" \")","v":" "},{"$f":"IF(ISNUMBER(CADET!I20),CADET!I20,\" \")","v":" "},{"$f":"IF(ISNUMBER(CADET!J20),CADET!J20,\" \")","v":" "},{"$f":"IF(ISNUMBER(CADET!K20),CADET!K20,\" \")","v":" "},{"$f":"IF(ISNUMBER(CADET!L20),CADET!L20,\" \")","v":" "},{"$f":"IF(ISNUMBER(CADET!M20),CADET!M20,\" \")","v":0},{"$f":"IF(ISNUMBER(CADET!N20),CADET!N20,\" \")","v":" "},{"$f":"IF(ISNUMBER(CADET!O20),CADET!O20,\" \")","v":" "},{"$f":"IF(ISNUMBER(CADET!P20),CADET!P20,\" \")","v":" "},{"$f":"IF(ISNUMBER(CADET!Q20),CADET!Q20,\" \")","v":" "},{"$f":"IF(ISNUMBER(CADET!R20),CADET!R20,\" \")","v":" "},{"$f":"IF(ISNUMBER(CADET!S20),CADET!S20,\" \")","v":" "},{"$f":"IF(ISNUMBER(CADET!T20),CADET!T20,\" \")","v":0},{"$f":"IF(ISNUMBER(CADET!U20),CADET!U20,\" \")","v":" "},{"$f":"IF(ISNUMBER(CADET!V20),CADET!V20,\" \")","v":" "},{"$f":"IF(ISNUMBER(CADET!W20),CADET!W20,\" \")","v":" "},{"$f":"IF(ISNUMBER(CADET!X20),CADET!X20,\" \")","v":" "},{"$f":"IF(ISNUMBER(CADET!Y20),CADET!Y20,\" \")","v":" "},{"$f":"IF(ISNUMBER(CADET!Z20),CADET!Z20,\" \")","v":" "},{"$f":"IF(ISNUMBER(CADET!AA20),CADET!AA20,\" \")","v":0},{"$f":"IF(ISNUMBER(CADET!AB20),CADET!AB20,\" \")","v":" "},{"$f":"CADET!AC20","v":0},{"$f":"CADET!AE20","v":"00:00:00"}]
[{"$f":"CADET!A21","v":18},{"$f":"CADET!B21","v":0},{"$f":"CADET!C21","v":0},{"$f":"CADET!D21","v":0},{"$f":"CADET!E21","v":0},{"$f":"IF(ISNUMBER(CADET!G21),CADET!G21,\" \")","v":" "},{"$f":"IF(ISNUMBER(CADET!H21),CADET!H21,\" \")","v":" "},{"$f":"IF(ISNUMBER(CADET!I21),CADET!I21,\" \")","v":" "},{"$f":"IF(ISNUMBER(CADET!J21),CADET!J21,\" \")","v":" "},{"$f":"IF(ISNUMBER(CADET!K21),CADET!K21,\" \")","v":" "},{"$f":"IF(ISNUMBER(CADET!L21),CADET!L21,\" \")","v":" "},{"$f":"IF(ISNUMBER(CADET!M21),CADET!M21,\" \")","v":0},{"$f":"IF(ISNUMBER(CADET!N21),CADET!N21,\" \")","v":" "},{"$f":"IF(ISNUMBER(CADET!O21),CADET!O21,\" \")","v":" "},{"$f":"IF(ISNUMBER(CADET!P21),CADET!P21,\" \")","v":" "},{"$f":"IF(ISNUMBER(CADET!Q21),CADET!Q21,\" \")","v":" "},{"$f":"IF(ISNUMBER(CADET!R21),CADET!R21,\" \")","v":" "},{"$f":"IF(ISNUMBER(CADET!S21),CADET!S21,\" \")","v":" "},{"$f":"IF(ISNUMBER(CADET!T21),CADET!T21,\" \")","v":0},{"$f":"IF(ISNUMBER(CADET!U21),CADET!U21,\" \")","v":" "},{"$f":"IF(ISNUMBER(CADET!V21),CADET!V21,\" \")","v":" "},{"$f":"IF(ISNUMBER(CADET!W21),CADET!W21,\" \")","v":" "},{"$f":"IF(ISNUMBER(CADET!X21),CADET!X21,\" \")","v":" "},{"$f":"IF(ISNUMBER(CADET!Y21),CADET!Y21,\" \")","v":" "},{"$f":"IF(ISNUMBER(CADET!Z21),CADET!Z21,\" \")","v":" "},{"$f":"IF(ISNUMBER(CADET!AA21),CADET!AA21,\" \")","v":0},{"$f":"IF(ISNUMBER(CADET!AB21),CADET!AB21,\" \")","v":" "},{"$f":"CADET!AC21","v":0},{"$f":"CADET!AE21","v":"00:00:00"}]
[{"$f":"CADET!A22","v":19},{"$f":"CADET!B22","v":0},{"$f":"CADET!C22","v":0},{"$f":"CADET!D22","v":0},{"$f":"CADET!E22","v":0},{"$f":"IF(ISNUMBER(CADET!G22),CADET!G22,\" \")","v":" "},{"$f":"IF(ISNUMBER(CADET!H22),CADET!H22,\" \")","v":" "},{"$f":"IF(ISNUMBER(CADET!I22),CADET!I22,\" \")","v":" "},{"$f":"IF(ISNUMBER(CADET!J22),CADET!J22,\" \")","v":" "},{"$f":"IF(ISNUMBER(CADET!K22),CADET!K22,\" \")","v":" "},{"$f":"IF(ISNUMBER(CADET!L22),CADET!L22,\" \")","v":" "},{"$f":"IF(ISNUMBER(CADET!M22),CADET!M22,\" \")","v":0},{"$f":"IF(ISNUMBER(CADET!N22),CADET!N22,\" \")","v":" "},{"$f":"IF(ISNUMBER(CADET!O22),CADET!O22,\" \")","v":" "},{"$f":"IF(ISNUMBER(CADET!P22),CADET!P22,\" \")","v":" "},{"$f":"IF(ISNUMBER(CADET!Q22),CADET!Q22,\" \")","v":" "},{"$f":"IF(ISNUMBER(CADET!R22),CADET!R22,\" \")","v":" "},{"$f":"IF(ISNUMBER(CADET!S22),CADET!S22,\" \")","v":" "},{"$f":"IF(ISNUMBER(CADET!T22),CADET!T22,\" \")","v":0},{"$f":"IF(ISNUMBER(CADET!U22),CADET!U22,\" \")","v":" "},{"$f":"IF(ISNUMBER(CADET!V22),CADET!V22,\" \")","v":" "},{"$f":"IF(ISNUMBER(CADET!W22),CADET!W22,\" \")","v":" "},{"$f":"IF(ISNUMBER(CADET!X22),CADET!X22,\" \")","v":" "},{"$f":"IF(ISNUMBER(CADET!Y22),CADET!Y22,\" \")","v":" "},{"$f":"IF(ISNUMBER(CADET!Z22),CADET!Z22,\" \")","v":" "},{"$f":"IF(ISNUMBER(CADET!AA22),CADET!AA22,\" \")","v":0},{"$f":"IF(ISNUMBER(CADET!AB22),CADET!AB22,\" \")","v":" "},{"$f":"CADET!AC22","v":0},{"$f":"CADET!AE22","v":"00:00:00"}]
[{"$f":"CADET!A23","v":20},{"$f":"CADET!B23","v":0},{"$f":"CADET!C23","v":0},{"$f":"CADET!D23","v":0},{"$f":"CADET!E23","v":0},{"$f":"IF(ISNUMBER(CADET!G23),CADET!G23,\" \")","v":" "},{"$f":"IF(ISNUMBER(CADET!H23),CADET!H23,\" \")","v":" "},{"$f":"IF(ISNUMBER(CADET!I23),CADET!I23,\" \")","v":" "},{"$f":"IF(ISNUMBER(CADET!J23),CADET!J23,\" \")","v":" "},{"$f":"IF(ISNUMBER(CADET!K23),CADET!K23,\" \")","v":" "},{"$f":"IF(ISNUMBER(CADET!L23),CADET!L23,\" \")","v":" "},{"$f":"IF(ISNUMBER(CADET!M23),CADET!M23,\" \")","v":0},{"$f":"IF(ISNUMBER(CADET!N23),CADET!N23,\" \")","v":" "},{"$f":"IF(ISNUMBER(CADET!O23),CADET!O23,\" \")","v":" "},{"$f":"IF(ISNUMBER(CADET!P23),CADET!P23,\" \")","v":" "},{"$f":"IF(ISNUMBER(CADET!Q23),CADET!Q23,\" \")","v":" "},{"$f":"IF(ISNUMBER(CADET!R23),CADET!R23,\" \")","v":" "},{"$f":"IF(ISNUMBER(CADET!S23),CADET!S23,\" \")","v":" "},{"$f":"IF(ISNUMBER(CADET!T23),CADET!T23,\" \")","v":0},{"$f":"IF(ISNUMBER(CADET!U23),CADET!U23,\" \")","v":" "},{"$f":"IF(ISNUMBER(CADET!V23),CADET!V23,\" \")","v":" "},{"$f":"IF(ISNUMBER(CADET!W23),CADET!W23,\" \")","v":" "},{"$f":"IF(ISNUMBER(CADET!X23),CADET!X23,\" \")","v":" "},{"$f":"IF(ISNUMBER(CADET!Y23),CADET!Y23,\" \")","v":" "},{"$f":"IF(ISNUMBER(CADET!Z23),CADET!Z23,\" \")","v":" "},{"$f":"IF(ISNUMBER(CADET!AA23),CADET!AA23,\" \")","v":0},{"$f":"IF(ISNUMBER(CADET!AB23),CADET!AB23,\" \")","v":" "},{"$f":"CADET!AC23","v":0},{"$f":"CADET!AE23","v":"00:00:00"}]
[]
["KATEGORIE GIRLS"]
[]
[null,null,null,null,null,{"$f":"GIRLS!G2","v":"1.kolo"},null,null,null,null,null,null,{"$f":"GIRLS!N2","v":"2.kolo"},null,null,null,null,null,null,{"$f":"GIRLS!U2","v":"3.kolo"}]
[{"$f":"GIRLS!A3","v":"pořadí"},{"$f":"GIRLS!B3","v":"číslo"},{"$f":"GIRLS!C3","v":"jméno"},{"$f":"GIRLS!D3","v":"narození"},{"$f":"GIRLS!E3","v":"klub"},{"$f":"GIRLS!G3","v":1},{"$f":"GIRLS!H3","v":2},{"$f":"GIRLS!I3","v":3},{"$f":"GIRLS!J3","v":4},{"$f":"GIRLS!K3","v":5},{"$f":"GIRLS!L3","v":6},{"$f":"GIRLS!M3","v":"∑1"},{"$f":"GIRLS!N3","v":1},{"$f":"GIRLS!O3","v":2},{"$f":"GIRLS!P3","v":3},{"$f":"GIRLS!Q3","v":4},{"$f":"GIRLS!R3","v":5},{"$f":"GIRLS!S3","v":6},{"$f":"GIRLS!T3","v":"∑2"},{"$f":"GIRLS!U3","v":1},{"$f":"GIRLS!V3","v":2},{"$f":"GIRLS!W3","v":3},{"$f":"GIRLS!X3","v":4},{"$f":"GIRLS!Y3","v":5},{"$f":"GIRLS!Z3","v":6},{"$f":"GIRLS!AA3","v":"∑3"},{"$f":"GIRLS!AB3","v":"penalizace"},{"$f":"GIRLS!AC3","v":"∑∑"},{"$f":"GIRLS!AE3","v":"čas"}]
[{"$f":"GIRLS!A4","v":1},{"$f":"GIRLS!B4","v":0},{"$f":"GIRLS!C4","v":0},{"$f":"GIRLS!D4","v":0},{"$f":"GIRLS!E4","v":0},{"$f":"IF(ISNUMBER(GIRLS!G4),GIRLS!G4,\" \")","v":" "},{"$f":"IF(ISNUMBER(GIRLS!H4),GIRLS!H4,\" \")","v":" "},{"$f":"IF(ISNUMBER(GIRLS!I4),GIRLS!I4,\" \")","v":" "},{"$f":"IF(ISNUMBER(GIRLS!J4),GIRLS!J4,\" \")","v":" "},{"$f":"IF(ISNUMBER(GIRLS!K4),GIRLS!K4,\" \")","v":" "},{"$f":"IF(ISNUMBER(GIRLS!L4),GIRLS!L4,\" \")","v":" "},{"$f":"IF(ISNUMBER(GIRLS!M4),GIRLS!M4,\" \")","v":0},{"$f":"IF(ISNUMBER(GIRLS!N4),GIRLS!N4,\" \")","v":" "},{"$f":"IF(ISNUMBER(GIRLS!O4),GIRLS!O4,\" \")","v":" "},{"$f":"IF(ISNUMBER(GIRLS!P4),GIRLS!P4,\" \")","v":" "},{"$f":"IF(ISNUMBER(GIRLS!Q4),GIRLS!Q4,\" \")","v":" "},{"$f":"IF(ISNUMBER(GIRLS!R4),GIRLS!R4,\" \")","v":" "},{"$f":"IF(ISNUMBER(GIRLS!S4),GIRLS!S4,\" \")","v":" "},{"$f":"IF(ISNUMBER(GIRLS!T4),GIRLS!T4,\" \")","v":0},{"$f":"IF(ISNUMBER(GIRLS!U4),GIRLS!U4,\" \")","v":" "},{"$f":"IF(ISNUMBER(GIRLS!V4),GIRLS!V4,\" \")","v":" "},{"$f":"IF(ISNUMBER(GIRLS!W4),GIRLS!W4,\" \")","v":" "},{"$f":"IF(ISNUMBER(GIRLS!X4),GIRLS!X4,\" \")","v":" "},{"$f":"IF(ISNUMBER(GIRLS!Y4),GIRLS!Y4,\" \")","v":" "},{"$f":"IF(ISNUMBER(GIRLS!Z4),GIRLS!Z4,\" \")","v":" "},{"$f":"IF(ISNUMBER(GIRLS!AA4),GIRLS!AA4,\" \")","v":0},{"$f":"IF(ISNUMBER(GIRLS!AB4),GIRLS!AB4,\" \")","v":" "},{"$f":"GIRLS!AC4","v":0},{"$f":"GIRLS!AE4","v":"00:00:00"}]
[{"$f":"GIRLS!A5","v":2},{"$f":"GIRLS!B5","v":0},{"$f":"GIRLS!C5","v":0},{"$f":"GIRLS!D5","v":0},{"$f":"GIRLS!E5","v":0},{"$f":"IF(ISNUMBER(GIRLS!G5),GIRLS!G5,\" \")","v":" "},{"$f":"IF(ISNUMBER(GIRLS!H5),GIRLS!H5,\" \")","v":" "},{"$f":"IF(ISNUMBER(GIRLS!I5),GIRLS!I5,\" \")","v":" "},{"$f":"IF(ISNUMBER(GIRLS!J5),GIRLS!J5,\" \")","v":" "},{"$f":"IF(ISNUMBER(GIRLS!K5),GIRLS!K5,\" \")","v":" "},{"$f":"IF(ISNUMBER(GIRLS!L5),GIRLS!L5,\" \")","v":" "},{"$f":"IF(ISNUMBER(GIRLS!M5),GIRLS!M5,\" \")","v":0},{"$f":"IF(ISNUMBER(GIRLS!N5),GIRLS!N5,\" \")","v":" "},{"$f":"IF(ISNUMBER(GIRLS!O5),GIRLS!O5,\" \")","v":" "},{"$f":"IF(ISNUMBER(GIRLS!P5),GIRLS!P5,\" \")","v":" "},{"$f":"IF(ISNUMBER(GIRLS!Q5),GIRLS!Q5,\" \")","v":" "},{"$f":"IF(ISNUMBER(GIRLS!R5),GIRLS!R5,\" \")","v":" "},{"$f":"IF(ISNUMBER(GIRLS!S5),GIRLS!S5,\" \")","v":" "},{"$f":"IF(ISNUMBER(GIRLS!T5),GIRLS!T5,\" \")","v":0},{"$f":"IF(ISNUMBER(GIRLS!U5),GIRLS!U5,\" \")","v":" "},{"$f":"IF(ISNUMBER(GIRLS!V5),GIRLS!V5,\" \")","v":" "},{"$f":"IF(ISNUMBER(GIRLS!W5),GIRLS!W5,\" \")","v":" "},{"$f":"IF(ISNUMBER(GIRLS!X5),GIRLS!X5,\" \")","v":" "},{"$f":"IF(ISNUMBER(GIRLS!Y5),GIRLS!Y5,\" \")","v":" "},{"$f":"IF(ISNUMBER(GIRLS!Z5),GIRLS!Z5,\" \")","v":" "},{"$f":"IF(ISNUMBER(GIRLS!AA5),GIRLS!AA5,\" \")","v":0},{"$f":"IF(ISNUMBER(GIRLS!AB5),GIRLS!AB5,\" \")","v":" "},{"$f":"GIRLS!AC5","v":0},{"$f":"GIRLS!AE5","v":"00:00:00"}]
[{"$f":"GIRLS!A6","v":3},{"$f":"GIRLS!B6","v":0},{"$f":"GIRLS!C6","v":0},{"$f":"GIRLS!D6","v":0},{"$f":"GIRLS!E6","v":0},{"$f":"IF(ISNUMBER(GIRLS!G6),GIRLS!G6,\" \")","v":" "},{"$f":"IF(ISNUMBER(GIRLS!H6),GIRLS!H6,\" \")","v":" "},{"$f":"IF(ISNUMBER(GIRLS!I6),GIRLS!I6,\" \")","v":" "},{"$f":"IF(ISNUMBER(GIRLS!J6),GIRLS!J6,\" \")","v":" "},{"$f":"IF(ISNUMBER(GIRLS!K6),GIRLS!K6,\" \")","v":" "},{"$f":"IF(ISNUMBER(GIRLS!L6),GIRLS!L6,\" \")","v":" "},{"$f":"IF(ISNUMBER(GIRLS!M6),GIRLS!M6,\" \")","v":0},{"$f":"IF(ISNUMBER(GIRLS!N6),GIRLS!N6,\" \")","v":" "},{"$f":"IF(ISNUMBER(GIRLS!O6),GIRLS!O6,\" \")","v":" "},{"$f":"IF(ISNUMBER(GIRLS!P6),GIRLS!P6,\" \")","v":" "},{"$f":"IF(ISNUMBER(GIRLS!Q6),GIRLS!Q6,\" \")","v":" "},{"$f":"IF(ISNUMBER(GIRLS!R6),GIRLS!R6,\" \")","v":" "},{"$f":"IF(ISNUMBER(GIRLS!S6),GIRLS!S6,\" \")","v":" "},{"$f":"IF(ISNUMBER(GIRLS!T6),GIRLS!T6,\" \")","v":0},{"$f":"IF(ISNUMBER(GIRLS!U6),GIRLS!U6,\" \")","v":" "},{"$f":"IF(ISNUMBER(GIRLS!V6),GIRLS!V6,\" \")","v":" "},{"$f":"IF(ISNUMBER(GIRLS!W6),GIRLS!W6,\" \")","v":" "},{"$f":"IF(ISNUMBER(GIRLS!X6),GIRLS!X6,\" \")","v":" "},{"$f":"IF(ISNUMBER(GIRLS!Y6),GIRLS!Y6,\" \")","v":" "},{"$f":"IF(ISNUMBER(GIRLS!Z6),GIRLS!Z6,\" \")","v":" "},{"$f":"IF(ISNUMBER(GIRLS!AA6),GIRLS!AA6,\" \")","v":0},{"$f":"IF(ISNUMBER(GIRLS!AB6),GIRLS!AB6,\" \")","v":" "},{"$f":"GIRLS!AC6","v":0},{"$f":"GIRLS!AE6","v":"00:00:00"}]
[{"$f":"GIRLS!A7","v":4},{"$f":"GIRLS!B7","v":0},{"$f":"GIRLS!C7","v":0},{"$f":"GIRLS!D7","v":0},{"$f":"GIRLS!E7","v":0},{"$f":"IF(ISNUMBER(GIRLS!G7),GIRLS!G7,\" \")","v":" "},{"$f":"IF(ISNUMBER(GIRLS!H7),GIRLS!H7,\" \")","v":" "},{"$f":"IF(ISNUMBER(GIRLS!I7),GIRLS!I7,\" \")","v":" "},{"$f":"IF(ISNUMBER(GIRLS!J7),GIRLS!J7,\" \")","v":" "},{"$f":"IF(ISNUMBER(GIRLS!K7),GIRLS!K7,\" \")","v":" "},{"$f":"IF(ISNUMBER(GIRLS!L7),GIRLS!L7,\" \")","v":" "},{"$f":"IF(ISNUMBER(GIRLS!M7),GIRLS!M7,\" \")","v":0},{"$f":"IF(ISNUMBER(GIRLS!N7),GIRLS!N7,\" \")","v":" "},{"$f":"IF(ISNUMBER(GIRLS!O7),GIRLS!O7,\" \")","v":" "},{"$f":"IF(ISNUMBER(GIRLS!P7),GIRLS!P7,\" \")","v":" "},{"$f":"IF(ISNUMBER(GIRLS!Q7),GIRLS!Q7,\" \")","v":" "},{"$f":"IF(ISNUMBER(GIRLS!R7),GIRLS!R7,\" \")","v":" "},{"$f":"IF(ISNUMBER(GIRLS!S7),GIRLS!S7,\" \")","v":" "},{"$f":"IF(ISNUMBER(GIRLS!T7),GIRLS!T7,\" \")","v":0},{"$f":"IF(ISNUMBER(GIRLS!U7),GIRLS!U7,\" \")","v":" "},{"$f":"IF(ISNUMBER(GIRLS!V7),GIRLS!V7,\" \")","v":" "},{"$f":"IF(ISNUMBER(GIRLS!W7),GIRLS!W7,\" \")","v":" "},{"$f":"IF(ISNUMBER(GIRLS!X7),GIRLS!X7,\" \")","v":" "},{"$f":"IF(ISNUMBER(GIRLS!Y7),GIRLS!Y7,\" \")","v":" "},{"$f":"IF(ISNUMBER(GIRLS!Z7),GIRLS!Z7,\" \")","v":" "},{"$f":"IF(ISNUMBER(GIRLS!AA7),GIRLS!AA7,\" \")","v":0},{"$f":"IF(ISNUMBER(GIRLS!AB7),GIRLS!AB7,\" \")","v":" "},{"$f":"GIRLS!AC7","v":0},{"$f":"GIRLS!AE7","v":"00:00:00"}]
[{"$f":"GIRLS!A8","v":5},{"$f":"GIRLS!B8","v":0},{"$f":"GIRLS!C8","v":0},{"$f":"GIRLS!D8","v":0},{"$f":"GIRLS!E8","v":0},{"$f":"IF(ISNUMBER(GIRLS!G8),GIRLS!G8,\" \")","v":" "},{"$f":"IF(ISNUMBER(GIRLS!H8),GIRLS!H8,\" \")","v":" "},{"$f":"IF(ISNUMBER(GIRLS!I8),GIRLS!I8,\" \")","v":" "},{"$f":"IF(ISNUMBER(GIRLS!J8),GIRLS!J8,\" \")","v":" "},{"$f":"IF(ISNUMBER(GIRLS!K8),GIRLS!K8,\" \")","v":" "},{"$f":"IF(ISNUMBER(GIRLS!L8),GIRLS!L8,\" \")","v":" "},{"$f":"IF(ISNUMBER(GIRLS!M8),GIRLS!M8,\" \")","v":0},{"$f":"IF(ISNUMBER(GIRLS!N8),GIRLS!N8,\" \")","v":" "},{"$f":"IF(ISNUMBER(GIRLS!O8),GIRLS!O8,\" \")","v":" "},{"$f":"IF(ISNUMBER(GIRLS!P8),GIRLS!P8,\" \")","v":" "},{"$f":"IF(ISNUMBER(GIRLS!Q8),GIRLS!Q8,\" \")","v":" "},{"$f":"IF(ISNUMBER(GIRLS!R8),GIRLS!R8,\" \")","v":" "},{"$f":"IF(ISNUMBER(GIRLS!S8),GIRLS!S8,\" \")","v":" "},{"$f":"IF(ISNUMBER(GIRLS!T8),GIRLS!T8,\" \")","v":0},{"$f":"IF(ISNUMBER(GIRLS!U8),GIRLS!U8,\" \")","v":" "},{"$f":"IF(ISNUMBER(GIRLS!V8),GIRLS!V8,\" \")","v":" "},{"$f":"IF(ISNUMBER(GIRLS!W8),GIRLS!W8,\" \")","v":" "},{"$f":"IF(ISNUMBER(GIRLS!X8),GIRLS!X8,\" \")","v":" "},{"$f":"IF(ISNUMBER(GIRLS!Y8),GIRLS!Y8,\" \")","v":" "},{"$f":"IF(ISNUMBER(GIRLS!Z8),GIRLS!Z8,\" \")","v":" "},{"$f":"IF(ISNUMBER(GIRLS!AA8),GIRLS!AA8,\" \")","v":0},{"$f":"IF(ISNUMBER(GIRLS!AB8),GIRLS!AB8,\" \")","v":" "},{"$f":"GIRLS!AC8","v":0},{"$f":"GIRLS!AE8","v":"00:00:00"}]
[{"$f":"GIRLS!A9","v":6},{"$f":"GIRLS!B9","v":0},{"$f":"GIRLS!C9","v":0},{"$f":"GIRLS!D9","v":0},{"$f":"GIRLS!E9","v":0},{"$f":"IF(ISNUMBER(GIRLS!G9),GIRLS!G9,\" \")","v":" "},{"$f":"IF(ISNUMBER(GIRLS!H9),GIRLS!H9,\" \")","v":" "},{"$f":"IF(ISNUMBER(GIRLS!I9),GIRLS!I9,\" \")","v":" "},{"$f":"IF(ISNUMBER(GIRLS!J9),GIRLS!J9,\" \")","v":" "},{"$f":"IF(ISNUMBER(GIRLS!K9),GIRLS!K9,\" \")","v":" "},{"$f":"IF(ISNUMBER(GIRLS!L9),GIRLS!L9,\" \")","v":" "},{"$f":"IF(ISNUMBER(GIRLS!M9),GIRLS!M9,\" \")","v":0},{"$f":"IF(ISNUMBER(GIRLS!N9),GIRLS!N9,\" \")","v":" "},{"$f":"IF(ISNUMBER(GIRLS!O9),GIRLS!O9,\" \")","v":" "},{"$f":"IF(ISNUMBER(GIRLS!P9),GIRLS!P9,\" \")","v":" "},{"$f":"IF(ISNUMBER(GIRLS!Q9),GIRLS!Q9,\" \")","v":" "},{"$f":"IF(ISNUMBER(GIRLS!R9),GIRLS!R9,\" \")","v":" "},{"$f":"IF(ISNUMBER(GIRLS!S9),GIRLS!S9,\" \")","v":" "},{"$f":"IF(ISNUMBER(GIRLS!T9),GIRLS!T9,\" \")","v":0},{"$f":"IF(ISNUMBER(GIRLS!U9),GIRLS!U9,\" \")","v":" "},{"$f":"IF(ISNUMBER(GIRLS!V9),GIRLS!V9,\" \")","v":" "},{"$f":"IF(ISNUMBER(GIRLS!W9),GIRLS!W9,\" \")","v":" "},{"$f":"IF(ISNUMBER(GIRLS!X9),GIRLS!X9,\" \")","v":" "},{"$f":"IF(ISNUMBER(GIRLS!Y9),GIRLS!Y9,\" \")","v":" "},{"$f":"IF(ISNUMBER(GIRLS!Z9),GIRLS!Z9,\" \")","v":" "},{"$f":"IF(ISNUMBER(GIRLS!AA9),GIRLS!AA9,\" \")","v":0},{"$f":"IF(ISNUMBER(GIRLS!AB9),GIRLS!AB9,\" \")","v":" "},{"$f":"GIRLS!AC9","v":0},{"$f":"GIRLS!AE9","v":"00:00:00"}]
[{"$f":"GIRLS!A10","v":7},{"$f":"GIRLS!B10","v":0},{"$f":"GIRLS!C10","v":0},{"$f":"GIRLS!D10","v":0},{"$f":"GIRLS!E10","v":0},{"$f":"IF(ISNUMBER(GIRLS!G10),GIRLS!G10,\" \")","v":" "},{"$f":"IF(ISNUMBER(GIRLS!H10),GIRLS!H10,\" \")","v":" "},{"$f":"IF(ISNUMBER(GIRLS!I10),GIRLS!I10,\" \")","v":" "},{"$f":"IF(ISNUMBER(GIRLS!J10),GIRLS!J10,\" \")","v":" "},{"$f":"IF(ISNUMBER(GIRLS!K10),GIRLS!K10,\" \")","v":" "},{"$f":"IF(ISNUMBER(GIRLS!L10),GIRLS!L10,\" \")","v":" "},{"$f":"IF(ISNUMBER(GIRLS!M10),GIRLS!M10,\" \")","v":0},{"$f":"IF(ISNUMBER(GIRLS!N10),GIRLS!N10,\" \")","v":" "},{"$f":"IF(ISNUMBER(GIRLS!O10),GIRLS!O10,\" \")","v":" "},{"$f":"IF(ISNUMBER(GIRLS!P10),GIRLS!P10,\" \")","v":" "},{"$f":"IF(ISNUMBER(GIRLS!Q10),GIRLS!Q10,\" \")","v":" "},{"$f":"IF(ISNUMBER(GIRLS!R10),GIRLS!R10,\" \")","v":" "},{"$f":"IF(ISNUMBER(GIRLS!S10),GIRLS!S10,\" \")","v":" "},{"$f":"IF(ISNUMBER(GIRLS!T10),GIRLS!T10,\" \")","v":0},{"$f":"IF(ISNUMBER(GIRLS!U10),GIRLS!U10,\" \")","v":" "},{"$f":"IF(ISNUMBER(GIRLS!V10),GIRLS!V10,\" \")","v":" "},{"$f":"IF(ISNUMBER(GIRLS!W10),GIRLS!W10,\" \")","v":" "},{"$f":"IF(ISNUMBER(GIRLS!X10),GIRLS!X10,\" \")","v":" "},{"$f":"IF(ISNUMBER(GIRLS!Y10),GIRLS!Y10,\" \")","v":" "},{"$f":"IF(ISNUMBER(GIRLS!Z10),GIRLS!Z10,\" \")","v":" "},{"$f":"IF(ISNUMBER(GIRLS!AA10),GIRLS!AA10,\" \")","v":0},{"$f":"IF(ISNUMBER(GIRLS!AB10),GIRLS!AB10,\" \")","v":" "},{"$f":"GIRLS!AC10","v":0},{"$f":"GIRLS!AE10","v":"00:00:00"}]
[{"$f":"GIRLS!A11","v":8},{"$f":"GIRLS!B11","v":0},{"$f":"GIRLS!C11","v":0},{"$f":"GIRLS!D11","v":0},{"$f":"GIRLS!E11","v":0},{"$f":"IF(ISNUMBER(GIRLS!G11),GIRLS!G11,\" \")","v":" "},{"$f":"IF(ISNUMBER(GIRLS!H11),GIRLS!H11,\" \")","v":" "},{"$f":"IF(ISNUMBER(GIRLS!I11),GIRLS!I11,\" \")","v":" "},{"$f":"IF(ISNUMBER(GIRLS!J11),GIRLS!J11,\" \")","v":" "},{"$f":"IF(ISNUMBER(GIRLS!K11),GIRLS!K11,\" \")","v":" "},{"$f":"IF(ISNUMBER(GIRLS!L11),GIRLS!L11,\" \")","v":" "},{"$f":"IF(ISNUMBER(GIRLS!M11),GIRLS!M11,\" \")","v":0},{"$f":"IF(ISNUMBER(GIRLS!N11),GIRLS!N11,\" \")","v":" "},{"$f":"IF(ISNUMBER(GIRLS!O11),GIRLS!O11,\" \")","v":" "},{"$f":"IF(ISNUMBER(GIRLS!P11),GIRLS!P11,\" \")","v":" "},{"$f":"IF(ISNUMBER(GIRLS!Q11),GIRLS!Q11,\" \")","v":" "},{"$f":"IF(ISNUMBER(GIRLS!R11),GIRLS!R11,\" \")","v":" "},{"$f":"IF(ISNUMBER(GIRLS!S11),GIRLS!S11,\" \")","v":" "},{"$f":"IF(ISNUMBER(GIRLS!T11),GIRLS!T11,\" \")","v":0},{"$f":"IF(ISNUMBER(GIRLS!U11),GIRLS!U11,\" \")","v":" "},{"$f":"IF(ISNUMBER(GIRLS!V11),GIRLS!V11,\" \")","v":" "},{"$f":"IF(ISNUMBER(GIRLS!W11),GIRLS!W11,\" \")","v":" "},{"$f":"IF(ISNUMBER(GIRLS!X11),GIRLS!X11,\" \")","v":" "},{"$f":"IF(ISNUMBER(GIRLS!Y11),GIRLS!Y11,\" \")","v":" "},{"$f":"IF(ISNUMBER(GIRLS!Z11),GIRLS!Z11,\" \")","v":" "},{"$f":"IF(ISNUMBER(GIRLS!AA11),GIRLS!AA11,\" \")","v":0},{"$f":"IF(ISNUMBER(GIRLS!AB11),GIRLS!AB11,\" \")","v":" "},{"$f":"GIRLS!AC11","v":0},{"$f":"GIRLS!AE11","v":"00:00:00"}]
[{"$f":"GIRLS!A12","v":9},{"$f":"GIRLS!B12","v":0},{"$f":"GIRLS!C12","v":0},{"$f":"GIRLS!D12","v":0},{"$f":"GIRLS!E12","v":0},{"$f":"IF(ISNUMBER(GIRLS!G12),GIRLS!G12,\" \")","v":" "},{"$f":"IF(ISNUMBER(GIRLS!H12),GIRLS!H12,\" \")","v":" "},{"$f":"IF(ISNUMBER(GIRLS!I12),GIRLS!I12,\" \")","v":" "},{"$f":"IF(ISNUMBER(GIRLS!J12),GIRLS!J12,\" \")","v":" "},{"$f":"IF(ISNUMBER(GIRLS!K12),GIRLS!K12,\" \")","v":" "},{"$f":"IF(ISNUMBER(GIRLS!L12),GIRLS!L12,\" \")","v":" "},{"$f":"IF(ISNUMBER(GIRLS!M12),GIRLS!M12,\" \")","v":0},{"$f":"IF(ISNUMBER(GIRLS!N12),GIRLS!N12,\" \")","v":" "},{"$f":"IF(ISNUMBER(GIRLS!O12),GIRLS!O12,\" \")","v":" "},{"$f":"IF(ISNUMBER(GIRLS!P12),GIRLS!P12,\" \")","v":" "},{"$f":"IF(ISNUMBER(GIRLS!Q12),GIRLS!Q12,\" \")","v":" "},{"$f":"IF(ISNUMBER(GIRLS!R12),GIRLS!R12,\" \")","v":" "},{"$f":"IF(ISNUMBER(GIRLS!S12),GIRLS!S12,\" \")","v":" "},{"$f":"IF(ISNUMBER(GIRLS!T12),GIRLS!T12,\" \")","v":0},{"$f":"IF(ISNUMBER(GIRLS!U12),GIRLS!U12,\" \")","v":" "},{"$f":"IF(ISNUMBER(GIRLS!V12),GIRLS!V12,\" \")","v":" "},{"$f":"IF(ISNUMBER(GIRLS!W12),GIRLS!W12,\" \")","v":" "},{"$f":"IF(ISNUMBER(GIRLS!X12),GIRLS!X12,\" \")","v":" "},{"$f":"IF(ISNUMBER(GIRLS!Y12),GIRLS!Y12,\" \")","v":" "},{"$f":"IF(ISNUMBER(GIRLS!Z12),GIRLS!Z12,\" \")","v":" "},{"$f":"IF(ISNUMBER(GIRLS!AA12),GIRLS!AA12,\" \")","v":0},{"$f":"IF(ISNUMBER(GIRLS!AB12),GIRLS!AB12,\" \")","v":" "},{"$f":"GIRLS!AC12","v":0},{"$f":"GIRLS!AE12","v":"00:00:00"}]
[{"$f":"GIRLS!A13","v":10},{"$f":"GIRLS!B13","v":0},{"$f":"GIRLS!C13","v":0},{"$f":"GIRLS!D13","v":0},{"$f":"GIRLS!E13","v":0},{"$f":"IF(ISNUMBER(GIRLS!G13),GIRLS!G13,\" \")","v":" "},{"$f":"IF(ISNUMBER(GIRLS!H13),GIRLS!H13,\" \")","v":" "},{"$f":"IF(ISNUMBER(GIRLS!I13),GIRLS!I13,\" \")","v":" "},{"$f":"IF(ISNUMBER(GIRLS!J13),GIRLS!J13,\" \")","v":" "},{"$f":"IF(ISNUMBER(GIRLS!K13),GIRLS!K13,\" \")","v":" "},{"$f":"IF(ISNUMBER(GIRLS!L13),GIRLS!L13,\" \")","v":" "},{"$f":"IF(ISNUMBER(GIRLS!M13),GIRLS!M13,\" \")","v":0},{"$f":"IF(ISNUMBER(GIRLS!N13),GIRLS!N13,\" \")","v":" "},{"$f":"IF(ISNUMBER(GIRLS!O13),GIRLS!O13,\" \")","v":" "},{"$f":"IF(ISNUMBER(GIRLS!P13),GIRLS!P13,\" \")","v":" "},{"$f":"IF(ISNUMBER(GIRLS!Q13),GIRLS!Q13,\" \")","v":" "},{"$f":"IF(ISNUMBER(GIRLS!R13),GIRLS!R13,\" \")","v":" "},{"$f":"IF(ISNUMBER(GIRLS!S13),GIRLS!S13,\" \")","v":" "},{"$f":"IF(ISNUMBER(GIRLS!T13),GIRLS!T13,\" \")","v":0},{"$f":"IF(ISNUMBER(GIRLS!U13),GIRLS!U13,\" \")","v":" "},{"$f":"IF(ISNUMBER(GIRLS!V13),GIRLS!V13,\" \")","v":" "},{"$f":"IF(ISNUMBER(GIRLS!W13),GIRLS!W13,\" \")","v":" "},{"$f":"IF(ISNUMBER(GIRLS!X13),GIRLS!X13,\" \")","v":" "},{"$f":"IF(ISNUMBER(GIRLS!Y13),GIRLS!Y13,\" \")","v":" "},{"$f":"IF(ISNUMBER(GIRLS!Z13),GIRLS!Z13,\" \")","v":" "},{"$f":"IF(ISNUMBER(GIRLS!AA13),GIRLS!AA13,\" \")","v":0},{"$f":"IF(ISNUMBER(GIRLS!AB13),GIRLS!AB13,\" \")","v":" "},{"$f":"GIRLS!AC13","v":0},{"$f":"GIRLS!AE13","v":"00:00:00"}]
[{"$f":"GIRLS!A14","v":11},{"$f":"GIRLS!B14","v":0},{"$f":"GIRLS!C14","v":0},{"$f":"GIRLS!D14","v":0},{"$f":"GIRLS!E14","v":0},{"$f":"IF(ISNUMBER(GIRLS!G14),GIRLS!G14,\" \")","v":" "},{"$f":"IF(ISNUMBER(GIRLS!H14),GIRLS!H14,\" \")","v":" "},{"$f":"IF(ISNUMBER(GIRLS!I14),GIRLS!I14,\" \")","v":" "},{"$f":"IF(ISNUMBER(GIRLS!J14),GIRLS!J14,\" \")","v":" "},{"$f":"IF(ISNUMBER(GIRLS!K14),GIRLS!K14,\" \")","v":" "},{"$f":"IF(ISNUMBER(GIRLS!L14),GIRLS!L14,\" \")","v":" "},{"$f":"IF(ISNUMBER(GIRLS!M14),GIRLS!M14,\" \")","v":0},{"$f":"IF(ISNUMBER(GIRLS!N14),GIRLS!N14,\" \")","v":" "},{"$f":"IF(ISNUMBER(GIRLS!O14),GIRLS!O14,\" \")","v":" "},{"$f":"IF(ISNUMBER(GIRLS!P14),GIRLS!P14,\" \")","v":" "},{"$f":"IF(ISNUMBER(GIRLS!Q14),GIRLS!Q14,\" \")","v":" "},{"$f":"IF(ISNUMBER(GIRLS!R14),GIRLS!R14,\" \")","v":" "},{"$f":"IF(ISNUMBER(GIRLS!S14),GIRLS!S14,\" \")","v":" "},{"$f":"IF(ISNUMBER(GIRLS!T14),GIRLS!T14,\" \")","v":0},{"$f":"IF(ISNUMBER(GIRLS!U14),GIRLS!U14,\" \")","v":" "},{"$f":"IF(ISNUMBER(GIRLS!V14),GIRLS!V14,\" \")","v":" "},{"$f":"IF(ISNUMBER(GIRLS!W14),GIRLS!W14,\" \")","v":" "},{"$f":"IF(ISNUMBER(GIRLS!X14),GIRLS!X14,\" \")","v":" "},{"$f":"IF(ISNUMBER(GIRLS!Y14),GIRLS!Y14,\" \")","v":" "},{"$f":"IF(ISNUMBER(GIRLS!Z14),GIRLS!Z14,\" \")","v":" "},{"$f":"IF(ISNUMBER(GIRLS!AA14),GIRLS!AA14,\" \")","v":0},{"$f":"IF(ISNUMBER(GIRLS!AB14),GIRLS!AB14,\" \")","v":" "},{"$f":"GIRLS!AC14","v":0},{"$f":"GIRLS!AE14","v":"00:00:00"}]
[{"$f":"GIRLS!A15","v":12},{"$f":"GIRLS!B15","v":0},{"$f":"GIRLS!C15","v":0},{"$f":"GIRLS!D15","v":0},{"$f":"GIRLS!E15","v":0},{"$f":"IF(ISNUMBER(GIRLS!G15),GIRLS!G15,\" \")","v":" "},{"$f":"IF(ISNUMBER(GIRLS!H15),GIRLS!H15,\" \")","v":" "},{"$f":"IF(ISNUMBER(GIRLS!I15),GIRLS!I15,\" \")","v":" "},{"$f":"IF(ISNUMBER(GIRLS!J15),GIRLS!J15,\" \")","v":" "},{"$f":"IF(ISNUMBER(GIRLS!K15),GIRLS!K15,\" \")","v":" "},{"$f":"IF(ISNUMBER(GIRLS!L15),GIRLS!L15,\" \")","v":" "},{"$f":"IF(ISNUMBER(GIRLS!M15),GIRLS!M15,\" \")","v":0},{"$f":"IF(ISNUMBER(GIRLS!N15),GIRLS!N15,\" \")","v":" "},{"$f":"IF(ISNUMBER(GIRLS!O15),GIRLS!O15,\" \")","v":" "},{"$f":"IF(ISNUMBER(GIRLS!P15),GIRLS!P15,\" \")","v":" "},{"$f":"IF(ISNUMBER(GIRLS!Q15),GIRLS!Q15,\" \")","v":" "},{"$f":"IF(ISNUMBER(GIRLS!R15),GIRLS!R15,\" \")","v":" "},{"$f":"IF(ISNUMBER(GIRLS!S15),GIRLS!S15,\" \")","v":" "},{"$f":"IF(ISNUMBER(GIRLS!T15),GIRLS!T15,\" \")","v":0},{"$f":"IF(ISNUMBER(GIRLS!U15),GIRLS!U15,\" \")","v":" "},{"$f":"IF(ISNUMBER(GIRLS!V15),GIRLS!V15,\" \")","v":" "},{"$f":"IF(ISNUMBER(GIRLS!W15),GIRLS!W15,\" \")","v":" "},{"$f":"IF(ISNUMBER(GIRLS!X15),GIRLS!X15,\" \")","v":" "},{"$f":"IF(ISNUMBER(GIRLS!Y15),GIRLS!Y15,\" \")","v":" "},{"$f":"IF(ISNUMBER(GIRLS!Z15),GIRLS!Z15,\" \")","v":" "},{"$f":"IF(ISNUMBER(GIRLS!AA15),GIRLS!AA15,\" \")","v":0},{"$f":"IF(ISNUMBER(GIRLS!AB15),GIRLS!AB15,\" \")","v":" "},{"$f":"GIRLS!AC15","v":0},{"$f":"GIRLS!AE15","v":"00:00:00"}]
[{"$f":"GIRLS!A16","v":13},{"$f":"GIRLS!B16","v":0},{"$f":"GIRLS!C16","v":0},{"$f":"GIRLS!D16","v":0},{"$f":"GIRLS!E16","v":0},{"$f":"IF(ISNUMBER(GIRLS!G16),GIRLS!G16,\" \")","v":" "},{"$f":"IF(ISNUMBER(GIRLS!H16),GIRLS!H16,\" \")","v":" "},{"$f":"IF(ISNUMBER(GIRLS!I16),GIRLS!I16,\" \")","v":" "},{"$f":"IF(ISNUMBER(GIRLS!J16),GIRLS!J16,\" \")","v":" "},{"$f":"IF(ISNUMBER(GIRLS!K16),GIRLS!K16,\" \")","v":" "},{"$f":"IF(ISNUMBER(GIRLS!L16),GIRLS!L16,\" \")","v":" "},{"$f":"IF(ISNUMBER(GIRLS!M16),GIRLS!M16,\" \")","v":0},{"$f":"IF(ISNUMBER(GIRLS!N16),GIRLS!N16,\" \")","v":" "},{"$f":"IF(ISNUMBER(GIRLS!O16),GIRLS!O16,\" \")","v":" "},{"$f":"IF(ISNUMBER(GIRLS!P16),GIRLS!P16,\" \")","v":" "},{"$f":"IF(ISNUMBER(GIRLS!Q16),GIRLS!Q16,\" \")","v":" "},{"$f":"IF(ISNUMBER(GIRLS!R16),GIRLS!R16,\" \")","v":" "},{"$f":"IF(ISNUMBER(GIRLS!S16),GIRLS!S16,\" \")","v":" "},{"$f":"IF(ISNUMBER(GIRLS!T16),GIRLS!T16,\" \")","v":0},{"$f":"IF(ISNUMBER(GIRLS!U16),GIRLS!U16,\" \")","v":" "},{"$f":"IF(ISNUMBER(GIRLS!V16),GIRLS!V16,\" \")","v":" "},{"$f":"IF(ISNUMBER(GIRLS!W16),GIRLS!W16,\" \")","v":" "},{"$f":"IF(ISNUMBER(GIRLS!X16),GIRLS!X16,\" \")","v":" "},{"$f":"IF(ISNUMBER(GIRLS!Y16),GIRLS!Y16,\" \")","v":" "},{"$f":"IF(ISNUMBER(GIRLS!Z16),GIRLS!Z16,\" \")","v":" "},{"$f":"IF(ISNUMBER(GIRLS!AA16),GIRLS!AA16,\" \")","v":0},{"$f":"IF(ISNUMBER(GIRLS!AB16),GIRLS!AB16,\" \")","v":" "},{"$f":"GIRLS!AC16","v":0},{"$f":"GIRLS!AE16","v":"00:00:00"}]
[{"$f":"GIRLS!A17","v":14},{"$f":"GIRLS!B17","v":0},{"$f":"GIRLS!C17","v":0},{"$f":"GIRLS!D17","v":0},{"$f":"GIRLS!E17","v":0},{"$f":"IF(ISNUMBER(GIRLS!G17),GIRLS!G17,\" \")","v":" "},{"$f":"IF(ISNUMBER(GIRLS!H17),GIRLS!H17,\" \")","v":" "},{"$f":"IF(ISNUMBER(GIRLS!I17),GIRLS!I17,\" \")","v":" "},{"$f":"IF(ISNUMBER(GIRLS!J17),GIRLS!J17,\" \")","v":" "},{"$f":"IF(ISNUMBER(GIRLS!K17),GIRLS!K17,\" \")","v":" "},{"$f":"IF(ISNUMBER(GIRLS!L17),GIRLS!L17,\" \")","v":" "},{"$f":"IF(ISNUMBER(GIRLS!M17),GIRLS!M17,\" \")","v":0},{"$f":"IF(ISNUMBER(GIRLS!N17),GIRLS!N17,\" \")","v":" "},{"$f":"IF(ISNUMBER(GIRLS!O17),GIRLS!O17,\" \")","v":" "},{"$f":"IF(ISNUMBER(GIRLS!P17),GIRLS!P17,\" \")","v":" "},{"$f":"IF(ISNUMBER(GIRLS!Q17),GIRLS!Q17,\" \")","v":" "},{"$f":"IF(ISNUMBER(GIRLS!R17),GIRLS!R17,\" \")","v":" "},{"$f":"IF(ISNUMBER(GIRLS!S17),GIRLS!S17,\" \")","v":" "},{"$f":"IF(ISNUMBER(GIRLS!T17),GIRLS!T17,\" \")","v":0},{"$f":"IF(ISNUMBER(GIRLS!U17),GIRLS!U17,\" \")","v":" "},{"$f":"IF(ISNUMBER(GIRLS!V17),GIRLS!V17,\" \")","v":" "},{"$f":"IF(ISNUMBER(GIRLS!W17),GIRLS!W17,\" \")","v":" "},{"$f":"IF(ISNUMBER(GIRLS!X17),GIRLS!X17,\" \")","v":" "},{"$f":"IF(ISNUMBER(GIRLS!Y17),GIRLS!Y17,\" \")","v":" "},{"$f":"IF(ISNUMBER(GIRLS!Z17),GIRLS!Z17,\" \")","v":" "},{"$f":"IF(ISNUMBER(GIRLS!AA17),GIRLS!AA17,\" \")","v":0},{"$f":"IF(ISNUMBER(GIRLS!AB17),GIRLS!AB17,\" \")","v":" "},{"$f":"GIRLS!AC17","v":0},{"$f":"GIRLS!AE17","v":"00:00:00"}]
[{"$f":"GIRLS!A18","v":15},{"$f":"GIRLS!B18","v":0},{"$f":"GIRLS!C18","v":0},{"$f":"GIRLS!D18","v":0},{"$f":"GIRLS!E18","v":0},{"$f":"IF(ISNUMBER(GIRLS!G18),GIRLS!G18,\" \")","v":" "},{"$f":"IF(ISNUMBER(GIRLS!H18),GIRLS!H18,\" \")","v":" "},{"$f":"IF(ISNUMBER(GIRLS!I18),GIRLS!I18,\" \")","v":" "},{"$f":"IF(ISNUMBER(GIRLS!J18),GIRLS!J18,\" \")","v":" "},{"$f":"IF(ISNUMBER(GIRLS!K18),GIRLS!K18,\" \")","v":" "},{"$f":"IF(ISNUMBER(GIRLS!L18),GIRLS!L18,\" \")","v":" "},{"$f":"IF(ISNUMBER(GIRLS!M18),GIRLS!M18,\" \")","v":0},{"$f":"IF(ISNUMBER(GIRLS!N18),GIRLS!N18,\" \")","v":" "},{"$f":"IF(ISNUMBER(GIRLS!O18),GIRLS!O18,\" \")","v":" "},{"$f":"IF(ISNUMBER(GIRLS!P18),GIRLS!P18,\" \")","v":" "},{"$f":"IF(ISNUMBER(GIRLS!Q18),GIRLS!Q18,\" \")","v":" "},{"$f":"IF(ISNUMBER(GIRLS!R18),GIRLS!R18,\" \")","v":" "},{"$f":"IF(ISNUMBER(GIRLS!S18),GIRLS!S18,\" \")","v":" "},{"$f":"IF(ISNUMBER(GIRLS!T18),GIRLS!T18,\" \")","v":0},{"$f":"IF(ISNUMBER(GIRLS!U18),GIRLS!U18,\" \")","v":" "},{"$f":"IF(ISNUMBER(GIRLS!V18),GIRLS!V18,\" \")","v":" "},{"$f":"IF(ISNUMBER(GIRLS!W18),GIRLS!W18,\" \")","v":" "},{"$f":"IF(ISNUMBER(GIRLS!X18),GIRLS!X18,\" \")","v":" "},{"$f":"IF(ISNUMBER(GIRLS!Y18),GIRLS!Y18,\" \")","v":" "},{"$f":"IF(ISNUMBER(GIRLS!Z18),GIRLS!Z18,\" \")","v":" "},{"$f":"IF(ISNUMBER(GIRLS!AA18),GIRLS!AA18,\" \")","v":0},{"$f":"IF(ISNUMBER(GIRLS!AB18),GIRLS!AB18,\" \")","v":" "},{"$f":"GIRLS!AC18","v":0},{"$f":"GIRLS!AE18","v":"00:00:00"}]
[{"$f":"GIRLS!A19","v":16},{"$f":"GIRLS!B19","v":0},{"$f":"GIRLS!C19","v":0},{"$f":"GIRLS!D19","v":0},{"$f":"GIRLS!E19","v":0},{"$f":"IF(ISNUMBER(GIRLS!G19),GIRLS!G19,\" \")","v":" "},{"$f":"IF(ISNUMBER(GIRLS!H19),GIRLS!H19,\" \")","v":" "},{"$f":"IF(ISNUMBER(GIRLS!I19),GIRLS!I19,\" \")","v":" "},{"$f":"IF(ISNUMBER(GIRLS!J19),GIRLS!J19,\" \")","v":" "},{"$f":"IF(ISNUMBER(GIRLS!K19),GIRLS!K19,\" \")","v":" "},{"$f":"IF(ISNUMBER(GIRLS!L19),GIRLS!L19,\" \")","v":" "},{"$f":"IF(ISNUMBER(GIRLS!M19),GIRLS!M19,\" \")","v":0},{"$f":"IF(ISNUMBER(GIRLS!N19),GIRLS!N19,\" \")","v":" "},{"$f":"IF(ISNUMBER(GIRLS!O19),GIRLS!O19,\" \")","v":" "},{"$f":"IF(ISNUMBER(GIRLS!P19),GIRLS!P19,\" \")","v":" "},{"$f":"IF(ISNUMBER(GIRLS!Q19),GIRLS!Q19,\" \")","v":" "},{"$f":"IF(ISNUMBER(GIRLS!R19),GIRLS!R19,\" \")","v":" "},{"$f":"IF(ISNUMBER(GIRLS!S19),GIRLS!S19,\" \")","v":" "},{"$f":"IF(ISNUMBER(GIRLS!T19),GIRLS!T19,\" \")","v":0},{"$f":"IF(ISNUMBER(GIRLS!U19),GIRLS!U19,\" \")","v":" "},{"$f":"IF(ISNUMBER(GIRLS!V19),GIRLS!V19,\" \")","v":" "},{"$f":"IF(ISNUMBER(GIRLS!W19),GIRLS!W19,\" \")","v":" "},{"$f":"IF(ISNUMBER(GIRLS!X19),GIRLS!X19,\" \")","v":" "},{"$f":"IF(ISNUMBER(GIRLS!Y19),GIRLS!Y19,\" \")","v":" "},{"$f":"IF(ISNUMBER(GIRLS!Z19),GIRLS!Z19,\" \")","v":" "},{"$f":"IF(ISNUMBER(GIRLS!AA19),GIRLS!AA19,\" \")","v":0},{"$f":"IF(ISNUMBER(GIRLS!AB19),GIRLS!AB19,\" \")","v":" "},{"$f":"GIRLS!AC19","v":0},{"$f":"GIRLS!AE19","v":"00:00:00"}]
[{"$f":"GIRLS!A20","v":17},{"$f":"GIRLS!B20","v":0},{"$f":"GIRLS!C20","v":0},{"$f":"GIRLS!D20","v":0},{"$f":"GIRLS!E20","v":0},{"$f":"IF(ISNUMBER(GIRLS!G20),GIRLS!G20,\" \")","v":" "},{"$f":"IF(ISNUMBER(GIRLS!H20),GIRLS!H20,\" \")","v":" "},{"$f":"IF(ISNUMBER(GIRLS!I20),GIRLS!I20,\" \")","v":" "},{"$f":"IF(ISNUMBER(GIRLS!J20),GIRLS!J20,\" \")","v":" "},{"$f":"IF(ISNUMBER(GIRLS!K20),GIRLS!K20,\" \")","v":" "},{"$f":"IF(ISNUMBER(GIRLS!L20),GIRLS!L20,\" \")","v":" "},{"$f":"IF(ISNUMBER(GIRLS!M20),GIRLS!M20,\" \")","v":0},{"$f":"IF(ISNUMBER(GIRLS!N20),GIRLS!N20,\" \")","v":" "},{"$f":"IF(ISNUMBER(GIRLS!O20),GIRLS!O20,\" \")","v":" "},{"$f":"IF(ISNUMBER(GIRLS!P20),GIRLS!P20,\" \")","v":" "},{"$f":"IF(ISNUMBER(GIRLS!Q20),GIRLS!Q20,\" \")","v":" "},{"$f":"IF(ISNUMBER(GIRLS!R20),GIRLS!R20,\" \")","v":" "},{"$f":"IF(ISNUMBER(GIRLS!S20),GIRLS!S20,\" \")","v":" "},{"$f":"IF(ISNUMBER(GIRLS!T20),GIRLS!T20,\" \")","v":0},{"$f":"IF(ISNUMBER(GIRLS!U20),GIRLS!U20,\" \")","v":" "},{"$f":"IF(ISNUMBER(GIRLS!V20),GIRLS!V20,\" \")","v":" "},{"$f":"IF(ISNUMBER(GIRLS!W20),GIRLS!W20,\" \")","v":" "},{"$f":"IF(ISNUMBER(GIRLS!X20),GIRLS!X20,\" \")","v":" "},{"$f":"IF(ISNUMBER(GIRLS!Y20),GIRLS!Y20,\" \")","v":" "},{"$f":"IF(ISNUMBER(GIRLS!Z20),GIRLS!Z20,\" \")","v":" "},{"$f":"IF(ISNUMBER(GIRLS!AA20),GIRLS!AA20,\" \")","v":0},{"$f":"IF(ISNUMBER(GIRLS!AB20),GIRLS!AB20,\" \")","v":" "},{"$f":"GIRLS!AC20","v":0},{"$f":"GIRLS!AE20","v":"00:00:00"}]
[{"$f":"GIRLS!A21","v":18},{"$f":"GIRLS!B21","v":0},{"$f":"GIRLS!C21","v":0},{"$f":"GIRLS!D21","v":0},{"$f":"GIRLS!E21","v":0},{"$f":"IF(ISNUMBER(GIRLS!G21),GIRLS!G21,\" \")","v":" "},{"$f":"IF(ISNUMBER(GIRLS!H21),GIRLS!H21,\" \")","v":" "},{"$f":"IF(ISNUMBER(GIRLS!I21),GIRLS!I21,\" \")","v":" "},{"$f":"IF(ISNUMBER(GIRLS!J21),GIRLS!J21,\" \")","v":" "},{"$f":"IF(ISNUMBER(GIRLS!K21),GIRLS!K21,\" \")","v":" "},{"$f":"IF(ISNUMBER(GIRLS!L21),GIRLS!L21,\" \")","v":" "},{"$f":"IF(ISNUMBER(GIRLS!M21),GIRLS!M21,\" \")","v":0},{"$f":"IF(ISNUMBER(GIRLS!N21),GIRLS!N21,\" \")","v":" "},{"$f":"IF(ISNUMBER(GIRLS!O21),GIRLS!O21,\" \")","v":" "},{"$f":"IF(ISNUMBER(GIRLS!P21),GIRLS!P21,\" \")","v":" "},{"$f":"IF(ISNUMBER(GIRLS!Q21),GIRLS!Q21,\" \")","v":" "},{"$f":"IF(ISNUMBER(GIRLS!R21),GIRLS!R21,\" \")","v":" "},{"$f":"IF(ISNUMBER(GIRLS!S21),GIRLS!S21,\" \")","v":" "},{"$f":"IF(ISNUMBER(GIRLS!T21),GIRLS!T21,\" \")","v":0},{"$f":"IF(ISNUMBER(GIRLS!U21),GIRLS!U21,\" \")","v":" "},{"$f":"IF(ISNUMBER(GIRLS!V21),GIRLS!V21,\" \")","v":" "},{"$f":"IF(ISNUMBER(GIRLS!W21),GIRLS!W21,\" \")","v":" "},{"$f":"IF(ISNUMBER(GIRLS!X21),GIRLS!X21,\" \")","v":" "},{"$f":"IF(ISNUMBER(GIRLS!Y21),GIRLS!Y21,\" \")","v":" "},{"$f":"IF(ISNUMBER(GIRLS!Z21),GIRLS!Z21,\" \")","v":" "},{"$f":"IF(ISNUMBER(GIRLS!AA21),GIRLS!AA21,\" \")","v":0},{"$f":"IF(ISNUMBER(GIRLS!AB21),GIRLS!AB21,\" \")","v":" "},{"$f":"GIRLS!AC21","v":0},{"$f":"GIRLS!AE21","v":"00:00:00"}]
[{"$f":"GIRLS!A22","v":19},{"$f":"GIRLS!B22","v":0},{"$f":"GIRLS!C22","v":0},{"$f":"GIRLS!D22","v":0},{"$f":"GIRLS!E22","v":0},{"$f":"IF(ISNUMBER(GIRLS!G22),GIRLS!G22,\" \")","v":" "},{"$f":"IF(ISNUMBER(GIRLS!H22),GIRLS!H22,\" \")","v":" "},{"$f":"IF(ISNUMBER(GIRLS!I22),GIRLS!I22,\" \")","v":" "},{"$f":"IF(ISNUMBER(GIRLS!J22),GIRLS!J22,\" \")","v":" "},{"$f":"IF(ISNUMBER(GIRLS!K22),GIRLS!K22,\" \")","v":" "},{"$f":"IF(ISNUMBER(GIRLS!L22),GIRLS!L22,\" \")","v":" "},{"$f":"IF(ISNUMBER(GIRLS!M22),GIRLS!M22,\" \")","v":0},{"$f":"IF(ISNUMBER(GIRLS!N22),GIRLS!N22,\" \")","v":" "},{"$f":"IF(ISNUMBER(GIRLS!O22),GIRLS!O22,\" \")","v":" "},{"$f":"IF(ISNUMBER(GIRLS!P22),GIRLS!P22,\" \")","v":" "},{"$f":"IF(ISNUMBER(GIRLS!Q22),GIRLS!Q22,\" \")","v":" "},{"$f":"IF(ISNUMBER(GIRLS!R22),GIRLS!R22,\" \")","v":" "},{"$f":"IF(ISNUMBER(GIRLS!S22),GIRLS!S22,\" \")","v":" "},{"$f":"IF(ISNUMBER(GIRLS!T22),GIRLS!T22,\" \")","v":0},{"$f":"IF(ISNUMBER(GIRLS!U22),GIRLS!U22,\" \")","v":" "},{"$f":"IF(ISNUMBER(GIRLS!V22),GIRLS!V22,\" \")","v":" "},{"$f":"IF(ISNUMBER(GIRLS!W22),GIRLS!W22,\" \")","v":" "},{"$f":"IF(ISNUMBER(GIRLS!X22),GIRLS!X22,\" \")","v":" "},{"$f":"IF(ISNUMBER(GIRLS!Y22),GIRLS!Y22,\" \")","v":" "},{"$f":"IF(ISNUMBER(GIRLS!Z22),GIRLS!Z22,\" \")","v":" "},{"$f":"IF(ISNUMBER(GIRLS!AA22),GIRLS!AA22,\" \")","v":0},{"$f":"IF(ISNUMBER(GIRLS!AB22),GIRLS!AB22,\" \")","v":" "},{"$f":"GIRLS!AC22","v":0},{"$f":"GIRLS!AE22","v":"00:00:00"}]
[{"$f":"GIRLS!A23","v":20},{"$f":"GIRLS!B23","v":0},{"$f":"GIRLS!C23","v":0},{"$f":"GIRLS!D23","v":0},{"$f":"GIRLS!E23","v":0},{"$f":"IF(ISNUMBER(GIRLS!G23),GIRLS!G23,\" \")","v":" "},{"$f":"IF(ISNUMBER(GIRLS!H23),GIRLS!H23,\" \")","v":" "},{"$f":"IF(ISNUMBER(GIRLS!I23),GIRLS!I23,\" \")","v":" "},{"$f":"IF(ISNUMBER(GIRLS!J23),GIRLS!J23,\" \")","v":" "},{"$f":"IF(ISNUMBER(GIRLS!K23),GIRLS!K23,\" \")","v":" "},{"$f":"IF(ISNUMBER(GIRLS!L23),GIRLS!L23,\" \")","v":" "},{"$f":"IF(ISNUMBER(GIRLS!M23),GIRLS!M23,\" \")","v":0},{"$f":"IF(ISNUMBER(GIRLS!N23),GIRLS!N23,\" \")","v":" "},{"$f":"IF(ISNUMBER(GIRLS!O23),GIRLS!O23,\" \")","v":" "},{"$f":"IF(ISNUMBER(GIRLS!P23),GIRLS!P23,\" \")","v":" "},{"$f":"IF(ISNUMBER(GIRLS!Q23),GIRLS!Q23,\" \")","v":" "},{"$f":"IF(ISNUMBER(GIRLS!R23),GIRLS!R23,\" \")","v":" "},{"$f":"IF(ISNUMBER(GIRLS!S23),GIRLS!S23,\" \")","v":" "},{"$f":"IF(ISNUMBER(GIRLS!T23),GIRLS!T23,\" \")","v":0},{"$f":"IF(ISNUMBER(GIRLS!U23),GIRLS!U23,\" \")","v":" "},{"$f":"IF(ISNUMBER(GIRLS!V23),GIRLS!V23,\" \")","v":" "},{"$f":"IF(ISNUMBER(GIRLS!W23),GIRLS!W23,\" \")","v":" "},{"$f":"IF(ISNUMBER(GIRLS!X23),GIRLS!X23,\" \")","v":" "},{"$f":"IF(ISNUMBER(GIRLS!Y23),GIRLS!Y23,\" \")","v":" "},{"$f":"IF(ISNUMBER(GIRLS!Z23),GIRLS!Z23,\" \")","v":" "},{"$f":"IF(ISNUMBER(GIRLS!AA23),GIRLS!AA23,\" \")","v":0},{"$f":"IF(ISNUMBER(GIRLS!AB23),GIRLS!AB23,\" \")","v":" "},{"$f":"GIRLS!AC23","v":0},{"$f":"GIRLS!AE23","v":"00:00:00"}]